BEGIN:VCALENDAR
VERSION:2.0
PRODID:-//Arci Bolzano - Bozen - ECPv6.6.3//NONSGML v1.0//EN
CALSCALE:GREGORIAN
METHOD:PUBLISH
X-WR-CALNAME:Arci Bolzano - Bozen
X-ORIGINAL-URL:https://arci.bz.it
X-WR-CALDESC:Eventi per Arci Bolzano - Bozen
REFRESH-INTERVAL;VALUE=DURATION:PT1H
X-Robots-Tag:noindex
X-PUBLISHED-TTL:PT1H
BEGIN:VTIMEZONE
TZID:Europe/Rome
BEGIN:DAYLIGHT
TZOFFSETFROM:+0100
TZOFFSETTO:+0200
TZNAME:CEST
DTSTART:20220327T010000
END:DAYLIGHT
BEGIN:STANDARD
TZOFFSETFROM:+0200
TZOFFSETTO:+0100
TZNAME:CET
DTSTART:20221030T010000
END:STANDARD
END:VTIMEZONE
BEGIN:VEVENT
DTSTART;TZID=Europe/Rome:20221014T183000
DTEND;TZID=Europe/Rome:20221014T210000
DTSTAMP:20260419T153043
CREATED:20221006T095648Z
LAST-MODIFIED:20221006T095806Z
UID:6512-1665772200-1665781200@arci.bz.it
SUMMARY:By This River - mostra fotografica
DESCRIPTION:BY THIS RIVER ( STUDIO )\ndi @alessandro_trapezio\n.\n dal 14 al 21 ottobre 2022\n Vernissage + presentazione del progetto venerdì 14 ottobre 2022 !!\n.\nEMBERFLY ART GALLERY\,\nPiazza Vittoria 7/D\, Bolzano\n@luca_bresadola\n.\n.\nIl progetto By This River da quando è stato realizzato è stato pensato in varie forme e destinazioni ma si è trasformato naturalmente in un libro d’artista\, grazie alla piattaforma indipendente per progetti fotografici @selfselfbooks e al contributo fondamentale della casa editrice @edgarlibri @paoloriff\nBy This River (studio)\, invece\, è una mostra che racconta il percorso della progettazione del libro\, includendo tutte le mutazioni e le prove che l’artista ha compiuto per arrivare alla visione finale del suo progetto. Immagini scartate\, prove di stampa\, polaroid\, tagli… fino ad arrivare all’idea definitiva dell’allestimento che collega simbolicamente il libro e la mostra. Come nel letto di un fiume\, progetto\, immagini e i loro dettagli seguono i loro imprevedibili percorsi che li portano a sfociare in una comune destinazione ideale.\n\n#bythisriver #exhibition #book #studio #alessandrotrapezio #edgarlibri #bolzano #vernissage
URL:https://arci.bz.it/evento/by-this-river-mostra-fotografica/
LOCATION:Emberfly Gallery\, Piazza della Vittoria\, 7/D\, Bolzano
CATEGORIES:Festival
ATTACH;FMTTYPE=image/jpeg:https://arci.bz.it/wp-content/uploads/2022/10/instagram01.jpg
ORGANIZER;CN="Arci":MAILTO:info@arci.bz.it
END:VEVENT
BEGIN:VEVENT
DTSTART;VALUE=DATE:20220924
DTEND;VALUE=DATE:20220925
DTSTAMP:20260419T153043
CREATED:20220920T083354Z
LAST-MODIFIED:20220922T090934Z
UID:6314-1663977600-1664063999@arci.bz.it
SUMMARY:Geografie della Memoria: Storie\, foto\, oggetti del quartiere Semirurali
DESCRIPTION:Inaugurazione della mostra Geografie della Memoria: storie\, foto\, oggetti del quartiere Semirurali (La Cultura è la Cura) \nDopo un attivo e partecipato percorso laboratoriale\, insieme agli alunni del Liceo delle Scienze Umane e Artistico Giovanni Pascoli e agli ex-abitanti del quartiere Semirurali\, inauguriamo insieme\, nel Circolo Culturale Masetti\, la mostra Geografie della Memoria: storie\, foto\, oggetti del quartiere Semirurali. \nSi conclude così il progetto La Cultura è la Cura a Bolzano: con un condensato di storie e memorie sul quartiere. Una mostra\, tangibile ed interattiva\, che ritrae l’oggetto del cuore dei vecchi abitanti del quartiere e un QR\, che permette di accedere all’intervista. \nUn documento interattivo\, elaborato dai giovani\, sulla storia del quartiere. Per mantenerla viva\, generare cultura e creare nuove prospettive. \nLa mostra sarà aperta al pubblico e fruibile\, da lunedì 26 settembre a venerdì 30 settembre\, dalle ore 16.30 alle ore 18.00.
URL:https://arci.bz.it/evento/geografie-della-memoria-storie-foto-oggetti-del-quartiere-semirurali/
LOCATION:Circolo Culturale Masetti\, Via Resia 65\, Bolzano\, Italia
CATEGORIES:Festival
ATTACH;FMTTYPE=image/png:https://arci.bz.it/wp-content/uploads/2022/09/lcelc_quadrato.png
ORGANIZER;CN="Arci":MAILTO:info@arci.bz.it
END:VEVENT
END:VCALENDAR