BEGIN:VCALENDAR
VERSION:2.0
PRODID:-//Arci Bolzano - Bozen - ECPv6.6.3//NONSGML v1.0//EN
CALSCALE:GREGORIAN
METHOD:PUBLISH
X-ORIGINAL-URL:https://arci.bz.it
X-WR-CALDESC:Eventi per Arci Bolzano - Bozen
REFRESH-INTERVAL;VALUE=DURATION:PT1H
X-Robots-Tag:noindex
X-PUBLISHED-TTL:PT1H
BEGIN:VTIMEZONE
TZID:Europe/Rome
BEGIN:DAYLIGHT
TZOFFSETFROM:+0100
TZOFFSETTO:+0200
TZNAME:CEST
DTSTART:20230326T010000
END:DAYLIGHT
BEGIN:STANDARD
TZOFFSETFROM:+0200
TZOFFSETTO:+0100
TZNAME:CET
DTSTART:20231029T010000
END:STANDARD
END:VTIMEZONE
BEGIN:VEVENT
DTSTART;TZID=Europe/Rome:20230427T200000
DTEND;TZID=Europe/Rome:20230427T233000
DTSTAMP:20260419T161231
CREATED:20230413T213958Z
LAST-MODIFIED:20230413T213958Z
UID:7246-1682625600-1682638200@arci.bz.it
SUMMARY:Presentazione Graphic Novel “In Italia sono tutti maschi” - RESISTENZE
DESCRIPTION:L’associazione Centaurus Arcigay Alto Adige – Sudtirol dialoga con Luca de Santis\, autore della graphic novel “In Italia sono tutti maschi” edita da Kappa edizioni (2008) ed illustrata da Sara Colaone.  \n“In Italia sono tutti maschi”\, vince il premio “Attilio Micheluzzo” nel 2009 come miglior fumetto. \nL’opera tratta delle rigide leggi repressive sancite da Mussolini tra il 1938 e il 1942 nei confronti di persone omosessuali\, che vennero deportate al confino. Nella graphic novel è raccolta e raccontata la preziosa testimonianza di uno dei pochi testimoni di tali vicende. \n  \n 
URL:https://arci.bz.it/evento/presentazione-graphic-novel-in-italia-sono-tutti-maschi-resistenze/
LOCATION:Pippo\, Via Cadorna\, Bolzano\, Bolzano\, 39100\, Italia
ATTACH;FMTTYPE=image/png:https://arci.bz.it/wp-content/uploads/2023/04/27-aprile.png
ORGANIZER;CN="Arci":MAILTO:info@arci.bz.it
GEO:46.503046238143334;11.345657275882976
X-APPLE-STRUCTURED-LOCATION;VALUE=URI;X-ADDRESS=Pippo Via Cadorna Bolzano Bolzano 39100 Italia;X-APPLE-RADIUS=500;X-TITLE=Via Cadorna:geo:11.345657275882976,46.503046238143334
END:VEVENT
END:VCALENDAR