BEGIN:VCALENDAR
VERSION:2.0
PRODID:-//Arci Bolzano - Bozen - ECPv6.6.3//NONSGML v1.0//EN
CALSCALE:GREGORIAN
METHOD:PUBLISH
X-ORIGINAL-URL:https://arci.bz.it
X-WR-CALDESC:Eventi per Arci Bolzano - Bozen
REFRESH-INTERVAL;VALUE=DURATION:PT1H
X-Robots-Tag:noindex
X-PUBLISHED-TTL:PT1H
BEGIN:VTIMEZONE
TZID:Europe/Rome
BEGIN:DAYLIGHT
TZOFFSETFROM:+0100
TZOFFSETTO:+0200
TZNAME:CEST
DTSTART:20250330T010000
END:DAYLIGHT
BEGIN:STANDARD
TZOFFSETFROM:+0200
TZOFFSETTO:+0100
TZNAME:CET
DTSTART:20251026T010000
END:STANDARD
END:VTIMEZONE
BEGIN:VEVENT
DTSTART;TZID=Europe/Rome:20250119T113000
DTEND;TZID=Europe/Rome:20250119T130000
DTSTAMP:20260419T145718
CREATED:20250113T102222Z
LAST-MODIFIED:20250113T105456Z
UID:8780-1737286200-1737291600@arci.bz.it
SUMMARY:Approfondimento sulla storia locale - Promemoria_Auschwitz.EU - REMEMBER FESTIVAL 2025
DESCRIPTION:  \nUna giornata di approfondimento regionale sul progetto Promemoria_Auschwitz.eu\, nell’ottica di ragionare attorno alla storia locale. Gli incontri\, che coinvolgeranno tutti i gruppi del progetto\, prevedranno la visita al muro del Lager ed un momento di discussione al Pippo food.chill.stage con la storica Carla Giacomozzi.  \n  \nIn collaborazione con ANPI Alto Adige Sudtirol\, MeTe APS\, AGJD \n 
URL:https://arci.bz.it/evento/approfondimento-sulla-storia-locale-promemoria_auschwitz-eu-remember-festival-2025/
LOCATION:Pippo FoodChill&Stage\, Parco Petrarca\, Bolzano\, Italia
ATTACH;FMTTYPE=image/png:https://arci.bz.it/wp-content/uploads/2025/01/sito_19.png
END:VEVENT
BEGIN:VEVENT
DTSTART;TZID=Europe/Rome:20250125T103000
DTEND;TZID=Europe/Rome:20250126T170000
DTSTAMP:20260419T145718
CREATED:20250113T102429Z
LAST-MODIFIED:20250113T105709Z
UID:8787-1737801000-1737910800@arci.bz.it
SUMMARY:Guide al Muro del Lager di Bolzano - REMEMBER FESTIVAL 2025
DESCRIPTION:In occasione della Giornata della Memoria si terranno due giorni di visite guidate tematiche condotte da ragazzi e ragazze\, con l’obiettivo di riflettere sulla memoria della Shoah. I partecipanti\, preparati attraverso incontri con storici locali e il supporto dell’Archivio Storico\, guideranno i visitatori al Muro del Lager\, un luogo simbolo della memoria. Le visite offriranno un’importante opportunità di riflessione sui tragici eventi della Shoah\, raccontati attraverso gli occhi delle nuove generazioni\, così da mantenere vivo il ricordo e sensibilizzare sull’importanza della memoria storica. \nIn collaborazione con COOLtour\, OfficineVispa\, ANPI Alto Adige Sudtirol
URL:https://arci.bz.it/evento/guide-al-muro-del-lager-di-bolzano-remember-festival-2025/
LOCATION:Passaggio della Memoria
ATTACH;FMTTYPE=image/png:https://arci.bz.it/wp-content/uploads/2025/01/sito_guide.png
END:VEVENT
BEGIN:VEVENT
DTSTART;TZID=Europe/Rome:20250125T190000
DTEND;TZID=Europe/Rome:20250125T200000
DTSTAMP:20260419T145718
CREATED:20250113T102650Z
LAST-MODIFIED:20250113T105123Z
UID:8791-1737831600-1737835200@arci.bz.it
SUMMARY:I canti di Scola - REMEMBER FESTIVAL 2025
DESCRIPTION:I canti di Scola – un viaggio attraverso le musiche degli ebrei d’Italia (con Enrico Fink\, voce e flauto e Massimo Ferri\, chitarra) \nPresenti con continuità storica in Italia da più di duemila anni\, le comunità ebraiche\, dalla più piccola alla più grande\, custodiscono e alimentano un ricchissimo repertorio musicale di tradizione per di più orale\, diverso di città in città e di sinagoga in sinagoga\, un mélange di influenze e invenzioni\, memorie antichissime e creazioni più recenti. Questo incontro si propone fra la conversazione e il concerto\, raccontando con parole ed esempi musicali alcuni passaggi di una lunga ricerca in questo mondo affascinante. In questo panorama la tradizione si mostra viva e vibrante e l’esplorazione implica uno studio che spesso porta a tuffarsi in vecchi spartiti da coro\, trascrizioni e vecchie registrazioni. Nell’occasione\, Enrico Fink parlerà di una lunga storia familiare che\, in seno al contesto ebraico italiano\, lo ha coinvolto personalmente ed è confluita in un libro\, Patrilineare Una storia di fantasmi\, pubblicato nel gennaio 2025 da Lindau. \n  \nIn collaborazione con COOLtour e Villa delle Rose – Associazione La Strada der Weg \n 
URL:https://arci.bz.it/evento/i-canti-di-scola-remember-festival-2025/
LOCATION:Centro Giovani Villa delle Rose
ATTACH;FMTTYPE=image/png:https://arci.bz.it/wp-content/uploads/2025/01/sito_25.png
END:VEVENT
BEGIN:VEVENT
DTSTART;TZID=Europe/Rome:20250127T110000
DTEND;TZID=Europe/Rome:20250127T123000
DTSTAMP:20260419T145718
CREATED:20250113T103144Z
LAST-MODIFIED:20250113T105837Z
UID:8796-1737975600-1737981000@arci.bz.it
SUMMARY:Incontro con Zijo Ribić: dal 1945 al 1995 la promessa negata del “Mai Più” - REMEMBER FESTIVAL 2025
DESCRIPTION: Performance di restituzione del viaggio di formazione “Stage Internazionale”\, svolto a settembre da due classi del Liceo Pascoli\, tra Roma\, Belgrado\, Srebrenica e Sarajevo e incontro con  Zijo Ribić\, sopravvissuto alle pulizie etniche all’inizio della guerra in Bosnia-Erzegovina\, culminata con il genocidio di Srebrenica del luglio 1995\, del quale quest’anno ricorre il trentennale\, da diversi anni è tra i relatori ad Auschwitz per le commemorazioni del Porrajmos\, ricorrenza fissata il 2 agosto di ogni anno\, in ricordo della liquidazione del Zigeunerlager. \n  \n(incontro riservato agli studenti e alle studentesse del Liceo “G. Pascoli”)
URL:https://arci.bz.it/evento/incontro-con-zijo-ribic-dal-1945-al-1995-la-promessa-negata-del-mai-piu-remember-festival-2025/
LOCATION:Liceo G. Pascoli\, Bolzano
ATTACH;FMTTYPE=image/png:https://arci.bz.it/wp-content/uploads/2025/01/sito_27.png
END:VEVENT
BEGIN:VEVENT
DTSTART;TZID=Europe/Rome:20250127T180000
DTEND;TZID=Europe/Rome:20250127T193000
DTSTAMP:20260419T145718
CREATED:20250113T103556Z
LAST-MODIFIED:20250113T105949Z
UID:8801-1738000800-1738006200@arci.bz.it
SUMMARY:REMEMBERING… Giovani nel segno della memoria - REMEMBER FESTIVAL 2025
DESCRIPTION:REMEMBERING… GIOVANI NEL SEGNO DELLA MEMORIA – JUGEND IM ZEICHEN DER ERINNERUNG\nOre 18.00 Uhr\nSala Rappresentanza Comune Bolzano Festsaal der Gemeinde Bozen\nVicolo Gumer Gumergasse \nPROGRAMMA: \nScuola di Musica Vivaldi – I violinisti Suzuki\nMusikschule Vivaldi – die Violonisten Suzuki\nKlezmer\,  violin\, Part I \nSaluti istituzionali Grußworte\nSindaco Caramaschi\, Assessore Battisti\, Chiara Rabini \nCooltour: monologhi per non dimenticare\nMonologe gegen das Vergessen\ncon mit Pietro Marchi e Anna Mattiazzo \nScuola di Musica Vivaldi – i violinisti Suzuki\nMusikschule Vivaldi – die Violonisten Suzuki\nKlezmer\, violin\, Part II \nPromemoria Auschwitz\ntestimonianze di memoria vissuta\nZeugnisse lebender Erinnerung\n+\nvideo \nBluspace\nL’albero della memoria\, tra musica e pensieri\nDer Baum der Erinnerung\, zwischen Musik und Gedanken \nLive painting \n  \nIn collaborazione con il Comune di Bolzano e con l’ufficio giovani del Comune di Bolzano
URL:https://arci.bz.it/evento/remembering-giovani-nel-segno-della-memoria-remember-festival-2025/
ATTACH;FMTTYPE=image/png:https://arci.bz.it/wp-content/uploads/2025/01/sito_27_2.png
END:VEVENT
BEGIN:VEVENT
DTSTART;TZID=Europe/Rome:20250128T173000
DTEND;TZID=Europe/Rome:20250128T190000
DTSTAMP:20260419T145718
CREATED:20250113T103939Z
LAST-MODIFIED:20250113T110208Z
UID:8810-1738085400-1738090800@arci.bz.it
SUMMARY:Presentazione del libro Partigiani del Grappa - REMEMBER FESTIVAL 2025
DESCRIPTION:Presentazione del libro Partigiani del Grappa. Il rastrellamento nazifascista del settembre 1944 a cura dell’autrice Sonia Residori \nLa presentazione del libro Partigiani del Grappa. Il rastrellamento nazifascista del settembre 1944\, a cura di Sonia Residori\, offrirà una riflessione sulle tragiche vicende del rastrellamento operato dalle forze nazifasciste tra il 20 e il 21 settembre 1944\, sul massiccio del Grappa. Durante l’incontro\, l’autrice esplorerà la resistenza dei partigiani e il tradimento subito dalla popolazione locale\, che fu indotta a credere in un inganno tedesco che condusse a fucilazioni\, impiccagioni e deportazioni. Un’occasione per ricordare le sofferenze e il sacrificio dei giovani coinvolti nella lotta per la libertà. \nDESCRIZIONE: \nLa presentazione del libro Partigiani del Grappa. Il rastrellamento nazifascista del settembre 1944\, a cura di Sonia Residori\, offrirà una riflessione sulle tragiche vicende del rastrellamento operato dalle forze nazifasciste tra il 20 e il 21 settembre 1944\, sul massiccio del Grappa. Durante l’incontro\, l’autrice esplorerà la resistenza dei partigiani e il tradimento subito dalla popolazione locale\, che fu indotta a credere in un inganno tedesco che condusse a fucilazioni\, impiccagioni e deportazioni. Un’occasione per ricordare le sofferenze e il sacrificio dei giovani coinvolti nella lotta per la libertà. \n  \nIn collaborazione con COOLtour e Nuova Libreria Cappelli \n 
URL:https://arci.bz.it/evento/presentazione-del-libro-partigiani-del-grappa-remember-festival-2025/
LOCATION:Nuova Libreria Cappelli\, Corso della Libertà\, 2\, Bolzano\, 39100\, Italia
ATTACH;FMTTYPE=image/png:https://arci.bz.it/wp-content/uploads/2025/01/sito_28.png
END:VEVENT
BEGIN:VEVENT
DTSTART;TZID=Europe/Rome:20250129T203000
DTEND;TZID=Europe/Rome:20250129T220000
DTSTAMP:20260419T145718
CREATED:20250113T104227Z
LAST-MODIFIED:20250113T104227Z
UID:8817-1738182600-1738188000@arci.bz.it
SUMMARY:Spettacolo teatrale "Ausmerzen\, vite indegne di essere vissute" - REMEMBER FESTIVAL 2025
DESCRIPTION:Uno spettacolo che parla dell’Azione Ti Quattro\, il primo sterminio di massa nazista: l’eliminazione di settantamila tedeschi fra malati mentali\, portatori di handicap\, disabili e bambini affetti da malformazioni. L’Azione T4 è l’operazione in cui per la prima volta si è parlato di soluzione finale e camere a gas. La forza di questo spettacolo è che ad interpretarlo è Barbara Apuzzo\, attrice disabile: il suo corpo e la sua presenza fisica renderà ancor più chiaro il messaggio di Ausmerzen.  \nIn collaborazione con Centro Pace Bolzano Friedenszentrum
URL:https://arci.bz.it/evento/spettacolo-teatrale-ausmerzen-vite-indegne-di-essere-vissute-remember-festival-2025/
LOCATION:Teatro Comunale Gries
ATTACH;FMTTYPE=image/png:https://arci.bz.it/wp-content/uploads/2025/01/sito_29.png
END:VEVENT
BEGIN:VEVENT
DTSTART;TZID=Europe/Rome:20250130T180000
DTEND;TZID=Europe/Rome:20250130T193000
DTSTAMP:20260419T145718
CREATED:20250113T104809Z
LAST-MODIFIED:20250113T104809Z
UID:8824-1738260000-1738265400@arci.bz.it
SUMMARY:Conferenza Pubblica  "Lo spazio non è neutro. Abilismo\, disabilità\, stereotipi” - REMEMBER FESTIVAL 2025
DESCRIPTION:Conferenza pubblica “Lo spazio non è neutro. Abilismo\, disabilità\, stereotipi” con Barbara Apuzzo e Ilaria Crippi \nIn collaborazione con Centro Pace Bolzano Friedenszentrum
URL:https://arci.bz.it/evento/conferenza-pubblica-lo-spazio-non-e-neutro-abilismo-disabilita-stereotipi-remember-festival-2025/
ATTACH;FMTTYPE=image/png:https://arci.bz.it/wp-content/uploads/2025/01/sito_30.png
END:VEVENT
END:VCALENDAR