BEGIN:VCALENDAR
VERSION:2.0
PRODID:-//Arci Bolzano - Bozen - ECPv6.6.3//NONSGML v1.0//EN
CALSCALE:GREGORIAN
METHOD:PUBLISH
X-WR-CALNAME:Arci Bolzano - Bozen
X-ORIGINAL-URL:https://arci.bz.it
X-WR-CALDESC:Eventi per Arci Bolzano - Bozen
REFRESH-INTERVAL;VALUE=DURATION:PT1H
X-Robots-Tag:noindex
X-PUBLISHED-TTL:PT1H
BEGIN:VTIMEZONE
TZID:Europe/Rome
BEGIN:DAYLIGHT
TZOFFSETFROM:+0100
TZOFFSETTO:+0200
TZNAME:CEST
DTSTART:20240331T010000
END:DAYLIGHT
BEGIN:STANDARD
TZOFFSETFROM:+0200
TZOFFSETTO:+0100
TZNAME:CET
DTSTART:20241027T010000
END:STANDARD
END:VTIMEZONE
BEGIN:VEVENT
DTSTART;TZID=Europe/Rome:20240516T203000
DTEND;TZID=Europe/Rome:20240516T223000
DTSTAMP:20260420T045113
CREATED:20240510T135419Z
LAST-MODIFIED:20240510T140614Z
UID:8282-1715891400-1715898600@arci.bz.it
SUMMARY:KISSING GORBACIOV Il film - proiezione
DESCRIPTION:Sound Film Festival\nUn viaggio emozionante tra immagini e suoni \nIl Festival nasce con l&#39;intento di creare un&#39;esperienza multisensoriale che unisca il meglio del cinema e della musica\, offrendo al pubblico un&#39;opportunità unica di esplorare il rapporto tra le due forme d’arte.\nAttraverso il linguaggio cinematografico si vuole dare allo spettatore una visione più approfondita di quelle che sono state le vicende che hanno caratterizzato alcuni momenti storici e di vita della\nmusica in Italia. \nKISSING GORBACIOV di Andrea Paco Mariani e Luigi D’Alife – proiezione \nNel 1988 a Melpignano\, un piccolo paesino del Salento\, avviene un evento storico: per la prima volta delle rock-band sovietiche si esibiscono oltrecortina. Nel Marzo 1989 saranno alcune band italiane\, tra le quali i CCCP – Fedeli alla linea\, ad esibirsi in Unione Sovietica. L’incredibile storia del tour che riuscì a creare un ponte tra due mondi divisi\, attraverso un linguaggio che non ha bisogno di interpreti: la musica.
URL:https://arci.bz.it/evento/kissing-gorbaciov-il-film-proiezione/
LOCATION:FilmClub Capitol\, Via Streiter\, 8/D\, Bolzano\, 39100
ATTACH;FMTTYPE=image/jpeg:https://arci.bz.it/wp-content/uploads/2024/05/sound-film-festival_16_05.jpg
END:VEVENT
BEGIN:VEVENT
DTSTART;TZID=Europe/Rome:20240523T203000
DTEND;TZID=Europe/Rome:20240523T223000
DTSTAMP:20260420T045113
CREATED:20240510T140135Z
LAST-MODIFIED:20240510T140135Z
UID:8285-1716496200-1716503400@arci.bz.it
SUMMARY:X SEMPRE ASSENTI Il film - proiezione
DESCRIPTION:Sound Film Festival\nUn viaggio emozionante tra immagini e suoni \nIl Festival nasce con l&#39;intento di creare un&#39;esperienza multisensoriale che unisca il meglio del cinema e della musica\, offrendo al pubblico un&#39;opportunità unica di esplorare il rapporto tra le due forme d’arte.\nAttraverso il linguaggio cinematografico si vuole dare allo spettatore una visione più approfondita di quelle che sono state le vicende che hanno caratterizzato alcuni momenti storici e di vita della\nmusica in Italia. \nX SEMPRE ASSENTI  di Francesco Fei  – proiezione \nUn film documentario che segue il gruppo rock dei Verdena nella loro vita privata e nella preparazione del tour di “Volevo Magia”\, disco che segna il loro rientro sulle scene dopo sette anni di silenzio.\nUn’opera unica per capacità di entrare nell’intimità dei protagonisti\, all’interno delle loro famiglie\, nel profondo delle vite semplici che conducono e dei luoghi isolati dove vivono\, ma in grado anche di raccontare la loro vita come rock band.
URL:https://arci.bz.it/evento/x-sempre-assenti-il-film-proiezione/
LOCATION:FilmClub Capitol\, Via Streiter\, 8/D\, Bolzano\, 39100
ATTACH;FMTTYPE=image/jpeg:https://arci.bz.it/wp-content/uploads/2024/05/sound-film-festiva_23_05.jpg
END:VEVENT
BEGIN:VEVENT
DTSTART;TZID=Europe/Rome:20240530T203000
DTEND;TZID=Europe/Rome:20240530T223000
DTSTAMP:20260420T045113
CREATED:20240510T140452Z
LAST-MODIFIED:20240510T140452Z
UID:8286-1717101000-1717108200@arci.bz.it
SUMMARY:IL MONDO E' TROPPO PER ME Il film - proiezione
DESCRIPTION:Sound Film Festival\nUn viaggio emozionante tra immagini e suoni \nIl Festival nasce con l&#39;intento di creare un&#39;esperienza multisensoriale che unisca il meglio del cinema e della musica\, offrendo al pubblico un&#39;opportunità unica di esplorare il rapporto tra le due forme d’arte.\nAttraverso il linguaggio cinematografico si vuole dare allo spettatore una visione più approfondita di quelle che sono state le vicende che hanno caratterizzato alcuni momenti storici e di vita della\nmusica in Italia. \nIL MONDO E’ TROPPO PER ME di Vania Cauzillo – proiezione \nUn giorno\, dal niente\, compare su Youtube un video che cambia la storia della musica. Quel giorno il mondo scoprì che l’inventore del tapping\, una rivoluzionaria tecnica chitarristica\, non era il grande Eddie Van Halen\, ma un medico di provincia: Vittorio Camardese. \nDa allora\, i più grandi musicisti di tutto il mondo hanno voluto saperne di più. “Chi è questo collega sconosciuto? Chi è Vittorio Camardese?”. \nQuesta è la storia Vittorio\, la storia di un genio che ha scelto di non essere un genio. \nVittorio Camardese è un invisibile di grande presenza. Un uomo di cui si rischia di perdere la memoria\, ma che invece può raccontare tanto della musica\, della responsabilità del talento\, della paura del successo\, ma anche dell’Italia e delle radici che tengono ancorati al terreno invece di spingersi a prendere il volo e crescere lontano.
URL:https://arci.bz.it/evento/il-mondo-e-troppo-per-me-il-film-proiezione/
LOCATION:FilmClub Capitol\, Via Streiter\, 8/D\, Bolzano\, 39100
ATTACH;FMTTYPE=image/jpeg:https://arci.bz.it/wp-content/uploads/2024/05/sound-film-festival_30_05.jpg
END:VEVENT
END:VCALENDAR