BEGIN:VCALENDAR
VERSION:2.0
PRODID:-//Arci Bolzano - Bozen - ECPv6.6.3//NONSGML v1.0//EN
CALSCALE:GREGORIAN
METHOD:PUBLISH
X-WR-CALNAME:Arci Bolzano - Bozen
X-ORIGINAL-URL:https://arci.bz.it
X-WR-CALDESC:Eventi per Arci Bolzano - Bozen
REFRESH-INTERVAL;VALUE=DURATION:PT1H
X-Robots-Tag:noindex
X-PUBLISHED-TTL:PT1H
BEGIN:VTIMEZONE
TZID:Europe/Rome
BEGIN:DAYLIGHT
TZOFFSETFROM:+0100
TZOFFSETTO:+0200
TZNAME:CEST
DTSTART:20240331T010000
END:DAYLIGHT
BEGIN:STANDARD
TZOFFSETFROM:+0200
TZOFFSETTO:+0100
TZNAME:CET
DTSTART:20241027T010000
END:STANDARD
END:VTIMEZONE
BEGIN:VEVENT
DTSTART;TZID=Europe/Rome:20240128T180000
DTEND;TZID=Europe/Rome:20240128T193000
DTSTAMP:20260420T120048
CREATED:20240117T133642Z
LAST-MODIFIED:20240117T133642Z
UID:8118-1706464800-1706470200@arci.bz.it
SUMMARY:Proiezione film di “Ogni cosa è illuminata” di Liv Schreiber
DESCRIPTION:Ogni cosa è illuminata (titolo originale: Everything Is Illuminated) \nè un film statunitense uscito nel 2005. Si tratta della trasposizione cinematografica dell’omonimo libro autobiografico di Jonathan Safran Foer\, Liv Schreiber mette in scena J.S. Foer\, un ebreo americano che racconta il viaggio (fisico e spiituale) di uno studente americano deciso a trovare in Ucraina la donna che salvò suo nonno dalla furia nazista. Essendo un “collezionista di ricordi di famiglia”\, decide di fare un viaggio in Ucraina per trovare il piccolo e sperduto villaggio di Trochenbrod in cui aveva vissuto suo nonno prima di trasferirsi negli USA. \nCALENDARIO REMEBER FESTIVAL: https://arci.bz.it/remember-festival-2024/ \nINFO: info@arci.bz.it
URL:https://arci.bz.it/evento/proiezione-film-di-ogni-cosa-e-illuminata-di-liv-schreiber/
LOCATION:Pippo FoodChill&Stage\, Parco Petrarca\, Bolzano\, Italia
ATTACH;FMTTYPE=image/png:https://arci.bz.it/wp-content/uploads/2024/01/dal-11-gennaio-202-al-7-febbraio-2024.png
END:VEVENT
BEGIN:VEVENT
DTSTART;TZID=Europe/Rome:20240129T183000
DTEND;TZID=Europe/Rome:20240129T200000
DTSTAMP:20260420T120048
CREATED:20240117T133919Z
LAST-MODIFIED:20240129T092420Z
UID:8122-1706553000-1706558400@arci.bz.it
SUMMARY:“Una storia tedesca” - Le vite di Erika e Saskia von Brockdorff
DESCRIPTION:Questa storia eccezionale inizia all’ombra della Repubblica di Weimar\, prima grande democrazia tedesca\, quando la madre\, Erika (1911-1943)\, decise di trasferirsi a Berlino nel 1938 di entrare a fare parte di una rete di antagonisti e resistenti al regime hitleriano\, composta da artisti\, antifascisti\, comunisti e studenti\, passata alla storia come “Rote Kapelle”. Nel 1942 Erika venne arrestata\, condannata a morte e poi giustiziata per ghigliottina il 13 maggio 1943. \nLa vita di Saskia\, che al momento della condanna a morte aveva 6 anni\, venne per sempre segnata da quegli eventi e poi ancora dalla storia più complessa delle Germanie divise. \nSolamente nel 2003 Saskia ha avuto la possibilità di ritrovare una lettera scrittale dalla madre in punto di morte\, documento di inestimabile valore\, che viene letto agli incontri con ragazz* e student*. Modera e traduce Tommaso Speccher. \nCALENDARIO REMEMBER FESTIVAL: https://arci.bz.it/remember-festival-2024/ \nINFO: info@arci.bz.it
URL:https://arci.bz.it/evento/una-storia-tedesca-le-vite-di-erika-e-saskia-von-brockdorff/
LOCATION:Sala di Rappresentanza del Comune di Bolzano
ATTACH;FMTTYPE=image/png:https://arci.bz.it/wp-content/uploads/2024/01/dal-11-gennaio-202-al-7-febbraio-2024.png
END:VEVENT
END:VCALENDAR