BEGIN:VCALENDAR
VERSION:2.0
PRODID:-//Arci Bolzano - Bozen - ECPv6.6.3//NONSGML v1.0//EN
CALSCALE:GREGORIAN
METHOD:PUBLISH
X-WR-CALNAME:Arci Bolzano - Bozen
X-ORIGINAL-URL:https://arci.bz.it
X-WR-CALDESC:Eventi per Arci Bolzano - Bozen
REFRESH-INTERVAL;VALUE=DURATION:PT1H
X-Robots-Tag:noindex
X-PUBLISHED-TTL:PT1H
BEGIN:VTIMEZONE
TZID:Europe/Rome
BEGIN:DAYLIGHT
TZOFFSETFROM:+0100
TZOFFSETTO:+0200
TZNAME:CEST
DTSTART:20230326T010000
END:DAYLIGHT
BEGIN:STANDARD
TZOFFSETFROM:+0200
TZOFFSETTO:+0100
TZNAME:CET
DTSTART:20231029T010000
END:STANDARD
END:VTIMEZONE
BEGIN:VEVENT
DTSTART;TZID=Europe/Rome:20230623T170000
DTEND;TZID=Europe/Rome:20230623T233000
DTSTAMP:20260421T041659
CREATED:20230616T225623Z
LAST-MODIFIED:20230616T225827Z
UID:7449-1687539600-1687563000@arci.bz.it
SUMMARY:23 giugno – 02 agosto 1980. La ricerca della verità.
DESCRIPTION:Arci Bolzano-Bozen assieme ad Anpi Alto Adige-Suedtirol\, con il sostegno del Coordinamento Staffette Podistiche per Bologna Per Non Dimenticare il 20 Agosto 1980 e l’Associazione Tra i Famigliari delle Vittime della Strage Alla Stazione di Bologna il 2 Agosto 1980\, ha pensato di creare un filo rosso che collega il periodo dal 9 maggio ( Giorno della Memoria delle vittime del terrorismo interno e internazionale e delle stragi di tale matrice) soffermandosi al 23 giugno (anniversario dell’omicidio del giudice Mario Amato)\, al 2 agosto\, tenendo vivo il ricordo di quel periodo buio che ha segnato la storia del nostro Paese.\n\nLe persone ancora oggi\, o meglio\, oggi più di allora necessità non solo il commemorare le vittime del terrorismo\, ma di conoscere la verità e soprattutto evitare che gli eventi si ripetano. Molto è stato fatto in questi 43 anni\, ma non è sufficiente. Con l’obiettivo di mantenere vivo il ricordo delle vittime e di conoscere la verità di queste buie vicende della nostra storia la rassegna “23 giugno – 02 agosto 1980. La ricerca della verità” presenta la sua seconda tappa.\n\nLa rassegna avrà luogo venerdì 23 giugno 2023 e proporrà un programma ricco di iniziative con ospiti di grande rilievo.\nL’iniziativa è patrocinata dal Comune di Bolzano.\n____________________________________________\n\nProgramma:\n\nDalle ore 17.00 alle ore 19.00 staffetta ciclistica attraverso le vie della città passando attraverso i luoghi di memoria.\nPartenza: ore 17.00 dal Muro del Lager\nPassaggi: Via Pacinotti – Memoriale delle Deportazione a Bolzano\nPassaggio Walter Tobagi\nPiazza Matteotti\nPiazza Ambrosoli\nPassaggio Falcone – Borsellino\nPiazza 4. Novembre – Corpo d’Armata\nArrivo: ore 19.00 Anfiteatro Pippo\n\nOre 19.00 – 21.00\n-Accoglienza staffetta\n-Presentazione della rassegna\n-Saluti autorità presenti\n-Intervento degli ospiti:\n–Paolo Bolognesi\, presidente dell’Associazione tra i famigliari delle vittime della strage alla stazione centrale di Bologna del 2 agosto 1980\n–Famiglia Amato\n–Avv. Andrea Speranzoni\, avvocato di parte civile dei processi per la strage del 2 agosto 1980 alla stazione di Bologna.\n\nOre 21.00\nMonologo teatrale “Un’altra Vita” di e con Matteo Belli.\nUna performance teatrale che\, grazie alla collaborazione della storica Cinzia Venturoli\, mette in scena il ricordo di chi quel giorno si salvò grazie al genio teatrale di Matteo Belli che dello spettacolo è regista e attore unico.
URL:https://arci.bz.it/evento/23-giugno-02-agosto-1980-la-ricerca-della-verita/
LOCATION:Pippo\, Via Cadorna\, Bolzano\, Bolzano\, 39100\, Italia
ATTACH;FMTTYPE=image/jpeg:https://arci.bz.it/wp-content/uploads/2023/06/Cover-Facebook-Evento.jpg
ORGANIZER;CN="Arci":MAILTO:info@arci.bz.it
GEO:46.503046238143334;11.345657275882976
X-APPLE-STRUCTURED-LOCATION;VALUE=URI;X-ADDRESS=Pippo Via Cadorna Bolzano Bolzano 39100 Italia;X-APPLE-RADIUS=500;X-TITLE=Via Cadorna:geo:11.345657275882976,46.503046238143334
END:VEVENT
BEGIN:VEVENT
DTSTART;TZID=Europe/Rome:20230624T193000
DTEND;TZID=Europe/Rome:20230624T233000
DTSTAMP:20260421T041659
CREATED:20230616T223156Z
LAST-MODIFIED:20230616T223156Z
UID:7446-1687635000-1687649400@arci.bz.it
SUMMARY:#4 BORGOTTO – FAENZA  Cena di raccolta fondi
DESCRIPTION:Nel mese di maggio\, la crisi climatica ha causato forti piogge e alluvioni che hanno duramente colpito gran parte dell’Emilia-Romagna\, dove la situazione resta drammatica. Il terribile disastro climatico ha spazzato via abitazioni\, imprese\, luoghi di aggregazione\, infrastrutture e una buona porzione di tessuto urbano\, viario e naturale della regione\, lasciando spesso al buio\, senza corrente elettrica\, e isolate diversi borghi e frazioni. \nArci Bolzano – Bozen ha deciso di sostenere le persone alluvionate organizzando una cena di raccolta fondi\, sabato 24 giugno\, al Pippo. Food.chill.stage (via Cadorna)\, alle ore 19.30. \nSarà l’occasione per condividere una tipica e gustosissima cena emiliano-romagnola il cui ricavato andrà devoluto al progetto “#4Borgotto Faenza”. \nIl progetto ha l’obiettivo specifico di destinare i fondi alle famiglie che abitano in Via Borgotto a Faenza\, per supportarle nel risanamento e nella ricostruzione delle proprie abitazioni\, spazzate via dall’acqua. \nDesiderosi di aiutare\, nello spirito tenace delle popolazioni che abitano queste terre e che nel corso di queste mese\, insieme a centinaia di giovani volontari\, hanno fatto fronte ad una situazione drammatica\, invitiamo tutti a prendere parte a questa cena. Insieme\, in un’atmosfera conviviale e di condivisione\, avremo l’opportunità di sostenere chi è in difficoltà. \nLa cena sarà accompagnata da un sottofondo musicale di melodie tipiche dell’Emilia-Romagna\, per poi terminare con un dj set\, a cura di. \nVi aspettiamo numerosi! \n  \nMENÙ (Prezzo 25€) \nANTIPASTO: Tre crostini \nPRIMO: Gramigna panna e salsiccia (opzione vegetariana: sugo pomodoro basilico) \nSECONDO: Piadina con prosciutto crudo\, squacquerone e rucola \nDOLCE: Torta di riso \nBEVANDE: vino rosso Sangiovese – vino bianco Albana\, acqua \n  \nPer maggiori informazioni: \ninfo@arci.bz.it
URL:https://arci.bz.it/evento/4-borgotto-faenza-cena-di-raccolta-fondi/
LOCATION:Pippo\, Via Cadorna\, Bolzano\, Bolzano\, 39100\, Italia
ATTACH;FMTTYPE=image/jpeg:https://arci.bz.it/wp-content/uploads/2023/06/WhatsApp-Image-2023-06-15-at-15.51.30.jpeg
ORGANIZER;CN="Arci":MAILTO:info@arci.bz.it
GEO:46.503046238143334;11.345657275882976
X-APPLE-STRUCTURED-LOCATION;VALUE=URI;X-ADDRESS=Pippo Via Cadorna Bolzano Bolzano 39100 Italia;X-APPLE-RADIUS=500;X-TITLE=Via Cadorna:geo:11.345657275882976,46.503046238143334
END:VEVENT
BEGIN:VEVENT
DTSTART;TZID=Europe/Rome:20230624T220000
DTEND;TZID=Europe/Rome:20230624T220000
DTSTAMP:20260421T041659
CREATED:20230616T230351Z
LAST-MODIFIED:20230616T230351Z
UID:7452-1687644000-1687644000@arci.bz.it
SUMMARY:REVIVAL 70’ 80’ 90s - CHEOPE DISCO CLUB
DESCRIPTION:24/06 > REVIVAL 70’ 80’ 90s – CHEOPE DISCO CLUB\n*****\nTAKE YOUR MOMENT!\nSABATO 24 GIUGNO 2023\nDalle ore 22:00 >>\nCHEOPE DISCO CLUB\n#disco #revival #dance\n\nENTRY 24+\nINGRESSO con FREE DRINK e TESSERAMENTO ARCI – 10€\n\n– – – – – – – – – – – – – – – – – – – – – – – – – –\nINFO / GUEST LIST:\nMoment Events (WhatsApp)\n+39 366 112 2200\n– – – – – – – – – – – – – – – – – – – – – – – – – –\nPARCHEGGIO ALL’APERTO GRATUITO\n– – – – – – – – – – – – – – – – – – – – – – – – – –\nMoment nasce nel 2023 ed è un associazione di promozione sociale affiliata ad ARCI. L’obiettivo dell’associazione è arricchire l’offerta musicale della città\, portando le band nazionali e gli artisti sulla scena contemporanea e coltivare la scena locale attraverso l’organizzazione di concerti.\n*****\nCHEOPE DISCO CLUB\nVia Brennero 6\n39055 Pineta di Laives\nwww.cheopeclub.it
URL:https://arci.bz.it/evento/revival-70-80-90s-cheope-disco-club/
LOCATION:Cheope\, Via Brennero 6\, Pineta di Laives\, 39055
ATTACH;FMTTYPE=image/jpeg:https://arci.bz.it/wp-content/uploads/2023/06/348420346_177166165301835_8490694765325797150_n.jpg
ORGANIZER;CN="Arci":MAILTO:info@arci.bz.it
END:VEVENT
END:VCALENDAR