BEGIN:VCALENDAR
VERSION:2.0
PRODID:-//Arci Bolzano - Bozen - ECPv6.6.3//NONSGML v1.0//EN
CALSCALE:GREGORIAN
METHOD:PUBLISH
X-ORIGINAL-URL:https://arci.bz.it
X-WR-CALDESC:Eventi per Arci Bolzano - Bozen
REFRESH-INTERVAL;VALUE=DURATION:PT1H
X-Robots-Tag:noindex
X-PUBLISHED-TTL:PT1H
BEGIN:VTIMEZONE
TZID:Europe/Rome
BEGIN:DAYLIGHT
TZOFFSETFROM:+0100
TZOFFSETTO:+0200
TZNAME:CEST
DTSTART:20230326T010000
END:DAYLIGHT
BEGIN:STANDARD
TZOFFSETFROM:+0200
TZOFFSETTO:+0100
TZNAME:CET
DTSTART:20231029T010000
END:STANDARD
END:VTIMEZONE
BEGIN:VEVENT
DTSTART;TZID=Europe/Rome:20230422T210000
DTEND;TZID=Europe/Rome:20230422T233000
DTSTAMP:20260421T081035
CREATED:20230413T210819Z
LAST-MODIFIED:20230413T210819Z
UID:7231-1682197200-1682206200@arci.bz.it
SUMMARY:Concerto “Nuovo Canzoniere Partigiano” – RESISTENZE
DESCRIPTION:Concerto di musica dal vivo del gruppo “Nuovo canzoniere partigiano”. \nIl progetto nasce con l’obiettivo di dare nuova vita ai canti della Resistenza italiana e quindi ai valori di giustizia e libertà\, per arrivare ai giovani d’oggi e creare una connessione con quelli che sono stati gli sforzi eroici dei giovani di allora.  \nCome ogni anno parte dei proventi dei concerti organizzati dal gruppo verrà devoluto in beneficienza per progetti di resistenza. Quest’anno\, il ricavato verrà devoluto al “Collettivo Rotte Balcaniche” che opera tra Bosnia e Croazia.  \n  \n 
URL:https://arci.bz.it/evento/concerto-nuovo-canzoniere-partigiano-resistenze/
LOCATION:Pippo\, Via Cadorna\, Bolzano\, Bolzano\, 39100\, Italia
ATTACH;FMTTYPE=image/png:https://arci.bz.it/wp-content/uploads/2023/04/22-aprile-1.png
ORGANIZER;CN="Arci":MAILTO:info@arci.bz.it
GEO:46.503046238143334;11.345657275882976
X-APPLE-STRUCTURED-LOCATION;VALUE=URI;X-ADDRESS=Pippo Via Cadorna Bolzano Bolzano 39100 Italia;X-APPLE-RADIUS=500;X-TITLE=Via Cadorna:geo:11.345657275882976,46.503046238143334
END:VEVENT
BEGIN:VEVENT
DTSTART;TZID=Europe/Rome:20230423T203000
DTEND;TZID=Europe/Rome:20230423T233000
DTSTAMP:20260421T081035
CREATED:20230413T211329Z
LAST-MODIFIED:20230413T211329Z
UID:7234-1682281800-1682292600@arci.bz.it
SUMMARY:Proiezione film “Una giornata particolare” – RESISTENZE
DESCRIPTION:L’associazione Kinapix  cura la proiezione di Una giornata particolare (1977) diretto da Ettore Scola.  \nLa pellicola\, ambientata durante il secondo conflitto mondiale\, offre una prospettiva diversa: quella di una donna e di un uomo omosessuale. Una denuncia contro il fascismo ma anche contro gli stereotipi di genere e la persecuzione dell’omosessualità\, tematiche ancora attuali.  \n  \n 
URL:https://arci.bz.it/evento/proiezione-film-una-giornata-particolare-resistenze/
LOCATION:Pippo\, Via Cadorna\, Bolzano\, Bolzano\, 39100\, Italia
ATTACH;FMTTYPE=image/png:https://arci.bz.it/wp-content/uploads/2023/04/23-aprile-1.png
ORGANIZER;CN="Arci":MAILTO:info@arci.bz.it
GEO:46.503046238143334;11.345657275882976
X-APPLE-STRUCTURED-LOCATION;VALUE=URI;X-ADDRESS=Pippo Via Cadorna Bolzano Bolzano 39100 Italia;X-APPLE-RADIUS=500;X-TITLE=Via Cadorna:geo:11.345657275882976,46.503046238143334
END:VEVENT
BEGIN:VEVENT
DTSTART;TZID=Europe/Rome:20230424T200000
DTEND;TZID=Europe/Rome:20230424T233000
DTSTAMP:20260421T081035
CREATED:20230413T211918Z
LAST-MODIFIED:20230413T211918Z
UID:7237-1682366400-1682379000@arci.bz.it
SUMMARY:“Libera tuttǝ. Transfeminist queer party” – RESISTENZE
DESCRIPTION:Centaurus Arcigay Alto Adige – Sudtirol  organizza una serata di musica e festa\, che vuole rivelarsi anche un momento per puntare i riflettori sulla resistenza delle donne e delle persone queer.  \nDurante la serata si alterneranno alla console: \nPi@\nShanti Baba\nDa Dj \n  \n 
URL:https://arci.bz.it/evento/libera-tutt%c7%9d-transfeminist-queer-party-resistenze/
LOCATION:Pippo\, Via Cadorna\, Bolzano\, Bolzano\, 39100\, Italia
ATTACH;FMTTYPE=image/png:https://arci.bz.it/wp-content/uploads/2023/04/24-aprile.png
ORGANIZER;CN="Arci":MAILTO:info@arci.bz.it
GEO:46.503046238143334;11.345657275882976
X-APPLE-STRUCTURED-LOCATION;VALUE=URI;X-ADDRESS=Pippo Via Cadorna Bolzano Bolzano 39100 Italia;X-APPLE-RADIUS=500;X-TITLE=Via Cadorna:geo:11.345657275882976,46.503046238143334
END:VEVENT
BEGIN:VEVENT
DTSTART;TZID=Europe/Rome:20230425T150000
DTEND;TZID=Europe/Rome:20230425T233000
DTSTAMP:20260421T081035
CREATED:20230413T212510Z
LAST-MODIFIED:20230413T212703Z
UID:7240-1682434800-1682465400@arci.bz.it
SUMMARY:Festa della Liberazione – RESISTENZE
DESCRIPTION:Un lungo pomeriggio di festa\, tra musica\, memoria e resistenza\, per ricordare sempre – e insieme – i valori dell’antifascismo e della democrazia.  \nSul palco artisti locali: Berise – Shanti Powa   (&Friends)\, ZioCantante  \, il Coro Bella Ciao \, Fanchi \, Sunfra \, Polemici \, DJ Rebo . \n 
URL:https://arci.bz.it/evento/festa-della-liberazione-resistenze/
LOCATION:Piazzale delle feste su prati del Talvera.\, Lungotalvera Bolzano\, 10\, Bolzano\, 39100
ATTACH;FMTTYPE=image/png:https://arci.bz.it/wp-content/uploads/2023/04/25-aprile.png
ORGANIZER;CN="Arci":MAILTO:info@arci.bz.it
END:VEVENT
BEGIN:VEVENT
DTSTART;TZID=Europe/Rome:20230426T200000
DTEND;TZID=Europe/Rome:20230426T233000
DTSTAMP:20260421T081035
CREATED:20230413T213147Z
LAST-MODIFIED:20230413T213147Z
UID:7243-1682539200-1682551800@arci.bz.it
SUMMARY:Proiezione documentario Tekoşer\, il partigiano orso – RESISTENZE
DESCRIPTION:L’associazione Kinapix cura la proiezione del documentario Tekoşer\, il partigiano orso\, di Dario Salvetti.  \nDa Firenze Rifredi al nord della Siria\, nel Rojava e poi di nuovo a Rifredi\, passando per la battaglia di Afrin e di Deir el Zor negli ultimi giorni della campagna militare contro l’Isis e con la minaccia incombente della Turchia di Erdogan. Fortemente ispirato agli scritti di Lorenzo Orsetti\, contenuti nel libro “Siria\, scritti dal nord est”\, il documentario Tekoşer\, di Dario Salvetti\, segue la vicenda di Lorenzo Orsetti (Orso)\, ragazzo di Rifredi partito alla fine del 2017 per sostenere la rivoluzione dei popoli del Rojava e combattere l’Isis. Un viaggio che si snoda tra le interviste al padre e al cugino di Lorenzo\, gli interventi di altri volontari internazionali partiti per il Rojava e le parole stesse di Lorenzo Orsetti. \nUn omaggio a Rifredi\, una testimonianza della causa curda\, della lotta antifascista e internazionalista contro l’Isis e infine una commossa riflessione sul senso della vita: “Tekoşer\, il partigiano Orso” prova ad amalgamare il tutto con un montaggio che punta consapevolmente sul ritmo e sull’intensità. E’ una testimonianza e un ricordo di Lorenzo e un omaggio alla sua causa. \n  \n 
URL:https://arci.bz.it/evento/proiezione-documentario-tekoser-il-partigiano-orso-resistenze/
LOCATION:Pippo\, Via Cadorna\, Bolzano\, Bolzano\, 39100\, Italia
ATTACH;FMTTYPE=image/png:https://arci.bz.it/wp-content/uploads/2023/04/26-aprile.png
ORGANIZER;CN="Arci":MAILTO:info@arci.bz.it
GEO:46.503046238143334;11.345657275882976
X-APPLE-STRUCTURED-LOCATION;VALUE=URI;X-ADDRESS=Pippo Via Cadorna Bolzano Bolzano 39100 Italia;X-APPLE-RADIUS=500;X-TITLE=Via Cadorna:geo:11.345657275882976,46.503046238143334
END:VEVENT
BEGIN:VEVENT
DTSTART;TZID=Europe/Rome:20230427T200000
DTEND;TZID=Europe/Rome:20230427T233000
DTSTAMP:20260421T081035
CREATED:20230413T213958Z
LAST-MODIFIED:20230413T213958Z
UID:7246-1682625600-1682638200@arci.bz.it
SUMMARY:Presentazione Graphic Novel “In Italia sono tutti maschi” - RESISTENZE
DESCRIPTION:L’associazione Centaurus Arcigay Alto Adige – Sudtirol dialoga con Luca de Santis\, autore della graphic novel “In Italia sono tutti maschi” edita da Kappa edizioni (2008) ed illustrata da Sara Colaone.  \n“In Italia sono tutti maschi”\, vince il premio “Attilio Micheluzzo” nel 2009 come miglior fumetto. \nL’opera tratta delle rigide leggi repressive sancite da Mussolini tra il 1938 e il 1942 nei confronti di persone omosessuali\, che vennero deportate al confino. Nella graphic novel è raccolta e raccontata la preziosa testimonianza di uno dei pochi testimoni di tali vicende. \n  \n 
URL:https://arci.bz.it/evento/presentazione-graphic-novel-in-italia-sono-tutti-maschi-resistenze/
LOCATION:Pippo\, Via Cadorna\, Bolzano\, Bolzano\, 39100\, Italia
ATTACH;FMTTYPE=image/png:https://arci.bz.it/wp-content/uploads/2023/04/27-aprile.png
ORGANIZER;CN="Arci":MAILTO:info@arci.bz.it
GEO:46.503046238143334;11.345657275882976
X-APPLE-STRUCTURED-LOCATION;VALUE=URI;X-ADDRESS=Pippo Via Cadorna Bolzano Bolzano 39100 Italia;X-APPLE-RADIUS=500;X-TITLE=Via Cadorna:geo:11.345657275882976,46.503046238143334
END:VEVENT
BEGIN:VEVENT
DTSTART;TZID=Europe/Rome:20230428T210000
DTEND;TZID=Europe/Rome:20230429T010000
DTSTAMP:20260421T081035
CREATED:20230413T214406Z
LAST-MODIFIED:20230423T132625Z
UID:7249-1682715600-1682730000@arci.bz.it
SUMMARY:Concerto “Assalti Frontali” – RESISTENZE
DESCRIPTION:Gli Assalti Frontali si formano a Radio Onda Rossa di Roma nel 1988\, durante le trasmissioni hip-hop che Militant A conduceva come DJ insieme al suo gruppo\, chiamata poi “Onda Rossa Posse”. Militant A e Castro X rimano in italiano\, e suscitano grande interesse negli ascoltatori. \nA introdurre la serata:  \n\nFable\, artista poliedrico di Bolzano che propone un rap di livello e dalla numerose contaminazioni stilistiche\nSupermarket\, collettivo di Bolzano\, con influenze rap e funk\n\n 
URL:https://arci.bz.it/evento/concerto-assalti-frontali-resistenze/
LOCATION:Pippo\, Via Cadorna\, Bolzano\, Bolzano\, 39100\, Italia
ATTACH;FMTTYPE=image/png:https://arci.bz.it/wp-content/uploads/2023/04/28-aprile.png
ORGANIZER;CN="Arci":MAILTO:info@arci.bz.it
GEO:46.503046238143334;11.345657275882976
X-APPLE-STRUCTURED-LOCATION;VALUE=URI;X-ADDRESS=Pippo Via Cadorna Bolzano Bolzano 39100 Italia;X-APPLE-RADIUS=500;X-TITLE=Via Cadorna:geo:11.345657275882976,46.503046238143334
END:VEVENT
BEGIN:VEVENT
DTSTART;TZID=Europe/Rome:20230429T110000
DTEND;TZID=Europe/Rome:20230429T133000
DTSTAMP:20260421T081035
CREATED:20230413T214803Z
LAST-MODIFIED:20230413T214834Z
UID:7252-1682766000-1682775000@arci.bz.it
SUMMARY:Presentazione “Biciclette partigiane. Venti storie di ciclismo e resistenza” – RESISTENZE
DESCRIPTION:Guido Margheri\, presidente ANPI Alto Adige – Südtirol dialoga con Sergio Giuntini\, autore di Biciclette partigiane. Venti storie di ciclismo e Resistenza (2022\, Editore Bolis).  \nNella storia la bicicletta è sempre stata strumento di libertà ed emancipazione: sociale\, politica\, culturale. Tra il 1943 e il 1945 non poteva che battersi anche contro il nazifascismo\, diventando preziosa alleata della lotta partigiana. Con gli strumento dello storico e il passo del narratore\, Sergio Giuntini riunisce in questo volume venti storie di ciclismo e Resistenza\, alternando vicende di nomi conosciuti-da Luigi Ganna a Toni Bevilacqua\, da Gianni Brera ad Alfredo Martini-a fatti e figure meno noti della storia della guerra civile su due ruote. \n  \n 
URL:https://arci.bz.it/evento/presentazione-biciclette-partigiane-venti-storie-di-ciclismo-e-resistenza-resistenze/
LOCATION:Pippo\, Via Cadorna\, Bolzano\, Bolzano\, 39100\, Italia
ATTACH;FMTTYPE=image/png:https://arci.bz.it/wp-content/uploads/2023/04/29-aprile.png
ORGANIZER;CN="Arci":MAILTO:info@arci.bz.it
GEO:46.503046238143334;11.345657275882976
X-APPLE-STRUCTURED-LOCATION;VALUE=URI;X-ADDRESS=Pippo Via Cadorna Bolzano Bolzano 39100 Italia;X-APPLE-RADIUS=500;X-TITLE=Via Cadorna:geo:11.345657275882976,46.503046238143334
END:VEVENT
END:VCALENDAR