BEGIN:VCALENDAR
VERSION:2.0
PRODID:-//Arci Bolzano - Bozen - ECPv6.6.3//NONSGML v1.0//EN
CALSCALE:GREGORIAN
METHOD:PUBLISH
X-ORIGINAL-URL:https://arci.bz.it
X-WR-CALDESC:Eventi per Arci Bolzano - Bozen
REFRESH-INTERVAL;VALUE=DURATION:PT1H
X-Robots-Tag:noindex
X-PUBLISHED-TTL:PT1H
BEGIN:VTIMEZONE
TZID:Europe/Rome
BEGIN:DAYLIGHT
TZOFFSETFROM:+0100
TZOFFSETTO:+0200
TZNAME:CEST
DTSTART:20220327T010000
END:DAYLIGHT
BEGIN:STANDARD
TZOFFSETFROM:+0200
TZOFFSETTO:+0100
TZNAME:CET
DTSTART:20221030T010000
END:STANDARD
END:VTIMEZONE
BEGIN:VEVENT
DTSTART;TZID=Europe/Rome:20221202T203000
DTEND;TZID=Europe/Rome:20221202T203000
DTSTAMP:20260421T175933
CREATED:20221118T082602Z
LAST-MODIFIED:20221118T082757Z
UID:6713-1670013000-1670013000@arci.bz.it
SUMMARY:IRIE VIBES #2
DESCRIPTION:IRIE VIBES #2 \nProgramma:  \n\nVinyl Club \nPier Tosi aka Mr Soul Shakedown Party \nJoe Discheto aka Ruff D \nCool Rulers live band \nKiuppo selecta \n\n  \nDalle 21.05 alle 01.00 \nLive & Direct on Mountain Top Reggae Station   \nRadio Tandem  \n  \n 
URL:https://arci.bz.it/evento/irie-vibes-2/
LOCATION:Pippo\, Via Cadorna\, Bolzano\, Bolzano\, 39100\, Italia
ATTACH;FMTTYPE=image/jpeg:https://arci.bz.it/wp-content/uploads/2022/11/vibes.jpg
ORGANIZER;CN="Arci":MAILTO:info@arci.bz.it
GEO:46.503046238143334;11.345657275882976
X-APPLE-STRUCTURED-LOCATION;VALUE=URI;X-ADDRESS=Pippo Via Cadorna Bolzano Bolzano 39100 Italia;X-APPLE-RADIUS=500;X-TITLE=Via Cadorna:geo:11.345657275882976,46.503046238143334
END:VEVENT
BEGIN:VEVENT
DTSTART;TZID=Europe/Rome:20221204T203000
DTEND;TZID=Europe/Rome:20221204T233000
DTSTAMP:20260421T175933
CREATED:20221118T082018Z
LAST-MODIFIED:20221118T082203Z
UID:6708-1670185800-1670196600@arci.bz.it
SUMMARY:Blindur Exit Tour
DESCRIPTION:Blindur presenterà l’ultimo suo lavoro dal titolo “Exit” \nL’evento sarà aperto dal nostro Yomer \nUn disco che è bellezza\, quasi perfezione. Un viaggio tra “le discese ardite e le risalite” per esplorare e provare a capire cos’è un’emozione pura. Mettete play e abbandonatevi…tornerete a meravigliarvi! \nExit è un gioiello raro\, con una luce diversa per ogni sfaccettatura. Si tratta di un lavoro maturo\, che basta a se stesso\, esemplare di un’intera carriera\, il disco perfetto. L’unico stupore più grande dopo l’ascolto di questo disco è l’immaginare che il prossimo lavoro possa essere ancora migliore…. \n  \nOra: 20.30 \nOpening: Yomer \nTicket: 10 € \n  \n 
URL:https://arci.bz.it/evento/blindur-exit-tour/
LOCATION:Pippo\, Via Cadorna\, Bolzano\, Bolzano\, 39100\, Italia
ATTACH;FMTTYPE=image/jpeg:https://arci.bz.it/wp-content/uploads/2022/11/blindur.jpg
ORGANIZER;CN="Arci":MAILTO:info@arci.bz.it
GEO:46.503046238143334;11.345657275882976
X-APPLE-STRUCTURED-LOCATION;VALUE=URI;X-ADDRESS=Pippo Via Cadorna Bolzano Bolzano 39100 Italia;X-APPLE-RADIUS=500;X-TITLE=Via Cadorna:geo:11.345657275882976,46.503046238143334
END:VEVENT
END:VCALENDAR