BEGIN:VCALENDAR
VERSION:2.0
PRODID:-//Arci Bolzano - Bozen - ECPv6.6.3//NONSGML v1.0//EN
CALSCALE:GREGORIAN
METHOD:PUBLISH
X-ORIGINAL-URL:https://arci.bz.it
X-WR-CALDESC:Eventi per Arci Bolzano - Bozen
REFRESH-INTERVAL;VALUE=DURATION:PT1H
X-Robots-Tag:noindex
X-PUBLISHED-TTL:PT1H
BEGIN:VTIMEZONE
TZID:Europe/Rome
BEGIN:DAYLIGHT
TZOFFSETFROM:+0100
TZOFFSETTO:+0200
TZNAME:CEST
DTSTART:20220327T010000
END:DAYLIGHT
BEGIN:STANDARD
TZOFFSETFROM:+0200
TZOFFSETTO:+0100
TZNAME:CET
DTSTART:20221030T010000
END:STANDARD
END:VTIMEZONE
BEGIN:VEVENT
DTSTART;TZID=Europe/Rome:20220401T210000
DTEND;TZID=Europe/Rome:20220401T220000
DTSTAMP:20260422T081434
CREATED:20220323T153902Z
LAST-MODIFIED:20220330T095218Z
UID:4946-1648846800-1648850400@arci.bz.it
SUMMARY:C'MON: le esibizioni - prima serata
DESCRIPTION:C’MON: le esibizioni\nIl 1° e il 2 aprile i tre gruppi di partecipanti a C’MON\, nuovo progetto teatrale di Arci Bolzano. Porteranno in scena tre spettacoli inediti\, preparati nel mese di marzo. Alle due serate con loro ci saranno Christian Marazziti e Angelo Orlando\, due professionisti del mondo del teatro e del cinema\, attori\, registi e produttori! \n\nQuando?\nIl 1° e il 2 aprile al Pippo.stage di Bolzano. \nProgramma:\nI tre gruppi porteranno in scena ciascuno uno spettacolo. Il programma è il seguente: \n-1° aprile ore 21\n“Autostop” e “Buongiorno sole!”\nDella durata di 25’ a spettacolo. \n-2 aprile alle ore 21 \n“Ester (una storia normale)” \nDella durata di 50’ \nCosa?\nC’MON è un progetto teatrale nuovo ed inedito che coinvolge sei attori e due registi. Gli otto partecipanti\, scelti con a estrazione tra gli iscritti alla call\, sono: \n\nAlfredo Holzner\, \nBenedetta Conte\, \nGennaro Carrano\, \nGreta Maria Francesca Cosa\, \nIsabella Repole\, \nSirio Gini\, \nStefania Romanato\, \nTeresa Chiurazzi.\n\nDivisi in tre gruppi\, i partecipanti hanno ricevuto un contributo per le spese di produzione. Nel mese di marzo si sono poi autonomamente dedicati all’ideazione e alla preparazione degli spettacoli con il supporto dell’attrice e regista altoatesina Anika Schluderbacher. \nDue ospiti d’eccezione:\nAlle due serrate live saranno con noi i registi\, attori e produttori Christian Marazziti e Angelo Orlando. \n\n\n\nIl progetto C’MON nasce da un’idea di Anika Schluderbacher all’interno della rassegna Teatro Aut\, grazie al sostegno dell’Ufficio Cultura della Provincia Autonoma di Bolzano.\n\n\n\nL’ingresso è libero\, ma i posti sono limitati. Prenota il tuo posto:
URL:https://arci.bz.it/evento/cmon-le-esibizioni-prima-serata/
LOCATION:Pippo\, Via Cadorna\, Bolzano\, Bolzano\, 39100\, Italia
ATTACH;FMTTYPE=image/jpeg:https://arci.bz.it/wp-content/uploads/2022/03/immagineFB_CMON.jpg
ORGANIZER;CN="Arci":MAILTO:info@arci.bz.it
GEO:46.503046238143334;11.345657275882976
X-APPLE-STRUCTURED-LOCATION;VALUE=URI;X-ADDRESS=Pippo Via Cadorna Bolzano Bolzano 39100 Italia;X-APPLE-RADIUS=500;X-TITLE=Via Cadorna:geo:11.345657275882976,46.503046238143334
END:VEVENT
BEGIN:VEVENT
DTSTART;TZID=Europe/Rome:20220402T210000
DTEND;TZID=Europe/Rome:20220402T220000
DTSTAMP:20260422T081434
CREATED:20220323T154113Z
LAST-MODIFIED:20220330T095258Z
UID:4966-1648933200-1648936800@arci.bz.it
SUMMARY:C'MON: le esibizioni - seconda serata
DESCRIPTION:C’MON: le esibizioni\nIl 1° e il 2 aprile i tre gruppi di partecipanti a C’MON\, nuovo progetto teatrale di Arci Bolzano. Porteranno in scena tre spettacoli inediti\, preparati nel mese di marzo. Alle due serate con loro ci saranno Christian Marazziti e Angelo Orlando\, due professionisti del mondo del teatro e del cinema\, attori\, registi e produttori! \n\nQuando?\nIl 1° e il 2 aprile al Pippo.stage di Bolzano. \nProgramma:\nI tre gruppi porteranno in scena ciascuno uno spettacolo. Il programma è il seguente: \n-1° aprile ore 21\n“Autostop” e “Buongiorno sole!”\nDella durata di 25’ a spettacolo. \n-2 aprile alle ore 21 \n“Ester (una storia normale)” \nDella durata di 50’ \nCosa?\nC’MON è un progetto teatrale nuovo ed inedito che coinvolge sei attori e due registi. Gli otto partecipanti\, scelti con a estrazione tra gli iscritti alla call\, sono: \n\nAlfredo Holzner\, \nBenedetta Conte\, \nGennaro Carrano\, \nGreta Maria Francesca Cosa\, \nIsabella Repole\, \nSirio Gini\, \nStefania Romanato\, \nTeresa Chiurazzi.\n\nDivisi in tre gruppi\, i partecipanti hanno ricevuto un contributo per le spese di produzione. Nel mese di marzo si sono poi autonomamente dedicati all’ideazione e alla preparazione degli spettacoli con il supporto dell’attrice e regista altoatesina Anika Schluderbacher. \nDue ospiti d’eccezione:\nAlle due serrate live saranno con noi i registi\, attori e produttori Christian Marazziti e Angelo Orlando. \n\n\n\nIl progetto C’MON nasce da un’idea di Anika Schluderbacher all’interno della rassegna Teatro Aut\, grazie al sostegno dell’Ufficio Cultura della Provincia Autonoma di Bolzano.\n\n\n\nL’ingresso è libero\, ma i posti sono limitati. Prenota il tuo posto:
URL:https://arci.bz.it/evento/cmon-le-esibizioni-seconda-serata/
LOCATION:Pippo\, Via Cadorna\, Bolzano\, Bolzano\, 39100\, Italia
ATTACH;FMTTYPE=image/jpeg:https://arci.bz.it/wp-content/uploads/2022/03/immagineFB_CMON.jpg
ORGANIZER;CN="Arci":MAILTO:info@arci.bz.it
GEO:46.503046238143334;11.345657275882976
X-APPLE-STRUCTURED-LOCATION;VALUE=URI;X-ADDRESS=Pippo Via Cadorna Bolzano Bolzano 39100 Italia;X-APPLE-RADIUS=500;X-TITLE=Via Cadorna:geo:11.345657275882976,46.503046238143334
END:VEVENT
BEGIN:VEVENT
DTSTART;TZID=Europe/Rome:20220404T093000
DTEND;TZID=Europe/Rome:20220404T120000
DTSTAMP:20260422T081434
CREATED:20220330T093122Z
LAST-MODIFIED:20220404T085206Z
UID:4987-1649064600-1649073600@arci.bz.it
SUMMARY:La Marcia dei Bruchi a Merano
DESCRIPTION:Il 4 aprile la Marcia dei Bruchi arriva anche a Merano!\nDiverse realtà associazionistiche di Merano\, il Coworking della Memoria\, UPAD\, Centro Giovani Strike Up\, JugendDienst Meran\, BeYoung e Centro Giovani TILT\, sostenute dal Comune di Merano\, hanno deciso di aderire all’iniziativa regionale Marcia dei Bruchi\, promossa dall’attivista per i diritti umani e marciatore per la pace John Mpaliza\, che dal 2010 si impegna a sensibilizzare l’opinione pubblica e le istituzioni\, così come i e le giovani in Italia\, sui diritti civili e sull’importanza della cura del pianeta terra. Lo fa partendo dal ricordare il dramma che vive il popolo congolese – vittima di un conflitto economico strettamente legato alla nostra tecnologia – e mira a creare momenti di dialogo e confronto costruttivo sui nostri stili di vita e momenti di riflessone su quanto il benessere di un mondo\, quello sviluppato ed arricchito\, spesso e volentieri\, dipenda da violazioni di diritti umani in un “altro” mondo\, quello impoverito. \nLa Marcia a Merano: “The victims of our wealth”\nA Merano la Marcia seguirà il tragitto tracciato dall’esposizione della mostra fotografica “The victims of our wealth” del fotografo Stefano Stranges\, allestita nelle sedi delle associazioni aderenti all’iniziativa. Con questa mostra il fotografo ci permette di guardare da un punto di vista critico un oggetto\, per molti indispensabile\, che tutti noi portiamo in tasca: lo smartphone. Minerale fondamentale per la creazione dei telefoni cellulare è il coltan\, che viene estratto nel Nord Kivu (Congo) generando catastrofiche conseguenze sull’ambiente\, nonché sulla popolazione locale. La violazione dei diritti umani è all’ordine del giorno in quanto la popolazione è ridotta in schiavitù e lavora nelle miniere con dei livelli di sicurezza inesistenti; a peggiorare questa situazione di deprivazione la mancanza di scolarizzazione e l’altissima corruzione governativa. \nIl programma e i temi\nLa Marcia inizierà alle ore 09:30 del lunedì 04 Aprile 2022 in Via Ugo Foscolo\, 8 al Coworking della Memoria per proseguire poi verso le altre soste\, incluso il Comune di Merano. L’iniziativa si propone di sensibilizzare e responsabilizzare i giovani alla conoscenza dei diritti civili e alla cura del pianeta\, per garantire loro un futuro migliore\, coinvolgendoli nell’esperienza condivisa del camminare insieme. \nI temi della marcia comprendono\, tra gli altri\,: \n\nla Dichiarazione Universale dei Diritti Umani\,\nla risoluzione pacifica dei conflitti e delle guerre\,\ni cambiamenti climatici\,\nla sostenibilità ambientale\,\nil costo umano ed ambientale della nostra tecnologia\,\nl’Agenda 2030 e gli Obiettivi di Sviluppo Sostenibile\,\nil (cyber)bullismo\,\nle diversità\,\nle immigrazioni ed emigrazioni\nle politiche di accoglienza\,\ngiustizia e pace\,\nil disarmo e la nonviolenza.\n\nChiunque abbia voglia\, soprattutto i più giovani\, può venire a camminare con noi dove\, quando e quanto riesce. Sono benvenuti anche gli amici a quattro zampe e gli strumenti musicali. \n\n\n\nPer maggiori informazioni: marciadeibruchiMerano@gmail.com
URL:https://arci.bz.it/evento/la-marcia-dei-bruchi-a-merano/
LOCATION:Coworking della Memoria\, Via Ugo Foscolo\, 8\, Merano\, BZ\, 39012\, Italia
ATTACH;FMTTYPE=image/jpeg:https://arci.bz.it/wp-content/uploads/2022/03/277663433_411082094116005_4224310695338048872_n.jpg
ORGANIZER;CN="Arci":MAILTO:info@arci.bz.it
END:VEVENT
BEGIN:VEVENT
DTSTART;TZID=Europe/Rome:20220422T210000
DTEND;TZID=Europe/Rome:20220422T230000
DTSTAMP:20260422T081434
CREATED:20220412T083120Z
LAST-MODIFIED:20220420T133919Z
UID:5057-1650661200-1650668400@arci.bz.it
SUMMARY:PrimAscesa: la montagna creata dall'uomo - a Merano
DESCRIPTION:EVENTO ANNULLATO\n\nAPRI-LE SENSIBILITÀ a Merano \nIn occasione della Giornata della Terra proiezione del documentario “PrimAscesa – la montagna creata dall’uomo” che narra l’eccezionale prima ascesa da parte di due alpinisti trentini di una delle ultime cime inviolate rimaste al mondo: una montagna di rifiuti. Con noi ci sarà il regista Leonardo Panizza!\n\n\nQuando?\nIl 22 aprile 2022 alle 19.\nDove\nAl circolo il Coworking della Memoria a Merano\, in via Ugo Foscolo n.8\n\nCosa?\nL’inquinamento ambientale e la massiccia presenza di rifiuti è un dramma che coinvolge anche la montagna e le cime più remote. Due giovani scalatori e alpinisti trentini\, alla ricerca di una vetta ancora inviolata\, decidono di volgere lo sguardo a una delle cime su cui nessuno ha ancora osato avventurarsi: una montagna creata dall’uomo\, impervia e maleodorante. Leonardo Panizza\, alla sua prima prova da regista\, insieme a Simon Sartori e Giovanni Moscon\, affrontano\, come una vera e propria spedizione\, e raccontano nel documentario una scalata surreale attraverso una discarica. Davanti all’obiettivo mettono ciò che vogliamo rimuovere dalle nostre vite e dall’inconscio collettivo: i prodotti di rifiuto del nostro quotidiano che plasmano la natura e la realtà creando nuovi orizzonti e nuove maleodoranti montagne\, ancora da esplorare. \n\n\n\nRegista\n\n\nLEONARDO PANIZZA \n\nPsicologo\, frequenta da sempre le montagne del Trentino\, cercando di narrare attraverso le parole luoghi non addomesticati\, ancora capaci di stupire e sorprendere. Si dedica principalmente all’arrampicata e allo scialpinismo\, e dopo alcuni anni di narrazione scritta e brevi video\, con PRIMASCESA realizza il suo primo documentario mediometraggio. \n\n\n\n\n\n\n\n\n\nLa partecipazione è gratuita.\n\n\n\n\n\nIl documentario “PrimAscesa – la montagna creata dall’uomo” ha vinto molti premi internazionali ed è stato inviato a vari altri festival.\nPer rispettare le normative vigenti\, i posti sono limitati e verrà richiesto il Super Green Pass!\nPer partecipare
URL:https://arci.bz.it/evento/primascesa-la-montagna-creata-dalluomo-a-merano/
LOCATION:Coworking della Memoria\, Via Ugo Foscolo\, 8\, Merano\, BZ\, 39012\, Italia
ATTACH;FMTTYPE=image/jpeg:https://arci.bz.it/wp-content/uploads/2022/04/PrimaAscesa.jpg
END:VEVENT
BEGIN:VEVENT
DTSTART;TZID=Europe/Rome:20220425T150000
DTEND;TZID=Europe/Rome:20220425T230000
DTSTAMP:20260422T081434
CREATED:20220414T085504Z
LAST-MODIFIED:20220414T115823Z
UID:5028-1650898800-1650927600@arci.bz.it
SUMMARY:Festa del 25 aprile al Talvera
DESCRIPTION:Una festa popolare in occasione della Giornata della Liberazione organizzata da una rete di associazioni locali tra cui Arci Bolzano\, Auser Vssh\, Ada/Vrs ed altre\, patrocinata dal Comune di Bolzano.\n\nCerimonie\, musica e gastronomia: un programma intenso per celebrare assieme il 25 aprile sul Talvera\n\nDove?\nPresso il piazzale delle Feste ai Prati del Talvera. \nQuando?\nIl 25 aprile\, dalle 15 alle 23. \nIl programma\nL’evento comincerà alle 15 con i saluti ufficiali del sindaco e a seguire si esibirà il coro Bella Ciao di Trento. \nSi aprirà poi la pista del ballo liscio con Tino e Luciano. \nDalle 17.30 alle 18.30 ci metteremo invece in collegamento online con realtà associative presenti in Romania e Moldavia al confine con l’Ucraina e con un referente della Bosnia Erzegovina per avere aggiornamenti sulla reale situazione sui territori\, per parlare di pace e di quali siano le migliori strategie per ottenerla. Gli interventi saranno intervallati da reading teatrali sui temi della Resistenza e\, quest’anno\, rivolgeremo una particolare attenzione a quanto sta accadendo nella vicina Ucraina. \nInfatti alle 19 ospiteremo sul palco i musicisti dell’associazione musicale Sissamba\, orchestra di percussioni altoatesina guidata dal ladino Max Castlunger. Chiuderà la serata la band ska milanese Vallanzaska. \nPer tutta la durata dell’evento sarà con noi “La star della piadina” di Danilo Fusari. \n\n\n\nPer maggiori informazioni: info@arci.bz.it 
URL:https://arci.bz.it/evento/festa-del-25-aprile-al-talvera/
LOCATION:Piazzale delle feste su prati del Talvera.\, Lungotalvera Bolzano\, 10\, Bolzano\, 39100
ATTACH;FMTTYPE=image/png:https://arci.bz.it/wp-content/uploads/2022/04/1.png
ORGANIZER;CN="Arci":MAILTO:info@arci.bz.it
END:VEVENT
BEGIN:VEVENT
DTSTART;TZID=Europe/Rome:20220429T180000
DTEND;TZID=Europe/Rome:20220429T193000
DTSTAMP:20260422T081434
CREATED:20220427T103048Z
LAST-MODIFIED:20220427T103048Z
UID:5175-1651255200-1651260600@arci.bz.it
SUMMARY:Gramsci e le donne
DESCRIPTION:Quando e dove?\nVenerdì 29 aprile dalle 18.00 alle 19.30 al Bar 2000 Pippo. \nCosa?\nIl Circolo Culturale ANPI Franca “Anita” Turra Hans Egarter\, Arci Bolzano e il Centro Pace del Comune di Bolzano\, con il sostegno degli Assessorati alla Cultura di Provincia e Comune di Bolzano\, promuovono un dialogo con Noemi Ghetti sul suo libro “Gramsci e le donne Gli affetti\, gli amori\, le idee” (Donzelli editore).\nSarà possibile acquistare il libro grazie alla collaborazione con la libreria Ubik.\n\nScheda libro\n«Fondata sulla certezza della naturale uguaglianza degli esseri umani\, unita a un’originale sensibilità nei confronti della “quistione sessuale”\, l’attenzione di Gramsci alla posizione da sempre subalterna delle donne si consolida\, attraverso la prassi politica e la riflessione carceraria\, nell’idea della necessità dello sviluppo di una nuova identità femminile\, intimamente libera da schiavitù arcaiche e da condizionamenti culturali. Senza una donna nuova\, non ci sarà mai l’“uomo nuovo” teorizzato dai rivoluzionari socialisti».\nLo stretto intreccio tra dimensione politica e vita privata\, degli affetti familiari e delle relazioni sentimentali\, è una caratteristica essenziale della vicenda umana di Antonio Gramsci. Da qualunque angolazione lo si guardi\, il rapporto tra Gramsci e le donne appare come un punto decisivo nella sua complessa esperienza umana e intellettuale. Il libro si dipana sul doppio filo della ricostruzione\, da un lato\, dei rapporti tra Gramsci e le donne della sua vita e\, dall’altro\, della sua riflessione sui temi del femminile\, dell’identità sessuale e del ruolo storico delle donne nei processi di liberazione. Attraverso un attento esame degli scritti gramsciani\, in particolare delle lettere\, e lo studio dei carteggi\, dei documenti e delle testimonianze delle donne che lo conobbero\, Noemi Ghetti ricompone il quadro di un rapporto originale del pensatore sardo con il mondo femminile\, che acquista una centralità fin qui non sufficientemente indagata. In famiglia\, in amore e in politica\, dalle origini sarde al biennio rosso torinese\, attraverso la decisiva esperienza russa del 1922-1923 e nella lunga detenzione\, le donne furono le destinatarie privilegiate delle sue lettere. Dalla madre alla sorella e alle altre donne della sua famiglia – nei cui confronti non cesserà mai l’attenzione e il dialogo più profondo –\, passando per le prime compagne del comune impegno rivoluzionario\, con cui non mancheranno gli amori\, fino alle tre sorelle russe: Eugenia\, Giulia e Tatiana Schucht\, destinate a diventare\, ciascuna a suo modo\, le referenti indispensabili di una complessa e dolorosa vicenda umana\, in cui ragioni e sentimenti\, richiami ideali e occorrenze della vita quotidiana si fondono e si confondono. La necessità storica dello sviluppo di un’identità personale nuova e di una concreta autonomia delle donne\, l’attenzione verso la realtà più profonda del mondo femminile\, l’intima certezza della diversità nell’uguaglianza\, la lucida consapevolezza della loro storica subalternità rendono Gramsci un caso unico per sensibilità e onestà di ricerca nel panorama dei politici del tempo\, e non solo.\n\n\n\nNoemi Ghetti\nNoemi Ghetti\, a lungo docente nei licei\, è laureata in Storia greca all’Università di Padova e ha compiuto studi filosofici all’Università di Firenze. Oggi abita e lavora a Roma. Collabora con numerose riviste ed è autrice di trasposizioni di classici per ragazzi\, di testi per reading e libretti per drammi musicali. Saggista\, ha pubblicato L’ombra di Cavalcanti e Dante (2011) e Gramsci nel cieco carcere degli eretici (2014) per L’Asino d’oro\, e La cartolina di Gramsci. A Mosca\, tra politica e amori\, 1922-1924 (2016) per Donzelli. \n\nPartecipazione libera\n\n\n  \n  \n 
URL:https://arci.bz.it/evento/gramsci-e-le-donne/
LOCATION:Pippo\, Via Cadorna\, Bolzano\, Bolzano\, 39100\, Italia
ATTACH;FMTTYPE=image/jpeg:https://arci.bz.it/wp-content/uploads/2022/04/Gramscieledonne.jpg
GEO:46.503046238143334;11.345657275882976
X-APPLE-STRUCTURED-LOCATION;VALUE=URI;X-ADDRESS=Pippo Via Cadorna Bolzano Bolzano 39100 Italia;X-APPLE-RADIUS=500;X-TITLE=Via Cadorna:geo:11.345657275882976,46.503046238143334
END:VEVENT
BEGIN:VEVENT
DTSTART;TZID=Europe/Rome:20220429T200000
DTEND;TZID=Europe/Rome:20220429T200000
DTSTAMP:20260422T081434
CREATED:20220420T074810Z
LAST-MODIFIED:20220422T114424Z
UID:5115-1651262400-1651262400@arci.bz.it
SUMMARY:Nel nome del padre. I figli nati dagli stupri etnici durante la guerra in ex-Jugoslavia
DESCRIPTION:Quando e Dove?\nIl 29 aprile alle ore 20.00 al Pippo \n\nCosa?\nAjna Jusic sarà al Pippo di Bolzano  il 29 aprile per raccontare la sua storia e il lavoro della sua associazione\, Forgotten Children of War.\n\n\n\nAd aprile di 30 anni fa iniziò la guerra in Bosnia-Erzegovina\, che ha nell’assedio di Sarajevo e nel genocidio di Srebrenica i due momenti più conosciuti mediaticamente.\nUna guerra che ha provocato circa 100.000 morti e prodotto nuove categorie di crimini contro l’umanità come le pulizie etniche e lo stupro etnico.\nIl tema degli stupri etnici – nonostante il Tribunale per i Crimini di guerra in ex Jugoslavia\, per la prima volta nella storia\, li abbia riconosciuti come crimini contro l’umanità – è un tema che ha trovato pochissimo spazio nella narrativa pubblica e ancora meno le storie dei bambini nati da queste violenze di massa.\nAjna è una persona speciale e ha un modo potente\, ma adeguato all’audience\, per raccontare anche a dei ragazzi la sua storia.\n\n\n\nIngresso libero  e green pass “rafforzato”\n\n Il 28 aprile alle ore 18.00 ci sarà lo stesso evento sarà anche a Trento presso il Café de la Paix Circolo Arci\n\nVi aspettiamo!
URL:https://arci.bz.it/evento/nel-nome-del-padre-i-figli-nati-dagli-stupri-etnici-durante-la-guerra-in-ex-jugoslavia/
LOCATION:Pippo\, Via Cadorna\, Bolzano\, Bolzano\, 39100\, Italia
ATTACH;FMTTYPE=image/jpeg:https://arci.bz.it/wp-content/uploads/2022/04/nel-nome-del-patre.jpg
ORGANIZER;CN="Arciragazzi":MAILTO:arciragazzi@arci.bz.it
GEO:46.503046238143334;11.345657275882976
X-APPLE-STRUCTURED-LOCATION;VALUE=URI;X-ADDRESS=Pippo Via Cadorna Bolzano Bolzano 39100 Italia;X-APPLE-RADIUS=500;X-TITLE=Via Cadorna:geo:11.345657275882976,46.503046238143334
END:VEVENT
BEGIN:VEVENT
DTSTART;TZID=Europe/Rome:20220430T103000
DTEND;TZID=Europe/Rome:20220430T173000
DTSTAMP:20260422T081434
CREATED:20220422T112708Z
LAST-MODIFIED:20220422T113538Z
UID:5129-1651314600-1651339800@arci.bz.it
SUMMARY:History Line storytelling itinerante a Bolzano
DESCRIPTION:Quando e dove?\nIl 30 aprile alle ore 10.30 e in replica alle 15.30 con partenza da Piazza Matteotti a Bolzano. \nCosa?\nRitorna HISTORY LINE!\nlo spettacolo di storytelling itinerante che porta i viaggiatori-spettatori nei luoghi simbolo della memoria di Bolzano. \n4 storytellers e un musicista ripercorreranno le tappe della storia della città\, dall’avvento del fascismo al secondo dopoguerra\, passando per gli anni del conflitto con i bombardamenti sulla città e la drammatica storia del Lager. \n\nL’autobus della memoria partirà il 30 Aprile da Piazza Matteotti alle ore 10.30 e in replica alle ore 15.30 (per una durata prevista di 90 minuti).\nI posti a Bordo sono solo 50! Non perdete la possibilità di viaggiare nel storia della città. \nEvento di storytelling itinerante gratuito\, età consigliata +10 anni \nUna iniziativa di Sagapò teatro e Arci Bolzano \n\nPer prenotare scrivere a prenotazioni.sagapo@gmail.com
URL:https://arci.bz.it/evento/history-line-storytelling-itinerante-a-bolzano/
ATTACH;FMTTYPE=image/jpeg:https://arci.bz.it/wp-content/uploads/2022/04/279031441_5081045015309561_8808086092392124752_n-e1650626735591.jpg
END:VEVENT
END:VCALENDAR