BEGIN:VCALENDAR
VERSION:2.0
PRODID:-//Arci Bolzano - Bozen - ECPv6.6.3//NONSGML v1.0//EN
CALSCALE:GREGORIAN
METHOD:PUBLISH
X-ORIGINAL-URL:https://arci.bz.it
X-WR-CALDESC:Eventi per Arci Bolzano - Bozen
REFRESH-INTERVAL;VALUE=DURATION:PT1H
X-Robots-Tag:noindex
X-PUBLISHED-TTL:PT1H
BEGIN:VTIMEZONE
TZID:Europe/Rome
BEGIN:DAYLIGHT
TZOFFSETFROM:+0100
TZOFFSETTO:+0200
TZNAME:CEST
DTSTART:20220327T010000
END:DAYLIGHT
BEGIN:STANDARD
TZOFFSETFROM:+0200
TZOFFSETTO:+0100
TZNAME:CET
DTSTART:20221030T010000
END:STANDARD
END:VTIMEZONE
BEGIN:VEVENT
DTSTART;TZID=Europe/Rome:20220201T180000
DTEND;TZID=Europe/Rome:20220201T200000
DTSTAMP:20260422T125801
CREATED:20220120T095907Z
LAST-MODIFIED:20220120T100028Z
UID:4428-1643738400-1643745600@arci.bz.it
SUMMARY:#notonlyapples Merano 400 anni fa
DESCRIPTION:Terzo incontro del ciclo #notonlyapples presso il Coworking della Memoria a Merano.\nQuando?\nIl 1° febbraio 2022 ore 18.00. \nCosa?\nQuesta terza serata sarà a cura dello storico locale nonché saggista\, Alessandro Baccin. Il dott. Baccin è inoltre il direttore dell’associazione Tangram\, attiva da anni a Merano\, che continua ad offrire stimoli per la crescita culturale della cittadinanza. Merano nel Seicento era abitata da poche migliaia di persone\, eppure ciò che vissero quelle generazioni di giovani ha dello straordinario: nacquero nel periodo più freddo della storia della città\, molti andarono a morire tra le file dei lanzichenecchi\, altri preferirono mangiare l’erba dei campi pur di sopravvivere. Alcune giovani donne vivevano nel terrore di essere accusate di stregoneria per aver curato dei malati con piante officinali\, altre invece trovavano protezione e agio al riparo di un convento. Poi però arrivò la peste che non fece nessuna distinzione tra ricchi e poveri e lasciò una regione con un terzo in meno degli abitanti… di questo e molto altro parleremo durante questo incontro. \nCos’è #notonlyapples?\n#notonlyapples è una rassegna di incontri sulla storia della città di Merano\, nata da una semplice chiacchierata tra vecchie e nuove generazioni. Proprio in queste ultime si è generato il desiderio di scoprire di più del territorio che abitiamo. Un territorio che non può essere rappresentato solo dai campi e dagli alberi di mele…un territorio ricco di storia e aneddoti particolari. \n\nCome sono arrivati i romani?\nCom’era la vita nel Medioevo?\nCos’è la piccola glaciazione?\nCome è nata la Merano turistica?\nCome si viveva all’inizio del Novecento?\n\nTutte domande che troveranno una risposta in questo ciclo di incontri\, serate che hanno anche l’obiettivo di dare spazio ai giovani meranesi: alcuni di loro infatti porteranno interventi in questo percorso.\n\n\n\n\nL’evento è libero ma i posti sono limitati ed è quindi necessario compilare il modulo per partecipare.\nVerrà richiesto il Super Green Pass!\n\n\n\n\n\n\nEvento organizzato da Arci Bolzano e Coworking delle Memoria\nSe non riuscirai ad esserci in presenza\, potrai vedere la diretta sulla nostra pagina FB.
URL:https://arci.bz.it/evento/notonlyapples-merano-400-anni-fa/
LOCATION:Coworking della Memoria\, Via Ugo Foscolo\, 8\, Merano\, BZ\, 39012\, Italia
ATTACH;FMTTYPE=image/png:https://arci.bz.it/wp-content/uploads/2022/01/LOCANDINA-EVENTO-600-1.02.2022-1-2-1.png
ORGANIZER;CN="Arci":MAILTO:info@arci.bz.it
END:VEVENT
BEGIN:VEVENT
DTSTART;TZID=Europe/Rome:20220208T180000
DTEND;TZID=Europe/Rome:20220208T200000
DTSTAMP:20260422T125801
CREATED:20220203T165428Z
LAST-MODIFIED:20220203T165551Z
UID:4603-1644343200-1644350400@arci.bz.it
SUMMARY:#notonlyapples Merano luogo di cura e villeggiatura
DESCRIPTION:Quarto incontro del ciclo #notonlyapples presso il Coworking della Memoria a Merano.\nQuando?\nL’8 febbraio 2022 ore 18.00. \nCosa?\nQuesta penultima serata sarà a cura di Paul Rösch\, già sindaco di Merano\, direttore del museo del turismo presso il castel Trauttmansdorff\, presidente per 22 anni dell’università popolare Urania\, studioso\, etnologo\, nonché autore di numerosi libri e articoli.\nPaul ci racconterà la Merano dell’Ottocento\, luogo di cura e di villeggiatura dell’Impero austro-ungarico. Nell’Ottocento il Burgraviato è stato anche luogo delle guerre di liberazione del Tirolo guidate da Andreas Hofer. In questo secolo la città di Merano si espanse al di fuori delle sue mura su modelli urbanistici di derivazione viennese e salisburghese. Grazie anche ai suoi eleganti edifici Jugendstil\, Merano diventò un’attraente città turistica: ricordiamo\, tra gli altri\, che l’imperatrice Sissi e gli scrittori Franz Kafka e Gottfried Benn trascorsero qui le loro vacanze.\n\nCos’è #notonlyapples?\n#notonlyapples è una rassegna di incontri sulla storia della città di Merano\, nata da una semplice chiacchierata tra vecchie e nuove generazioni. Proprio in queste ultime si è generato il desiderio di scoprire di più del territorio che abitiamo. Un territorio che non può essere rappresentato solo dai campi e dagli alberi di mele…un territorio ricco di storia e aneddoti particolari. \n\nCome sono arrivati i romani?\nCom’era la vita nel Medioevo?\nCos’è la piccola glaciazione?\nCome è nata la Merano turistica?\nCome si viveva all’inizio del Novecento?\n\nTutte domande che troveranno una risposta in questo ciclo di incontri\, serate che hanno anche l’obiettivo di dare spazio ai giovani meranesi: alcuni di loro infatti porteranno interventi in questo percorso.\n\n\n\n\nL’evento è libero ma i posti sono limitati ed è quindi necessario compilare il modulo per partecipare.\nVerrà richiesto il Super Green Pass!\n\n\n\n\n\n\nEvento organizzato da Arci Bolzano e Coworking delle Memoria\nSe non riuscirai ad esserci in presenza\, potrai vedere la diretta sulla nostra pagina FB.
URL:https://arci.bz.it/evento/notonlyapples-merano-luogo-di-cura-e-villeggiatura/
LOCATION:Coworking della Memoria\, Via Ugo Foscolo\, 8\, Merano\, BZ\, 39012\, Italia
ATTACH;FMTTYPE=image/jpeg:https://arci.bz.it/wp-content/uploads/2022/02/notonlyapples4.jpg
ORGANIZER;CN="Arci":MAILTO:info@arci.bz.it
END:VEVENT
BEGIN:VEVENT
DTSTART;TZID=Europe/Rome:20220215T180000
DTEND;TZID=Europe/Rome:20220215T200000
DTSTAMP:20260422T125801
CREATED:20220210T152524Z
LAST-MODIFIED:20220210T152524Z
UID:4642-1644948000-1644955200@arci.bz.it
SUMMARY:#notonlyapples Merano nel '900
DESCRIPTION:Quinto ed ultimo incontro del ciclo #notonlyapples presso il Coworking della Memoria a Merano.\nQuando?\nIl 15 febbraio 2022 ore 18.00. \nCosa?\nIl ciclo di incontri #notonlyapples volge al termine! Questa ultima serata sarà a cura di di Pietro Fogale\, docente presso la Scuola Professionale Savoy di Merano. Fogale ha studiato tra Venezia\, Ambrugo\, Innsbruck e Gerusalemme ed è autore e traduttore di diversi articoli sulla storia locale. È stato inoltre mediatore culturale presso il Museo Archeologico dell’Alto Adige e del Museo storico-culturale di Castel Tirolo e ha fatto parte del gruppo di lavoro “Pietre d’inciampo a Merano”.\nIl Novecento\, definito da Hobsbawm il secolo breve\, definito così dallo storico Hobsbawm\, è un secolo di profondi cambiamenti che coinvolgono drammaticamente anche la città di Merano. In un quarto di secolo\, Merano subirà ben cinque significativi cambi di indirizzo politico\, ognuno dei quali porterà con sé una nuova idea di politica e di storia\, ognuno di loro lascerà un’impronta sulla città. Su questo periodo\, relativamente breve ma denso di avvenimenti\, concentreremo la nostra attenzione per cogliere la dinamica del mutamento storico.\n\nCos’è #notonlyapples?\n#notonlyapples è una rassegna di incontri sulla storia della città di Merano\, nata da una semplice chiacchierata tra vecchie e nuove generazioni. Proprio in queste ultime si è generato il desiderio di scoprire di più del territorio che abitiamo. Un territorio che non può essere rappresentato solo dai campi e dagli alberi di mele…un territorio ricco di storia e aneddoti particolari. \n\nCome sono arrivati i romani?\nCom’era la vita nel Medioevo?\nCos’è la piccola glaciazione?\nCome è nata la Merano turistica?\nCome si viveva all’inizio del Novecento?\n\nTutte domande che troveranno una risposta in questo ciclo di incontri\, serate che hanno anche l’obiettivo di dare spazio ai giovani meranesi: alcuni di loro infatti porteranno interventi in questo percorso.\n\n\n\n\nL’evento è libero ma i posti sono limitati ed è quindi necessario compilare il modulo per partecipare.\nVerrà richiesto il Super Green Pass!\n\n\n\n\n\n\nEvento organizzato da Arci Bolzano e Coworking delle Memoria\nSe non riuscirai ad esserci in presenza\, potrai vedere la diretta sulla nostra pagina FB.
URL:https://arci.bz.it/evento/notonlyapples-merano-nel-novecento/
LOCATION:Coworking della Memoria\, Via Ugo Foscolo\, 8\, Merano\, BZ\, 39012\, Italia
ATTACH;FMTTYPE=image/jpeg:https://arci.bz.it/wp-content/uploads/2022/02/273711406_382369780320570_6789086427716148576_n.jpg
ORGANIZER;CN="Arci":MAILTO:info@arci.bz.it
END:VEVENT
BEGIN:VEVENT
DTSTART;TZID=Europe/Rome:20220217T180000
DTEND;TZID=Europe/Rome:20220217T193000
DTSTAMP:20260422T125801
CREATED:20220207T161322Z
LAST-MODIFIED:20220207T161322Z
UID:4635-1645120800-1645126200@arci.bz.it
SUMMARY:Il buon tedesco - incontro con Carlo Greppi
DESCRIPTION:Nell’ambito di Città della Memoria 2022 dialogo sul libro di Carlo Greppi “Il buon tedesco” (Editori Laterza) tra l’autore e la giornalista Floriana Gavazzi.\nQuando?\nIl 17 febbraio alle 18.00 al Teatro Comunale di Bolzano. \nScheda libro\n\nIl capitano Jacobs è un buon soldato\, rispettoso delle gerarchie\, onesto. Improvvisamente nel 1944\, assieme al suo attendente\, decide di passare\, armi in pugno\, dalla parte dei partigiani. Sceglie di combattere contro i propri camerati. Perché lo fa? Inseguendo la parabola di quest’uomo viene alla luce una grande storia dimenticata: furono centinaia i tedeschi e gli austriaci a percorrere lo stesso cammino. Un piccolo esercito senza patria e bandiera\, una pagina unica nella storia d’Italia.\nSui monti di Sarzana\, proprio lungo la Linea Gotica\, dove nel 1944 i combattimenti infuriavano con maggiore ferocia\, il capitano della marina tedesca Rudolf Jacobs\, ottimo soldato\, abbandonò le proprie fila. Non lo fece per fuggire da una guerra ormai persa\, ma per unirsi ai partigiani garibaldini\, fino a morire eroicamente durante l’assalto a una caserma delle Brigate nere fasciste. Apparentemente la sua sembra la storia di un’eccezione\, commovente e coraggiosa\, ma pur sempre un’eccezione rispetto alla nostra idea dei tedeschi zelanti combattenti della Germania nazista\, fedeli fino al suo crollo. Eppure questa eccezione non fu così solitaria e isolata: parliamo di centinaia di uomini\, almeno mille secondo le stime degli storici. O erano di più? Tedeschi e austriaci\, ‘banditi’\, ‘disertori’\, ‘senza patria’\, che hanno saputo dire di no agli ordini ingiusti\, che hanno rigettato la legge dell’onore e del sangue per scegliere quella della libertà e della coscienza. Partendo da tracce labili\, quasi svanite – un nome su una lapide\, poche righe nei documenti ufficiali\, qualche ricordo dei partigiani sopravvissuti –\, questo libro è un’indagine appassionata e coinvolgente che ci trascina alla riscoperta di una pagina di storia che nessuno in Italia ha mai raccontato in questo modo.\n\n\nChi è Carlo Greppi?\nStorico e scrittore\, i suoi ultimi libri sono i saggi “La storia ci salverà. Una dichiarazione d’amore” (Utet 2020)”\, “L’antifascismo non serve più a niente” (Laterza 2020)\, primo volume della serie a cura sua “Fact Checking: la Storia alla prova dei fatti” e “Si stava meglio quando si stava peggio. 20 luoghi comuni da sfatare” (Chiarelettere 2021). Membro del comitato scientifico dell’Istituto nazionale Ferruccio Parri\, che coordina la rete degli Istituti per la storia della Resistenza e dell’età contemporanea in Italia e socio fondatore dell’associazione Deina\, per la quale si occupa della redazione e della realizzazione di percorsi formativi sulla storia del Novecento e dell’organizzazione di viaggi della memoria e di istruzione. Fa parte del direttivo nazionale ed è vicepresidente dell’associazione Deina Torino\, della quale è stato presidente (2013-2019). \n\n\n\n\nDurante l’evento sarà possibile acquistare il libro “Il buon tedesco” e altri testi di Carlo Greppi\nQui il video di presentazione del libro https://www.facebook.com/editorilaterza/videos/1107534700056392\n\n\n\n\n\nL’ingresso è libero.\nVerrà richiesto il Super Green Pass.\n\n\n\n\nEvento organizzato dal Circolo Culturale ANPI Franca “Anita” Turra Hans Egarter e Arci Bolzano\, in collaborazione con il Comune di Bolzano\, il Teatro Stabile di Bolzano e la Fondazione Teatro\, la Libreria Ubik.
URL:https://arci.bz.it/evento/il-buon-tedesco-incontro-con-carlo-greppi/
LOCATION:Teatro Comunale di Bolzano\, Piazza Giuseppe Verdi\, 40\,\, Bolzano\, 39100
ATTACH;FMTTYPE=image/jpeg:https://arci.bz.it/wp-content/uploads/2022/02/il-buon-tedesco.jpg
ORGANIZER;CN="Arci":MAILTO:info@arci.bz.it
END:VEVENT
BEGIN:VEVENT
DTSTART;TZID=Europe/Rome:20220219T110000
DTEND;TZID=Europe/Rome:20220219T130000
DTSTAMP:20260422T125801
CREATED:20220207T104238Z
LAST-MODIFIED:20220215T095314Z
UID:4623-1645268400-1645275600@arci.bz.it
SUMMARY:Prima presentazione del libro 30 SECONDI
DESCRIPTION:Prima presentazione ufficiale del libro autobiografico “30 SECONDI” di Sonia Zanotti\, edito per Edgar Libri.\nQuando?\nIl 19 febbraio 2022 alle ore 11.00 presso la Sala Don Bosco dell’Istituto Rainerum – entrata da Piazza Domenicani\, 15. \nCosa?\n“30 SECONDI” è un libro autobiografico che racconta la storia di Sonia\, che a soli 11 anni si è trovata nel posto sbagliato al momento sbagliato. Il 2 agosto del 1980 è anche lei alla stazione di Bologna\, in attesa del treno che dovrebbe riportarla in Alto Adige. La sua vita viene stravolta dallo scoppio di quella bomba. Solo con il tempo impara a convivere con ferite profonde e indelebili. E trova il coraggio di condividere la propria storia per trasmettere contestualmente un messaggio di memoria e di speranza alle nuove generazioni; con l’auspicio che sappiano ribadire con fermezza il loro “NO” ad ogni forma di terrorismo e di violenza e allo stesso tempo comprendere che la vita offre sempre una seconda possibilità. Sta solo a noi coglierla.\n\n\n\n\nL’evento è libero ma i posti sono limitati ed è quindi necessario compilare il modulo per partecipare.\nVerrà richiesto il Super Green Pass!\n\n\n\n\n\n\nEvento organizzato da Arci Bolzano\, Edgar Libri e Anpi Alto Adige Südtirol. 
URL:https://arci.bz.it/evento/30-secondi-di-sonia-zanotti/
LOCATION:Istituto Rainerum\, Piazza Domenicani\, 15\, Bolzano\, 39100\, Italia
ATTACH;FMTTYPE=image/jpeg:https://arci.bz.it/wp-content/uploads/2022/02/IMMAGINE-NUOVA30SEC.jpg
ORGANIZER;CN="Arci":MAILTO:info@arci.bz.it
END:VEVENT
BEGIN:VEVENT
DTSTART;TZID=Europe/Rome:20220222T193000
DTEND;TZID=Europe/Rome:20220222T203000
DTSTAMP:20260422T125801
CREATED:20220216T105459Z
LAST-MODIFIED:20220216T105459Z
UID:4766-1645558200-1645561800@arci.bz.it
SUMMARY:La crisi tra Mosca e Kyiv
DESCRIPTION:Cosa sta succedendo realmente a Est?\nProviamo a capirlo insieme con Danilo Elia\, giornalista RAI\, autore di numerosi articoli e libri ed appassionato viaggiatore.\nQuando?\nMartedì 22 febbraio\, alle ore 19.30 presso il Coworking della Memoria di Merano. \nCosa?\nDanilo Elia ci parlerà della delicata e complessa questione del conflitto russo-ucraino.\nDurante l’incontro avremo l’opportunità di informaci soprattutto sulla attuale situazione di particolare tensione fra Ucraina\, Russia e NATO\, che sembra tuttavia in questi ultimi giorni essersi pacata.\nMa abbiamo davvero scampato il pericolo di una nuova guerra? È ancora troppo presto per parlare della fine di questa crisi? A queste e a molte altre domande proveremo a trovare una risposta.\n\n\n\n\nL’evento è libero ma i posti sono limitati ed è quindi necessario compilare il modulo per partecipare.\nVerrà richiesto il Super Green Pass!\n\n\n\n\n\n\nEvento organizzato da Arci Bolzano e Coworking delle Memoria in collaborazione con l’Atlante delle guerre e dei conflitti del mondo.\nSe non riuscirai ad esserci in presenza\, potrai vedere la diretta sulla pagina FB del Coworking della Memoria.
URL:https://arci.bz.it/evento/la-crisi-tra-mosca-e-kyiv/
LOCATION:Coworking della Memoria\, Via Ugo Foscolo\, 8\, Merano\, BZ\, 39012\, Italia
ATTACH;FMTTYPE=image/jpeg:https://arci.bz.it/wp-content/uploads/2022/02/danilo-elia.jpeg
ORGANIZER;CN="Arci":MAILTO:info@arci.bz.it
END:VEVENT
BEGIN:VEVENT
DTSTART;TZID=Europe/Rome:20220222T200000
DTEND;TZID=Europe/Rome:20220222T210000
DTSTAMP:20260422T125801
CREATED:20220221T120154Z
LAST-MODIFIED:20220221T133250Z
UID:4787-1645560000-1645563600@arci.bz.it
SUMMARY:Bosnia: occasione perduta?
DESCRIPTION:Bosnia: occasione perduta? Ritorna la paura.\nConferenza online promossa da OSKOWEBTV – Osservatorio Santa Klaus Observer.\nQuando?\nMartedì 22 febbraio\, alle ore 20.00 in live streaming sulla pagina facebook e sul canale Youtube di OSKOWEBTV. \nCosa?\nLa scrittrice Enisa Bukvic\, Nicola Minasi\, già ambasciatore della Bosnia-Erzegovina e Andrea Rizza Goldstein di Arci Bolzano proporranno un aggiornamento sulla delicata e intricata crisi politica in Bosnia-Erzegovina\, che da diversi mesi oltre a bloccare le istituzioni\, ha visto riemergere forti tensioni etno-nazionali(ste) e minacce di secessione e conflitti.
URL:https://arci.bz.it/evento/bosnia-occasione-perduta/
LOCATION:Evento online
ATTACH;FMTTYPE=image/jpeg:https://arci.bz.it/wp-content/uploads/2022/02/EVENTO-RIZZA.jpg
ORGANIZER;CN="Arci":MAILTO:info@arci.bz.it
END:VEVENT
BEGIN:VEVENT
DTSTART;TZID=Europe/Rome:20220225T170000
DTEND;TZID=Europe/Rome:20220225T180000
DTSTAMP:20260422T125801
CREATED:20220221T160252Z
LAST-MODIFIED:20220221T160252Z
UID:4798-1645808400-1645812000@arci.bz.it
SUMMARY:C'MON - Estrazione partecipanti
DESCRIPTION:Estrazione dei 6 attori e 2 registi che parteciperanno alla prima edizione di C’MON!\nQuando?\nIl 25 febbraio 2022 alle ore 17.00. \nCosa è C’MON?\nC’MON è nuovo progetto teatrale\, aperto a maggiorenni domiciliati in provincia di Bolzano e con esperienza nel settore teatrale. Comincia con una open call aperta ad aspiranti attori/attrici e registi/e. \nObiettivo della call è quello di costituire due gruppi (con 3 attori e un regista per gruppo) e realizzare due spettacoli (uno per gruppo) della durata massima di 50 minuti ciascuno. \n\nI partecipanti al progetto saranno selezionati tra gli iscritti alla call.\nAd attenderli ricchi premi: l’opportunità di calcare la scena con un proprio spettacolo e di confrontarsi con due professionisti del mondo del teatro e del cinema di fama nazionale e internazionale.\n\nL’estrazione dei partecipanti:\n\nLe iscrizioni si aprono alle ore 00.01 del 23 febbraio e chiudono alle 23.59.\nIl 25 febbraio saranno estratti i partecipanti in diretta sulla pagina facebook di Arci Bolzano. \n\n\n\nIl progetto è realizzato da Arci Bolzano all’interno della rassegna Teatro Aut\, sotto la direzione artistica di Anika Schluderbacher\, attrice e operatrice culturale\, con il supporto della Provincia Autonoma di Bolzano.
URL:https://arci.bz.it/evento/cmon-estrazione-partecipanti/
LOCATION:Evento online
ATTACH;FMTTYPE=image/jpeg:https://arci.bz.it/wp-content/uploads/2022/02/274042316_2098674473629069_6093531292180061983_n.jpg
ORGANIZER;CN="Arci":MAILTO:info@arci.bz.it
END:VEVENT
BEGIN:VEVENT
DTSTART;TZID=Europe/Rome:20220225T180000
DTEND;TZID=Europe/Rome:20220225T193000
DTSTAMP:20260422T125801
CREATED:20220215T161631Z
LAST-MODIFIED:20220216T113630Z
UID:4738-1645812000-1645817400@arci.bz.it
SUMMARY:Merano: presentazione del libro 30 SECONDI
DESCRIPTION:Presentazione a Merano del libro autobiografico “30 SECONDI” di Sonia Zanotti\, edito per Edgar Libri.\nQuando?\nIl 25 febbraio 2022 alle ore 18.00 presso il Centro per la Cultura di Merano. \nCosa?\n“30 SECONDI” è un libro autobiografico che racconta la storia di Sonia\, che a soli 11 anni si è trovata nel posto sbagliato al momento sbagliato. Il 2 agosto del 1980 è anche lei alla stazione di Bologna\, in attesa del treno che dovrebbe riportarla in Alto Adige. La sua vita viene stravolta dallo scoppio di quella bomba. Solo con il tempo impara a convivere con ferite profonde e indelebili e trova il coraggio di condividere la propria storia per trasmettere un messaggio di memoria e di speranza alle nuove generazioni con l’auspicio che sappiano ribadire con fermezza il loro “NO” ad ogni forma di terrorismo e di violenza e comprendere che la vita offre sempre una seconda possibilità. Sta solo a noi coglierla.\n\nModererà l’incontro con l’autrice Vanda Carbone\, già insegnante e assessora di Merano. In collegamento da Bologna anche la storica Cinzia Venturoli.\n\n\n\n\n\nL’evento è libero ma i posti sono limitati ed è quindi necessario compilare il modulo per partecipare.\nVerrà richiesto il Super Green Pass e l’utilizzo della mascherina FFP2.\n\n\n\n\n\n\nEvento organizzato da Coworking della Memoria\, Arci Bolzano\, Edgar Libri e Upad Merano. 
URL:https://arci.bz.it/evento/presentazione-del-libro-30-secondi-a-merano/
LOCATION:Centro per la Cultura\, Via Cavour\, 1\, Merano\, 39012
ATTACH;FMTTYPE=image/jpeg:https://arci.bz.it/wp-content/uploads/2022/02/30_SECONDI_ZANOTTI_MERANO.jpg
ORGANIZER;CN="Arci":MAILTO:info@arci.bz.it
END:VEVENT
BEGIN:VEVENT
DTSTART;TZID=Europe/Rome:20220226T110000
DTEND;TZID=Europe/Rome:20220226T113000
DTSTAMP:20260422T125801
CREATED:20220222T162633Z
LAST-MODIFIED:20220225T111056Z
UID:4808-1645873200-1645875000@arci.bz.it
SUMMARY:Fuori la guerra dalla storia!
DESCRIPTION:Appello: Fuori la guerra dalla storia! Sabato 26 febbraio alle ore 11:00 in piazza Walther per mezz’ora si terrà la manifestazione per chiedere il cessate il fuoco e lo stop alla guerra in Ucraina.\nCosa?\n\n\nIl fantasma della guerra torna di nuovo ad affacciarsi prepotentemente in Europa. Non possiamo accettare che nel nostro continente\, già devastato nel corso del Novecento da due guerre mondiali\, si possa ancora ricorrere allo strumento militare per risolvere problemi e contese. Ma non è ugualmente accettabile che la società civile resti indifferente di fronte a quanto sta avvenendo. Da troppo tempo non scendiamo in piazza per la pace\, lasciando che le decisioni vengano prese solo nei palazzi.\n\n\nLa guerra non restaura diritti\,  ridefinisce poteri (Hannah Arendt)\n\n\nOccorre mobilitarsi subito per chiedere il cessate il fuoco e lo stop alla guerra in Ucraina!\nLa manifestazione sarà accompagnata da rumori di guerra come sottofondo ad un cerchio che si realizzerà intorno alla statua e poi successivamente si canteranno canzoni della pace\, non sono previsti interventi.\n\n\n\n\nChi aderisce all’appello:\nAl momento sono giunte le adesioni dei sindacati SGB-CISL\, CGIL-AGB\, UIL-SGK\, e delle seguenti associazioni: \n\n\nCentaurus/Arcigay BZ\nANPI Alto Adige Südtirol\nCaritas Südtirol – Alto Adige\nFridays For Future – Southtyrol\nArci Bolzano-Bozen\nCoworking della Memoria\ncentroPACE BZ FRIEDEnszentrum\nSardine Bolzano\nPax Christi\nAIED\n\n\n\n\n\nRicordiamo ai partecipanti che  vige l’obbligo di indossare la mascherina e mantenere la distanza essendo una manifestazione.\nChiediamo vengano portate bandiere di associazioni e movimenti\, ma non di partiti politici.\nLa nostra manifestazione promuove la pace\, quindi chiediamo a tutti domani un comportamento di rispetto e solidarietà.
URL:https://arci.bz.it/evento/fuori-la-guerra-dalla-storia/
LOCATION:Piazza Walther\, Bolzano
ATTACH;FMTTYPE=image/jpeg:https://arci.bz.it/wp-content/uploads/2022/02/273832334_10224145149590720_3506500113335957580_n.jpg
ORGANIZER;CN="Arci":MAILTO:info@arci.bz.it
END:VEVENT
END:VCALENDAR