BEGIN:VCALENDAR
VERSION:2.0
PRODID:-//Arci Bolzano - Bozen - ECPv6.6.3//NONSGML v1.0//EN
CALSCALE:GREGORIAN
METHOD:PUBLISH
X-WR-CALNAME:Arci Bolzano - Bozen
X-ORIGINAL-URL:https://arci.bz.it
X-WR-CALDESC:Eventi per Arci Bolzano - Bozen
REFRESH-INTERVAL;VALUE=DURATION:PT1H
X-Robots-Tag:noindex
X-PUBLISHED-TTL:PT1H
BEGIN:VTIMEZONE
TZID:Europe/Rome
BEGIN:DAYLIGHT
TZOFFSETFROM:+0100
TZOFFSETTO:+0200
TZNAME:CEST
DTSTART:20210328T010000
END:DAYLIGHT
BEGIN:STANDARD
TZOFFSETFROM:+0200
TZOFFSETTO:+0100
TZNAME:CET
DTSTART:20211031T010000
END:STANDARD
END:VTIMEZONE
BEGIN:VEVENT
DTSTART;TZID=Europe/Rome:20211203T193000
DTEND;TZID=Europe/Rome:20211203T230000
DTSTAMP:20260423T043559
CREATED:20211129T102113Z
LAST-MODIFIED:20211129T130924Z
UID:3957-1638559800-1638572400@arci.bz.it
SUMMARY:Torna Sidewalk Bolzano con Open Mic e reel edition
DESCRIPTION:Dopo più di un anno torna finalmente l’Open Mic di Sidewalk Bolzano con una novità\, la reel edition!\n\nQuando?\nVenerdì 3 dicembre alle ore 19:30 al Pippo.Foodchillstage\, Parco Petrarca a Bolzano.\n\n\n\n\nCos’è Sidewalk?\nSidewalk Bolzano è un collettivo che organizza e cura spazi di espressione\, workshop e pubblicazioni indipendenti.\nL’Open Mic è un’iniziativa pensata per offrire uno spazio di condivisione.  Ognuno ha la possibilità di salire sul palco ed esprimersi in qualsiasi forma. Hai un unico limite: il tempo. Infatti per permettere a quante più persone di condividere la loro arte\, hai a disposizione 5 minuti per la tua esibizione.\n\n\n\n\nTi piacerebbe esibirti? \nLe iscrizioni per esibirsi partono a inizio serata – troverete Alejandra che vi accoglierà e guiderà.\nOltre al tradizionale format\, quest’anno ci sarà l’opportunità\, su richiesta dell’artista\, di avere un estratto video della propria esibizione grazie alla reel edition!\n\n\n\n\nAccesso e partecipazione\n\nAccesso solo con prenotazione online su Eventbrite: clicca qui. \nPer le norme in vigore i posti a sedere saranno limitati\, quindi vi consigliamo di prenotare online il prima possibile.\n\nSi richiedono Green Pass e l’uso della mascherina.\n\n\n\nFeature artist\n\nIde Maman\nRegista e attore nato in Zinder (Niger). Ha coltivato il suo interesse in vari ambiti artistici\, tra cui cinema documentario\, teatro\, scrittura\, fotografia\, e musico-terapia. Da cinque anni svolge la sua attività artistica a Bolzano.\n\nHost\nPaolo Tosin e Adriana Ghimp\n\n\n\n\n\n\n Per qualsiasi proposta\, dubbio o richiesta particolare per la tua esibizione scrivi a sidewalkbolzano@gmail.com
URL:https://arci.bz.it/evento/torna-open-mic-di-sidewalk-bolzano-con-la-reel-edition/
LOCATION:Pippo\, Via Cadorna\, Bolzano\, Bolzano\, 39100\, Italia
ATTACH;FMTTYPE=image/jpeg:https://arci.bz.it/wp-content/uploads/2021/11/sidewalk.jpg
GEO:46.503046238143334;11.345657275882976
X-APPLE-STRUCTURED-LOCATION;VALUE=URI;X-ADDRESS=Pippo Via Cadorna Bolzano Bolzano 39100 Italia;X-APPLE-RADIUS=500;X-TITLE=Via Cadorna:geo:11.345657275882976,46.503046238143334
END:VEVENT
BEGIN:VEVENT
DTSTART;TZID=Europe/Rome:20211206T163000
DTEND;TZID=Europe/Rome:20211206T180000
DTSTAMP:20260423T043559
CREATED:20211026T144420Z
LAST-MODIFIED:20211117T141915Z
UID:3751-1638808200-1638813600@arci.bz.it
SUMMARY:S. Nikolaus - Biblio all'Aria
DESCRIPTION:S. Nikolaus 2021\nStorytelling e arrivo di s. Nikolaus\nAll’interno della collaborazione nata fra TesLab\, Sagapò Teatro e Biblioteca Piani di Bolzano proponiamo la Festa di San Nikolaus. \nQuando? 06.12.2021 (16.30-18.00) \nDove? TesLab – Arciragazzi Bolzano Bozen APS (Via Dolomiti 14\, ultimo piano) \nCosa? Storytelling con la vera storia di S. Nikolaus e consegna dei Tradizionali Sacchettini Rossi \nDopo un anno e mezzo di stop causa Covid-19\, finalmente\, il TesLab può riaprire le porte alle famiglie dei/lle ragazzi/e che lo frequentano. E quale occasione migliore che la festa di S. Nikolaus? \nVi aspettiamo per scoprire la vera storia che si narra tra le nostre montagne e passare del tempo assieme! \nSeguici sui nostri Social:
URL:https://arci.bz.it/evento/s-nikolaus-biblio-allaria/
LOCATION:TesLab\, Via Dolomiti - Dolomitenstraße\, 14\, Bolzano\, Bolzano\, 39100
ATTACH;FMTTYPE=image/png:https://arci.bz.it/wp-content/uploads/2021/10/S.-Nikolaus.png
GEO:46.496861;11.370693
X-APPLE-STRUCTURED-LOCATION;VALUE=URI;X-ADDRESS=TesLab Via Dolomiti - Dolomitenstraße 14 Bolzano Bolzano 39100;X-APPLE-RADIUS=500;X-TITLE=Via Dolomiti - Dolomitenstraße\, 14:geo:11.370693,46.496861
END:VEVENT
BEGIN:VEVENT
DTSTART;TZID=Europe/Rome:20211207T170000
DTEND;TZID=Europe/Rome:20211207T190000
DTSTAMP:20260423T043559
CREATED:20211204T091833Z
LAST-MODIFIED:20211206T125308Z
UID:3993-1638896400-1638903600@arci.bz.it
SUMMARY:Trattativa Stato-mafia: incontro con il magistrato Vittorio Teresi
DESCRIPTION:Incontro online con il magistrato Vittorio Teresi per parlare della Trattativa Stato-Mafia\n\nChi è il magistrato Vittorio Teresi?\nAmico di Giovanni Falcone e Paolo Borsellino\, Vittorio Teresi è oggi presidente del Centro Studi “Paolo e Rita Borsellino”. Durante la sua carriera è stato pm del processo sulla Trattativa Stato-mafia e ne ha coordinato l’inchiesta terminata nel 2018 con la condanna di imputati “eccellenti”. \nIn primo grado sono infatti stati condannati i boss di Cosa nostra Leoluca Bagarella e Antonino Cinà\, insieme ad alti funzionari di Stato\, gli ufficiali del Ros\, Mario Mori\, Antonio Subranni\, Giuseppe De Donno\, e i politici Marcello Dell’Utri. \nA fine settembre di quest’anno la Corte di assise di appello di Palermo\, ha capovolto le decisioni del processo di primo grado. Ha confermato le condanne ai boss mafiosi e invece assolto gli ufficiali delle Forze Armate nonché l’ex senatore di Forza Italia. \nInsieme al pm Vittorio Teresi proveremo a capire meglio il percorso delle indagini sulla trattativa. \n\nI Campi della Legalità \nOgni anno Arciragazzi Bolzano promuove\, con la cooperativa @ltrimondi e Arci del Trentino\, un’esperienza rivolta ai giovani della regione nei beni confiscati alla mafia a Corleone\, in provincia di Palermo\, ed ora gestiti dalle cooperative sociali e dalle associazioni. I partecipanti si sperimentano in azioni concrete contro l’illegalità e entrano in contatto con personalità impegnate nella lotta alla mafia. \n\nQuando?\nIl 7 dicembre alle 17.00. Potrai seguire l’evento in diretta sulla pagina Facebook di Arci Bolzano.
URL:https://arci.bz.it/evento/trattativa-stato-mafia-incontro-con-vittorio-teresi/
LOCATION:Spazio virtuale\, Su web\, Ovunque
ATTACH;FMTTYPE=image/png:https://arci.bz.it/wp-content/uploads/2021/11/Estate-in-campo-1-e1638609255678.png
ORGANIZER;CN="Arci":MAILTO:info@arci.bz.it
END:VEVENT
BEGIN:VEVENT
DTSTART;TZID=Europe/Rome:20211210T183000
DTEND;TZID=Europe/Rome:20211210T200000
DTSTAMP:20260423T043559
CREATED:20211206T155714Z
LAST-MODIFIED:20211206T164925Z
UID:4047-1639161000-1639166400@arci.bz.it
SUMMARY:Impronte di Storia - Docufilm Gramsci 44
DESCRIPTION:Per Impronte di Storia visione del docufilm “Gramsci 44” che racconta il periodo di confino di Gramsci a Ustica. In collegamento con noi ci sarà anche il regista Emiliano Barbucci.\n\nGramsci 44 (2015\, 66’)\nFra l’arresto inaspettato e il periodo di detenzione\, conclusosi solo con la morte\, Antonio Gramsci (Ales\, 22 gennaio 1891 – Roma 27 aprile 1937) visse quarantaquattro giorni di confino a Ustica\, piccola isola in provincia di Palermo. \nIn violazione dell’immunità parlamentare\, Gramsci venne infatti arrestato l’8 novembre 1926 dal regime fascista\, il quale a seguito dell’attentato Zamboni contro Benito Mussolini (Bologna\, 31 ottobre 1926) volle stracciare gli ultimi residui di democrazia espellendo dal parlamento gli oppositori. \nIl film focalizza la sua attenzione sul periodo di passaggio di Gramsci tra la politica e il carcere. Vuole provare a raccontare il periodo del confino\, un momento oscuro agli storici e alla memoria. Un periodo però che influenzò l’intellettuale sardo\, che sull’isola si trovò a frequentare uomini di ogni fede politica\, nonché il “nemico” interno al medesimo partito Amedeo Bordiga\, con cui organizzò «tutta una serie di corsi»\, per i confinati e gli indigeni dell’isola. La sua fu una scuola clandestina\, aperta a tutti per arginare l’analfabetismo e coinvolse cittadini di ogni età e stato sociale. Ancora oggi Ustica ricorda quella scuola rivoluzionaria. Ancora oggi Ustica si sporge paziente al porto\, sperando che il vaporetto arrivi dal continente… \nRegia di Emiliano Barbucci con sceneggiatura di Emanuele Milasi.  \n\nImpronte di Storia\nImpronte di Storia è un progetto culturale di Arci nato per approfondire tematiche nodali della Storia europea\, nazionale e locale\, attraverso conferenze\, laboratori e visite a luoghi di interesse storico e culturale. Quest’anno la rassegna propone un approfondimento sulla figura di Antonio Gramsci\, di cui quest’anno ricorrono i 130 anni dalla nascita.  \n\nQuando?\nIl 10 dicembre alle 18.30 al Pippo.\n\n\n\n\n  Per partecipare: Compila il modulo!\nI posti sono limitati. Necessario il Super GreenPass.
URL:https://arci.bz.it/evento/impronte-di-storia-gramsci-44/
LOCATION:Pippo\, Via Cadorna\, Bolzano\, Bolzano\, 39100\, Italia
ATTACH;FMTTYPE=image/png:https://arci.bz.it/wp-content/uploads/2021/12/Gramsci_44.png
ORGANIZER;CN="Arci":MAILTO:info@arci.bz.it
GEO:46.503046238143334;11.345657275882976
X-APPLE-STRUCTURED-LOCATION;VALUE=URI;X-ADDRESS=Pippo Via Cadorna Bolzano Bolzano 39100 Italia;X-APPLE-RADIUS=500;X-TITLE=Via Cadorna:geo:11.345657275882976,46.503046238143334
END:VEVENT
BEGIN:VEVENT
DTSTART;TZID=Europe/Rome:20211216T190000
DTEND;TZID=Europe/Rome:20211216T220000
DTSTAMP:20260423T043559
CREATED:20211213T125658Z
LAST-MODIFIED:20211213T134706Z
UID:4148-1639681200-1639692000@arci.bz.it
SUMMARY:TEN 2! - Visual Exhibition and Live Performance
DESCRIPTION:Per Visioni quest’anno festeggiamo una doppia ricorrenza: i 5 anni dell’uscita di TEN! e i 5 anni di vita della Emberfly Gallery.\nE lo faremo con la mostra visual del fotografo Alessandro Trapezio\, autore di TEN! e la live performance di Dagger Moth.\n\nCos’è TEN!?\nE’ stato chiesto a 10 musicisti della scena indipendente e sperimentale europea di comporre una traccia partendo da un’opera di Alessandro Trapezio\,​ fotografo che spesso\, nella sua carriera artistica e professionale si è rapportato con la musica per la produzione di art work e copertine.\nAlessandro ha lanciato una sfida inversa\, ponendo i musicisti nella situazione di doversi confrontare e\, perché no\, mettersi in gioco facendo dialogare il proprio stile con le caratteristiche dell’immagine data.\nSono nate cosi 10 nuove copertine\, 10 immagini per 10 musicisti\, 10 fotografie che hanno generato 10 nuove composizioni originali​: in altre parole\, sono nati un album e un catalogo ​dalla storia molto particolare.\nLe opere scelte sono tutte diverse e senza un preciso legame tra loro\, a parte Alessandro; così come i musicisti\, tutti molto diversi nel loro lavoro e nei loro suoni\, con stili differenti e percorsi unici\, all’insegna di strade che spesso si sono incrociate ­ fra loro e con lui.\nIl titolo dell’ esperimento e della mostra è TEN! ed è stata inaugurata per la prima volta nel 2016 presso la Emberfly Gallery.\n\n\n\nTEN 2! – Visual Exhibition and Live Performance\nCon la presentazione TEN 2! ci sarà anche Dagger Moth (Sara Ardizzoni). Dagger Moth è un solo-set difficilmente etichettabile\, una ricerca sonora che esplora generi diversi e che prende forma tra chitarre elettriche\, voce\, elettronica minimale\, noise e melodia\, caos e struttura.\n\nVisioni\nVisioni nasce con l’intento di promuovere l’espressione artistica sul territorio\, con un focus sulle arti figurative e sulla fotografia. In particolare l’obiettivo di Arci è quello di far emergere i lavori di creativi ed artisti che nella provincia di Bolzano faticano a trovare spazi adeguati o occasioni per proporre le proprie opere al pubblico. \n\nQuando?\nIl 16 dicembre alle 19 presso la Emberfly Gallery.\n\n\n\n\n  Per partecipare: Compila il modulo!\nI posti sono limitati. Necessario il Super GreenPass.
URL:https://arci.bz.it/evento/ten-2-visual-exhibition-and-live-performance/
LOCATION:Emberfly Gallery\, Piazza della Vittoria\, 7/D\, Bolzano
ATTACH;FMTTYPE=image/jpeg:https://arci.bz.it/wp-content/uploads/2021/12/ten2.jpg
END:VEVENT
BEGIN:VEVENT
DTSTART;TZID=Europe/Rome:20211217T190000
DTEND;TZID=Europe/Rome:20211217T220000
DTSTAMP:20260423T043559
CREATED:20211213T132110Z
LAST-MODIFIED:20211213T142849Z
UID:4119-1639767600-1639778400@arci.bz.it
SUMMARY:Jam Session a Brunico
DESCRIPTION:Concerto jam session a Brunico\, organizzato da Diverkstatt.  \n\nQuando?\nIl 17 dicembre alle 19.00 presso EST. – stazioneculturale\, a Brunico.\n\n\n\n\n  Per info: vai sul sito di Diverkstatt.
URL:https://arci.bz.it/evento/jam-session-brunico/
LOCATION:Diverkstatt\, Via Dobbiaco\, 6/a\, Brunico\, 39031
ATTACH;FMTTYPE=image/png:https://arci.bz.it/wp-content/uploads/2021/12/diverkstatt.png
END:VEVENT
BEGIN:VEVENT
DTSTART;TZID=Europe/Rome:20211223T183000
DTEND;TZID=Europe/Rome:20211223T220000
DTSTAMP:20260423T043559
CREATED:20211213T132618Z
LAST-MODIFIED:20211213T143223Z
UID:4166-1640284200-1640296800@arci.bz.it
SUMMARY:Night of Concert
DESCRIPTION:Concerto e festa a Brunico\, organizzato da Diverkstatt per entrare nel mood festività! \n\nQuando?\nIl 23 dicembre dalle 18.30 presso EST. – stazioneculturale\, a Brunico.\n\n\n\n\n  Per info: vai sul sito di Diverkstatt.
URL:https://arci.bz.it/evento/est-jamsession-brunico/
LOCATION:Diverkstatt\, Via Dobbiaco\, 6/a\, Brunico\, 39031
ATTACH;FMTTYPE=image/png:https://arci.bz.it/wp-content/uploads/2021/12/diverkstatt.png
END:VEVENT
BEGIN:VEVENT
DTSTART;TZID=Europe/Rome:20211227T200000
DTEND;TZID=Europe/Rome:20211227T220000
DTSTAMP:20260423T043559
CREATED:20211220T140711Z
LAST-MODIFIED:20211220T140711Z
UID:4198-1640635200-1640642400@arci.bz.it
SUMMARY:Winter Wonderland Party
DESCRIPTION:Winter Wonderland Party: Rude sounds all-nighter\, organizzato da Diverkstatt! \nSoul Reggae punk glam roots ska \n\nQuando?\nLunedì 27 dicembre dalle 20.00 presso EST. – stazioneculturale\, a Brunico.\n\n\n\n\n  Per info: vai sul sito di Diverkstatt.
URL:https://arci.bz.it/evento/winter-wonderland-party/
LOCATION:Diverkstatt\, Via Dobbiaco\, 6/a\, Brunico\, 39031
ATTACH;FMTTYPE=image/png:https://arci.bz.it/wp-content/uploads/2021/12/diverkstatt.png
END:VEVENT
END:VCALENDAR