BEGIN:VCALENDAR
VERSION:2.0
PRODID:-//Arci Bolzano - Bozen - ECPv6.6.3//NONSGML v1.0//EN
CALSCALE:GREGORIAN
METHOD:PUBLISH
X-WR-CALNAME:Arci Bolzano - Bozen
X-ORIGINAL-URL:https://arci.bz.it
X-WR-CALDESC:Eventi per Arci Bolzano - Bozen
REFRESH-INTERVAL;VALUE=DURATION:PT1H
X-Robots-Tag:noindex
X-PUBLISHED-TTL:PT1H
BEGIN:VTIMEZONE
TZID:Europe/Rome
BEGIN:DAYLIGHT
TZOFFSETFROM:+0100
TZOFFSETTO:+0200
TZNAME:CEST
DTSTART:20210328T010000
END:DAYLIGHT
BEGIN:STANDARD
TZOFFSETFROM:+0200
TZOFFSETTO:+0100
TZNAME:CET
DTSTART:20211031T010000
END:STANDARD
END:VTIMEZONE
BEGIN:VEVENT
DTSTART;TZID=Europe/Rome:20211111T163000
DTEND;TZID=Europe/Rome:20211111T173000
DTSTAMP:20260423T043557
CREATED:20211013T095310Z
LAST-MODIFIED:20211013T102712Z
UID:3603-1636648200-1636651800@arci.bz.it
SUMMARY:Mini Many Languages - Incontrare una lingua divertendosi!
DESCRIPTION:Mini Many Languages\, l’evento pensato per far incontrare ai piccoli una lingua divertendosi!\n\nQui si raccontano storie in inglese\, russo e tedesco tratte da libri illustrati o direttamente dalla fantasia degli storyteller. Scommettiamo che capirete tutto? Scoprirai tanti libri e materiali con cui continuare a giocare anche a casa. \n\n\n\n\n11 novembre: Appuntamento con la lingua russa\nDove?\nAl Centro Multilingue\, all’interno del Centro Culturale Trevi di Bolzano. \nIl programma completo\n  \n \n \n Per dubbi e informazioni www.sagapoteatro.com \n\nA cura di Sagapò Teatro\nIn collaborazione con Ufficio Bilinguismo e Lingue Straniere – Provincia autonoma di Bolzano
URL:https://arci.bz.it/evento/mini-many-languages-incontrare-una-lingua-divertendosi-2/
LOCATION:Centro trevi\, via Cappuccini 28\, Bolzano\, 39100\, Italia
ATTACH;FMTTYPE=image/jpeg:https://arci.bz.it/wp-content/uploads/2021/10/WhatsApp-Image-2021-10-12-at-15.10.35.jpeg
END:VEVENT
BEGIN:VEVENT
DTSTART;TZID=Europe/Rome:20211111T180000
DTEND;TZID=Europe/Rome:20211111T200000
DTSTAMP:20260423T043557
CREATED:20211018T135621Z
LAST-MODIFIED:20211018T135621Z
UID:3674-1636653600-1636660800@arci.bz.it
SUMMARY:Meeting Languages\, Meeting People
DESCRIPTION: Cosa?\nQuattro eventi dedicati ognuno ad un Paese ed una lingua\, per scoprire nuove culture e – chissà – la voglia di viaggiare.\nOgni poesia\, canzone e storia rappresenterà una preziosa occasione di dialogo interattivo con i presenti che potranno avvicinarsi ad una lingua e alla sua cultura in modo autentico\, scoprendo che\, forse\, anche quelle che pensiamo essere lontane dalla nostra non lo sono poi così tanto.\n\nCon chi?\n\nProfessionisti ed esperti di varie arti (teatro\, musica\, fotografia\, storytelling) proporranno assaggi della cultura di Marocco\, Bosnia e Russia\, in un’atmosfera informale e rilassata.\nE per chi volesse approfondire lo studio delle lingue\, ci sarà modo di informarsi su corsi e percorsi offerti in Provincia.\n\n\n\n\n\n\n\n\n\n\n		\n		\n			\n				\n			\n				\n				Programma\n				\n		\n\n\n \n Per maggiori info: www.sagapoteatro.com \nPrenotazione obbligatoria: prenotazioni.sagapo@gmail.com \n\nA cura di Sagapò Teatro\nCon il sostegno dell’Ufficio Bilinguismo e Lingue Straniere della Provincia Autonoma di Bolzano. \nSi ringraziano Upad – Palladio\, Vivi Maso della Pieve\, Centro Auser – Vssh Zentrum\, Arci Bolzano\, Coworking della Memoria\, TreviLab e Mediateca Multilingue Merano.
URL:https://arci.bz.it/evento/meeting-languages-meeting-people-2/
LOCATION:Fondazione UPAD\, Via Firenze\, 51\, Bolzano\, 39100
ATTACH;FMTTYPE=image/jpeg:https://arci.bz.it/wp-content/uploads/2021/10/2021-MLMP-poster-001b-din-A3.jpg
END:VEVENT
BEGIN:VEVENT
DTSTART;TZID=Europe/Rome:20211112T200000
DTEND;TZID=Europe/Rome:20211112T213000
DTSTAMP:20260423T043557
CREATED:20211011T143427Z
LAST-MODIFIED:20211011T143427Z
UID:3485-1636747200-1636752600@arci.bz.it
SUMMARY:Le Mille e una Scienza - Apertura
DESCRIPTION:Prende il via Le mille e una scienza\, il primo Festival della Scienza promosso dal Centro di cultura Giovanile TesLab – Arciragazzi Bolzano Bozen  e l’associazione di divulgazione scientifica Accatagliato\, con il sostegno dell’Ufficio Politiche Giovanili della Provincia Autonoma di Bolzano. \nOre 20.00 – Inaugurazione del festival – INDAGARE I MISTERI CON LA LENTE DELLA SCIENZA. \n Conferenza/spettacolo a cura di Massimo Polidoro (CICAP)  \nhttps://arci.bz.it/wp-content/uploads/2021/10/polidoroxbolzano.m4v\n  \nGestione ingresso causa Covid-19: \nViste le norme igienico sanitarie in vigore causa Covid-19 l’ingresso ai Talk sarà garantito solamente con GreenPass\, mascherina e igienizzazione delle mani. \nPer partecipare ai talk non è necessario iscriversi\, ma si raccomanda a coloro che desiderano partecipare\, di presentarsi 20 minuti prima dell’inizio della conferenza all’ingresso del Centro Trevi. Un nostro collaboratore assegnerà agli spettatori un numero di ingresso. Esauriti i ticket non potremo più far entrare nessuno. Chi non riuscirà ad accedere alla conferenza\, potrà comunque visitare il Festival all’interno del Centro Trevi. \n \nClicca qui per il programma completo del Festival.  \nSocial: \n  
URL:https://arci.bz.it/evento/le-mille-e-una-scienza-apertura/
ATTACH;FMTTYPE=image/png:https://arci.bz.it/wp-content/uploads/2021/10/V.png
END:VEVENT
BEGIN:VEVENT
DTSTART;TZID=Europe/Rome:20211113T100000
DTEND;TZID=Europe/Rome:20211113T210000
DTSTAMP:20260423T043557
CREATED:20211011T143617Z
LAST-MODIFIED:20211011T143617Z
UID:3498-1636797600-1636837200@arci.bz.it
SUMMARY:Le Mille e un Scienza - Sabato
DESCRIPTION:Qui i laboratori e i talk della giornata. \nProgramma:\nLab – Ore 10:00 – miniNOI Robotics Lab \nLab – Ore 10:00 – Cucina una vera cometa \n  \n \nTalk – Ore 11:00 – PERCHÉ CI CREDIAMO? Tra informazione e disinformazione \nTalk – Ore 15:00 – Le mille e una scienziata. Dati\, attualità e prospettive per una scienza più inclusiva. \n  \n \nLab – Ore 15.30 – Pronto\, con che parlo? \nLab – Ore 15.30 – TesLab On The Road \n  \n \nEvento – Ore 17:00 – EUREKA!  – Premiazione del concorso di idee scientifiche per ragazze e ragazzi \nEvento – Ore 18:30 – LA FISICA DI GUERRE STELLARI – Spettacolo a cura di Luca Perri \n  \n \nApertura iscrizioni e attivazione link il giorno Lunedì 25 ottobre 2021 – Ore 14.00. \n \nGestione ingresso causa Covid-19: \nViste le norme igienico sanitarie in vigore causa Covid-19 l’ingresso ai Talk sarà garantito solamente con GreenPass\, mascherina e igienizzazione delle mani. \nPer partecipare ai talk non è necessario iscriversi\, ma si raccomanda a coloro che desiderano partecipare\, di presentarsi 20 minuti prima dell’inizio della conferenza all’ingresso del Centro Trevi. Un nostro collaboratore assegnerà agli spettatori un numero di ingresso. Esauriti i ticket non potremo più far entrare nessuno. Chi non riuscirà ad accedere alla conferenza\, potrà comunque visitare il Festival all’interno del Centro Trevi. \nClicca qui per il programma Festival. \nPer Info e Iscrizioni clicca qui. \nSocial: \n  
URL:https://arci.bz.it/evento/le-mille-e-un-scienza-sabato/
ATTACH;FMTTYPE=image/png:https://arci.bz.it/wp-content/uploads/2021/10/V-1.png
END:VEVENT
BEGIN:VEVENT
DTSTART;TZID=Europe/Rome:20211114T100000
DTEND;TZID=Europe/Rome:20211114T180000
DTSTAMP:20260423T043557
CREATED:20211011T143709Z
LAST-MODIFIED:20211011T143709Z
UID:3511-1636884000-1636912800@arci.bz.it
SUMMARY:Le Mille e una Scienza - Domenica
DESCRIPTION:Ultimo giorno di Festival e presentazione dell’edizione 2022. \nProgramma:\nLab – Ore 10.00 – Lab Irecoop Alto Adige \nLab – Ore 10:00 – miniNOI Robotics  \nTalk – Ore 11:00 – La montagna racconta il clima che cambia \nLab – Ore 11.15 – TesLab On The Road \nLab – Ore 15.00 – Lab Irecoop Alto Adige \nTalk – Ore 16.15 – Dialoghi astronomici  \nTalk – Ore 16.15 – Dialoghi astronomici  \nTalk – ore 17.30 – Chiusura del Festival \n \n  \nPartenza iscrizioni e attivazione link il giorno Lunedì 25 ottobre 2021 – Ore 14.00. \n \nGestione ingresso causa Covid-19: \nViste le norme igienico sanitarie in vigore causa Covid-19 l’ingresso ai Talk sarà garantito solamente con GreenPass\, mascherina e igienizzazione delle mani. \nPer partecipare ai talk non è necessario iscriversi\, ma si raccomanda a coloro che desiderano partecipare\, di presentarsi 20 minuti prima dell’inizio della conferenza all’ingresso del Centro Trevi. Un nostro collaboratore assegnerà agli spettatori un numero di ingresso. Esauriti i ticket non potremo più far entrare nessuno. Chi non riuscirà ad accedere alla conferenza\, potrà comunque visitare il Festival all’interno del Centro Trevi. \n \n  \nClicca qui per il programma Festival. \nPer Info e Iscrizioni clicca qui. \nSocial: \n  
URL:https://arci.bz.it/evento/le-mille-e-una-scienza-domenica/
ATTACH;FMTTYPE=image/png:https://arci.bz.it/wp-content/uploads/2021/10/D.png
ORGANIZER;CN="Arciragazzi":MAILTO:arciragazzi@arci.bz.it
END:VEVENT
BEGIN:VEVENT
DTSTART;TZID=Europe/Rome:20211125T163000
DTEND;TZID=Europe/Rome:20211125T173000
DTSTAMP:20260423T043557
CREATED:20211013T101913Z
LAST-MODIFIED:20211013T102816Z
UID:3610-1637857800-1637861400@arci.bz.it
SUMMARY:Mini Many Languages - Incontrare una lingua divertendosi!
DESCRIPTION:Mini Many Languages\, l’evento pensato per far incontrare ai piccoli una lingua divertendosi!\n\nQui si raccontano storie in inglese\, russo e tedesco tratte da libri illustrati o direttamente dalla fantasia degli storyteller. Scommettiamo che capirete tutto? Scoprirai tanti libri e materiali con cui continuare a giocare anche a casa. \n\n\n\n\n25 novembre: Appuntamento con la lingua russa\nDove?\nAl Centro Multilingue\, all’interno del Centro Culturale Trevi di Bolzano. \nIl programma completo\n  \n \n \n Per dubbi e informazioni www.sagapoteatro.com \n\nA cura di Sagapò Teatro\nIn collaborazione con Ufficio Bilinguismo e Lingue Straniere – Provincia autonoma di Bolzano
URL:https://arci.bz.it/evento/mini-many-languages-incontrare-una-lingua-divertendosi-3/
LOCATION:Centro trevi\, via Cappuccini 28\, Bolzano\, 39100\, Italia
ATTACH;FMTTYPE=image/jpeg:https://arci.bz.it/wp-content/uploads/2021/10/WhatsApp-Image-2021-10-12-at-15.10.35.jpeg
END:VEVENT
BEGIN:VEVENT
DTSTART;TZID=Europe/Rome:20211125T180000
DTEND;TZID=Europe/Rome:20211125T200000
DTSTAMP:20260423T043557
CREATED:20211018T135848Z
LAST-MODIFIED:20211018T135848Z
UID:3683-1637863200-1637870400@arci.bz.it
SUMMARY:Meeting Languages\, Meeting People
DESCRIPTION: Cosa?\nQuattro eventi dedicati ognuno ad un Paese ed una lingua\, per scoprire nuove culture e – chissà – la voglia di viaggiare.\nOgni poesia\, canzone e storia rappresenterà una preziosa occasione di dialogo interattivo con i presenti che potranno avvicinarsi ad una lingua e alla sua cultura in modo autentico\, scoprendo che\, forse\, anche quelle che pensiamo essere lontane dalla nostra non lo sono poi così tanto.\n\nCon chi?\n\nProfessionisti ed esperti di varie arti (teatro\, musica\, fotografia\, storytelling) proporranno assaggi della cultura di Marocco\, Bosnia e Russia\, in un’atmosfera informale e rilassata.\nE per chi volesse approfondire lo studio delle lingue\, ci sarà modo di informarsi su corsi e percorsi offerti in Provincia.\n\n\n\n\n\n\n\n\n\n\n		\n		\n			\n				\n			\n				\n				Programma\n				\n		\n\n\n \n Per maggiori info: www.sagapoteatro.com \nPrenotazione obbligatoria: prenotazioni.sagapo@gmail.com \n\nA cura di Sagapò Teatro\nCon il sostegno dell’Ufficio Bilinguismo e Lingue Straniere della Provincia Autonoma di Bolzano. \nSi ringraziano Upad – Palladio\, Vivi Maso della Pieve\, Centro Auser – Vssh Zentrum\, Arci Bolzano\, Coworking della Memoria\, TreviLab e Mediateca Multilingue Merano.
URL:https://arci.bz.it/evento/meeting-languages-meeting-people-3/
LOCATION:Fondazione UPAD\, Via Firenze\, 51\, Bolzano\, 39100
ATTACH;FMTTYPE=image/jpeg:https://arci.bz.it/wp-content/uploads/2021/10/2021-MLMP-poster-001b-din-A3.jpg
END:VEVENT
BEGIN:VEVENT
DTSTART;TZID=Europe/Rome:20211126T203000
DTEND;TZID=Europe/Rome:20211126T220000
DTSTAMP:20260423T043557
CREATED:20211125T083617Z
LAST-MODIFIED:20211125T084449Z
UID:3936-1637958600-1637964000@arci.bz.it
SUMMARY:Patrie di Nichi Vendola
DESCRIPTION:Tre appuntamenti con Nichi Vendola per la presentazione del suo libro di poesie “PATRIE”\nVersi per rompere i confini\, per attraversare il mondo.\n\nQuando?\nSi parte il 26 novembre alle 20:30 da Bolzano presso la “Sala Josef” al Kolping (Largo Adolph Kolping\, 3\, 39100 Bolzano BZ)\n\n\n\n\nProssimi appuntamenti in regione:\n\n27 novembre ore  10:30 a Trento presso il Teatro di Villazzano (Via Umberto Giordano\, 6\, 38123 Trento TN).\n28 novembre ore 10:30 a Rovereto presso la libreria Arcadia (Via Felice e Gregorio Fontana\, 16\, 38068 Rovereto TN)\n\n\nSarà consentito l’ingresso fino al raggiungimento del numero massimo di persone previsto dalle norme vigenti. Si richiedono Green Pass e l’uso della mascherina.\n\n\n\n\n\nGrazie a Arci Bolzano-Bozen\, al Circolo culturale ANPI Franca Anita Turra Hans Egarter\, all’associazione culturale LINX\, alla libreria UBIK di Bolzano\, alla libreria Due Punti di Trento e alla libreria Arcadia di Rovereto per la collaborazione.
URL:https://arci.bz.it/evento/patrie-di-nichi-vendola/
LOCATION:Kolping\, Largo Adolph Kolping 3\,\, Bolzano\, BZ\, 39100\, Italia
ATTACH;FMTTYPE=image/jpeg:https://arci.bz.it/wp-content/uploads/2021/11/Vendola-a-Bolzano.jpg
ORGANIZER;CN="Arci":MAILTO:info@arci.bz.it
END:VEVENT
END:VCALENDAR