BEGIN:VCALENDAR
VERSION:2.0
PRODID:-//Arci Bolzano - Bozen - ECPv6.6.3//NONSGML v1.0//EN
CALSCALE:GREGORIAN
METHOD:PUBLISH
X-WR-CALNAME:Arci Bolzano - Bozen
X-ORIGINAL-URL:https://arci.bz.it
X-WR-CALDESC:Eventi per Arci Bolzano - Bozen
REFRESH-INTERVAL;VALUE=DURATION:PT1H
X-Robots-Tag:noindex
X-PUBLISHED-TTL:PT1H
BEGIN:VTIMEZONE
TZID:Europe/Rome
BEGIN:DAYLIGHT
TZOFFSETFROM:+0100
TZOFFSETTO:+0200
TZNAME:CEST
DTSTART:20210328T010000
END:DAYLIGHT
BEGIN:STANDARD
TZOFFSETFROM:+0200
TZOFFSETTO:+0100
TZNAME:CET
DTSTART:20211031T010000
END:STANDARD
END:VTIMEZONE
BEGIN:VEVENT
DTSTART;VALUE=DATE:20210830
DTEND;VALUE=DATE:20210904
DTSTAMP:20260420T013218
CREATED:20210624T091237Z
LAST-MODIFIED:20210715T111744Z
UID:1093-1630281600-1630713599@arci.bz.it
SUMMARY:Campi estivi Le mille e una scienza
DESCRIPTION:Vuoi divertirti con la scienza e il mondo delle storie in estate?\nAllora hai tempo fino al 15 agosto per iscriverti a Le mille e una scienza – campi estivi\n\nEcco le due proposte per ragazze e ragazzi dagli 8 ai 12 anni dal 30 agosto al 3 settembre 2021. \n\n\n\n\n1) CHE SCOPERTA!\nUna settimana per scoprire il mondo della scienza divertendosi tra laboratori\, giochi ed escursioni!\n– Dove? Al Pippo Foodchillstage\, in Via Cadorna 18 a Bolzano\n– Orario: dalle 8.00 alle 17.00\n– Costo: 50\,00 €\, con pranzo incluso\n– Per le iscrizioni cliccare qui sotto e compilare il modulo\n \n\nOrganizzato dall’associazione Arciragazzi Bolzano\, dall’associazione di divulgazione scientifica Accatagliato – www.accatagliato.com\, con il sostegno dell’Ufficio Politiche Giovanili della Provincia Autonoma di Bolzano\n\n\n2) ROBOT IN LIBRERIA\nUna settimana di robotica per trasformare le storie lette in storie animate e inventarne di nuove!\n– Dove? Al Centro Trevi\, in Via dei Cappuccini 28\, a Bolzano\n– Orario: dalle 8.00 alle 17.00\n– Costo: 50\,00 €\, con pranzo incluso\n– Per le iscrizioni: info@irecoopbz.eu\n\nOrganizzato da Irecoop Alto Adige\, con la collaborazione di MEET Digital Culture Center – Milano\n\n\n\nPer sapere di più sul progetto guarda la pagina dedicata \nTi aspettiamo!
URL:https://arci.bz.it/evento/i-campi-estivi-de-le-mille-e-una-scienza/
LOCATION:Pippo\, Via Cadorna\, Bolzano\, Bolzano\, 39100\, Italia
ATTACH;FMTTYPE=image/jpeg:https://arci.bz.it/wp-content/uploads/2021/06/Le-mille-e-una-scienza-Bolzano.jpg
ORGANIZER;CN="Arciragazzi":MAILTO:arciragazzi@arci.bz.it
GEO:46.503046238143334;11.345657275882976
X-APPLE-STRUCTURED-LOCATION;VALUE=URI;X-ADDRESS=Pippo Via Cadorna Bolzano Bolzano 39100 Italia;X-APPLE-RADIUS=500;X-TITLE=Via Cadorna:geo:11.345657275882976,46.503046238143334
END:VEVENT
BEGIN:VEVENT
DTSTART;VALUE=DATE:20210825
DTEND;VALUE=DATE:20210902
DTSTAMP:20260420T013218
CREATED:20210715T110750Z
LAST-MODIFIED:20210715T111709Z
UID:1845-1629849600-1630540799@arci.bz.it
SUMMARY:Campi della Legalità 2021
DESCRIPTION:Dal 25 Agosto al 1° settembre si svolgono i Campi della Legalità a Corleone (Palermo).\nObiettivo: diffondere una cultura fondata sulla legalità democratica e sulla giustizia sociale\, che possa efficacemente contrapporsi alla cultura della violenza\, del privilegio e del ricatto. \nGUARDA QUI LE INFORMAZIONI SUL PROGETTO E COME ISCRIVERTI \n\n 
URL:https://arci.bz.it/evento/campi-della-legalita-2021/
ATTACH;FMTTYPE=image/jpeg:https://arci.bz.it/wp-content/uploads/2021/05/DSC9843.jpg
ORGANIZER;CN="Arciragazzi":MAILTO:arciragazzi@arci.bz.it
END:VEVENT
BEGIN:VEVENT
DTSTART;TZID=Europe/Rome:20210824T183000
DTEND;TZID=Europe/Rome:20210824T203000
DTSTAMP:20260420T013218
CREATED:20210624T081332Z
LAST-MODIFIED:20210708T103753Z
UID:1065-1629829800-1629837000@arci.bz.it
SUMMARY:Estate al Pippo 2021
DESCRIPTION:Estate al Pippo anche quest’anno!\nNell’arena del Pippo.stage\, nel cuore del Parco Petrarca di Bolzano\, celebriamo l’estate con due serate e quattro appuntamenti di teatro danza e performance artistiche. Due occasioni per stare insieme al calar del sole e avvicinarci a diverse espressioni creative\, assieme ad artisti della nostra regione. \nPROGRAMMA\n24 agosto 2021 dalle 18.30 alle 21.00:\nConcerto di musica celtica di Sylvie Lune\n“L’acqua magica” stunt show di spade medievali a cura de il Gruppo Lupo Giallo.\nUna voce narrante ci racconterà la storia della ninfa Aryma\, custode dell’acqua magica\, elisir di lunga vita\, rapita da Kemirus\, mercenario senza scrupoli avido di ricchezze e attratto dall’immortalità. Aryma riuscirà a fuggire e troverà rifugio da Nariman\, coraggioso cavaliere dall’animo nobile e dai saldi principi morali. Riuscirà Nariman a sconfiggere Kerimus? Da anni Lupo Giallo devolve l’introito dei propri spettacoli al Great Horse Spirit\, associazione di ippoterapia per disabili nella campagna umbra\, che dà rifugio a cavalli con una storia di maltrattamento alle spalle. \nPRENOTAZIONE\nLa prenotazione è obbligatoria e gli ingressi sono limitati. Come prenotarsi? \n \n  \n Per dubbi e informazioni scrivi a info@arci.bz.it o chiama il numero 0471 323648 \n\nDirettrice artistica: Anika Schluderbacher \nIn collaborazione con: Bar 2000 Pippo \nRassegna realizzata grazie al sostegno: Provincia autonoma di Bolzano Comune di Bolzano
URL:https://arci.bz.it/evento/estate-al-pippo-2021/
LOCATION:Pippo\, Via Cadorna\, Bolzano\, Bolzano\, 39100\, Italia
ATTACH;FMTTYPE=image/jpeg:https://arci.bz.it/wp-content/uploads/2021/06/estate-al-Pippo-2021-appuntamenti.jpg
ORGANIZER;CN="Arci":MAILTO:info@arci.bz.it
GEO:46.503046238143334;11.345657275882976
X-APPLE-STRUCTURED-LOCATION;VALUE=URI;X-ADDRESS=Pippo Via Cadorna Bolzano Bolzano 39100 Italia;X-APPLE-RADIUS=500;X-TITLE=Via Cadorna:geo:11.345657275882976,46.503046238143334
END:VEVENT
BEGIN:VEVENT
DTSTART;TZID=Europe/Rome:20210819T203000
DTEND;TZID=Europe/Rome:20210819T220000
DTSTAMP:20260420T013218
CREATED:20210816T143247Z
LAST-MODIFIED:20210816T143247Z
UID:2053-1629405000-1629410400@arci.bz.it
SUMMARY:Notti spaziali-Una Cosmica Giostra d’Amore
DESCRIPTION:Notti spaziali-Una Cosmica Giostra d’Amore \ndi Renato Barrella \nSpettacolo Teatrale della Compagnia La Burrasca & Osservazione del cielo \ncon Maria Vittoria Barrella – e il Gruppo astronomico Monti Stellati \nmusica di Diego Baruffaldi \nIl 19 agosto 2021 alle ore 20.30 al Tennis Merano (Via Piave\, 46) \nL’estate sta finendo\, cantava il duo Righeira. Ma cos’è più dolce dell’estate? Gli amori estivi! Pertanto\, il 19 agosto alle ore 20:30\, presso il Centro Tennis di Merano\, in Via Palade 46\, ci sarà la possibilità di conoscere Venere in persona\, scortata dalle sue ancelle\, le stelle cadenti\, grazie allo spettacolo della Compagnia Teatrale trentina La Burrasca “Notti Spaziali – Una Cosmica Giostra d’Amore”\, organizzato dal Coworking della Memoria in collaborazione l’associazione Arci Bolzano – Bozen e il Bistro Tennis Merano.  \nLa breve e romantica pièce teatrale\, ritmata e rimata\, dalle atmosfere misteriose e ombrose\, offrirà la possibilità di conoscere con due strumenti diversi ma complementari\, la scienza e il mito\, sia il nero cielo notturno\, che quelle luci lontane: stelle\, satelliti e pianeti. O se preferite\, Dee e Dei\, Eroine ed Eroi\, mostri e creature fantastiche. \nGrazie alle competenze di appassionati astrofili e ai loro telescopi professionali\, sarà inoltre possibile ammirare la volta celeste e perché no\, esprimere un desiderio! \nIngresso gratuito su prenotazione a coworkingdellamemoria@gmail.com e previa Green Pass (posti limitati). \nEvento Facebook  https://fb.me/e/11Sta4gVf \nPer maggiori informazioni\nCoworking della Memoria: coworkingdellamemoria@gmail.com \n 
URL:https://arci.bz.it/evento/notti-spaziali-una-cosmica-giostra-damore/
ATTACH;FMTTYPE=image/jpeg:https://arci.bz.it/wp-content/uploads/2021/08/Notti-Spaziali.jpg
ORGANIZER;CN="Arci":MAILTO:info@arci.bz.it
END:VEVENT
BEGIN:VEVENT
DTSTART;TZID=Europe/Rome:20210816T210000
DTEND;TZID=Europe/Rome:20210816T230000
DTSTAMP:20260420T013218
CREATED:20210714T123540Z
LAST-MODIFIED:20210714T123540Z
UID:1811-1629147600-1629154800@arci.bz.it
SUMMARY:Cinesommer - Der Sohn von Rambow (auf Deutsch)
DESCRIPTION:CINESOMMER 2021 IL FILM DI QUESTA SERA\nDer Sohn von Rambow (auf Deutsch)\n1982. Cresciuto in mezzo a una rigida comunità religiosa\, il piccolo Will non ha il diritto di guardare la TV o di andare al cinema. La sua vita quotidiana viene sconvolta il giorno in cui il suo amico Lee Carter gli fa vedere una copia pirata di Rambo. Lasciando libero corso alla loro immaginazione\, Will e Lee decidono di realizzare un film ispirato alle avventure del celebre personaggio interpretato da Sylvester Stallone. Il “remake” fa furore tra i compagni dei due ragazzini\, ma l’arrivo di Didier Revol\, corrispondente francese\, creerà non pochi problemi in classe. \nDove e quando?\nAl parco dei Cappuccini\, alle 21.00. \nClicca qui per prenotare il tuo posto. \n \nGuarda programma completo della rassegna.
URL:https://arci.bz.it/evento/cinesommer-der-sohn-von-rambow-auf-deutsch/
LOCATION:Parco dei Cappuccini\, via dei Domenicani\, Bolzano\, Bolzano\, 39100
ATTACH;FMTTYPE=image/jpeg:https://arci.bz.it/wp-content/uploads/2021/07/210708_Post_IG_Tavola-disegno-1-scaled.jpg
ORGANIZER;CN="Arci":MAILTO:info@arci.bz.it
END:VEVENT
BEGIN:VEVENT
DTSTART;TZID=Europe/Rome:20210809T210000
DTEND;TZID=Europe/Rome:20210809T230000
DTSTAMP:20260420T013218
CREATED:20210714T123021Z
LAST-MODIFIED:20210714T123159Z
UID:1807-1628542800-1628550000@arci.bz.it
SUMMARY:Cinesommer - Baran
DESCRIPTION:CINESOMMER 2021 IL FILM DI QUESTA SERA\nBaran\nLateef lavora come operaio in un cantiere edile a Teheran\, insieme ad altri operai curdi e afgani.\nQuando Najaf\, un profugo afgano\, lavoratore non in regola\, ha un incidente di lavoro e deve smettere di lavorare\, chiede di farsi sostituire dal figlio Rahmat\, un ragazzo dall’apparenza molto fragile.\nLa conseguenza è che a Lateef vengono dati incarichi molto più pesanti\, e ciò fa sì che egli cominci a trattare male Rahmat\, che però non risponde mai. Un giorno però Lateef scopre che Rahmat non è un ragazzo ma una ragazza\, Baran.\nEgli decide di mantenere segreta la vera identità della ragazza\, altrimenti il padre di lei perderebbe la sua sola fonte di sostentamento\, e da quel momento fa di tutto per renderle più leggero il lavoro. Quando un ispettore del cantiere impone il licenziamento di tutti i lavoratori afgani\, in quanto irregolari\, Baran è costretta a tornare in Afghanistan con la sua famiglia. \nDove e quando?\nAl parco dei Cappuccini\, alle 21.00. \nClicca qui per prenotare il tuo posto. \n \nGuarda programma completo della rassegna.
URL:https://arci.bz.it/evento/cinesommer-baran/
LOCATION:Parco dei Cappuccini\, via dei Domenicani\, Bolzano\, Bolzano\, 39100
ATTACH;FMTTYPE=image/jpeg:https://arci.bz.it/wp-content/uploads/2021/07/210708_Post_IG_Tavola-disegno-1-scaled.jpg
ORGANIZER;CN="Arci":MAILTO:info@arci.bz.it
END:VEVENT
BEGIN:VEVENT
DTSTART;TZID=Europe/Rome:20210802T210000
DTEND;TZID=Europe/Rome:20210802T230000
DTSTAMP:20260420T013218
CREATED:20210714T122252Z
LAST-MODIFIED:20210714T122252Z
UID:1805-1627938000-1627945200@arci.bz.it
SUMMARY:Cinesommer - Panico al villaggio
DESCRIPTION:CINESOMMER 2021 IL FILM DI QUESTA SERA\nPanico al villaggio\nPanico al villaggio\, film d’animazione diretto da Stéphane Aubier e Vincent Patar\, racconta le fantastiche avventure di Cowboy e Indiano\, due giocattoli di plastica allegri e spensierati che vivono insieme a Cavallo in una casetta su una collina. Poco lontano da loro abitano Steven e la moglie\, in una fattoria con tantissimi animali. Alla fine della strada\, invece\, in una piccola capanna\, abita un agente di polizia. Il giorno del compleanno di Cavallo\, i suoi due amici Cowboy e Indiano hanno intenzione di fargli una bella sorpresa: vogliono costruirgli un barbecue. Si apprestano quindi a ordinare i mattoni per realizzarlo\, ma qualcosa va storto e\, per sbaglio\, ne comprano cinquanta milioni senza accorgersene.\nQuando cominciano ad arrivare\, i due decidono di nasconderli sopra il tetto della casa\, senza pensare alle conseguenze che un carico così pesante avrebbe avuto sull’abitazione. E infatti\, durante la notte\, crolla tutto. Cavallo allora\, non solo ha scoperto tutto\, ma deve anche provvedere a ricostruire la casa\, facendosi aiutare dai due coinquilini pasticcioni. C’è qualcosa di strano\, però\, che accade tutte le notti: i muri che i tre alzano scompaiono tutte le volte… \nDove e quando?\nNel cortile Premstaller\, alle 21.00 \nClicca qui per prenotare il tuo posto. \n \nGuarda programma completo della rassegna.
URL:https://arci.bz.it/evento/cinesommer-panico-al-villaggio/
LOCATION:Sede di Bolzano\, Via Dolomiti Strasse 14\, Bolzano\, BZ\, 39100\, Italia
ATTACH;FMTTYPE=image/jpeg:https://arci.bz.it/wp-content/uploads/2021/07/210708_Post_IG_Tavola-disegno-1-scaled.jpg
ORGANIZER;CN="Arci":MAILTO:info@arci.bz.it
GEO:46.497024815264;11.370086184138
X-APPLE-STRUCTURED-LOCATION;VALUE=URI;X-ADDRESS=Sede di Bolzano Via Dolomiti Strasse 14 Bolzano BZ 39100 Italia;X-APPLE-RADIUS=500;X-TITLE=Via Dolomiti Strasse 14:geo:11.370086184138,46.497024815264
END:VEVENT
BEGIN:VEVENT
DTSTART;TZID=Europe/Rome:20210726T210000
DTEND;TZID=Europe/Rome:20210726T230000
DTSTAMP:20260420T013218
CREATED:20210714T121311Z
LAST-MODIFIED:20210726T150221Z
UID:1801-1627333200-1627340400@arci.bz.it
SUMMARY:Cinesommer - WALL•E (auf Deutsch) - Proiezione rimandata per maltempo
DESCRIPTION:CINESOMMER 2021 IL FILM DI QUESTA SERA\nWALL•E (auf Deutsch)\nÈ un film d’animazione del 2008\, prodotto dai Pixar Animation Studios\, in co-produzione con Walt Disney Pictures. \nIl film narra le vicende del robot WALL•E\, che in un lontano futuro è l’unico abitante del pianeta Terra\, ormai abbandonato dagli esseri umani a causa dell’eccessivo inquinamento e del continuo accumulo di rifiuti. Un giorno scende dal cielo un robot ad alta tecnologia di nome E.V.E. che lo fa innamorare\, e in nome di questo amore i due vivono un’avventura che cambia il loro destino e quello dell’umanità. \nDove e quando?\nNel cortile Premstaller\, alle 21.00 \nClicca qui per prenotare il tuo posto. \n \nGuarda programma completo della rassegna.
URL:https://arci.bz.it/evento/cinesommer-walle-auf-deutsch/
LOCATION:Sede di Bolzano\, Via Dolomiti Strasse 14\, Bolzano\, BZ\, 39100\, Italia
ATTACH;FMTTYPE=image/jpeg:https://arci.bz.it/wp-content/uploads/2021/07/210708_Post_IG_Tavola-disegno-1-scaled.jpg
ORGANIZER;CN="Arci":MAILTO:info@arci.bz.it
GEO:46.497024815264;11.370086184138
X-APPLE-STRUCTURED-LOCATION;VALUE=URI;X-ADDRESS=Sede di Bolzano Via Dolomiti Strasse 14 Bolzano BZ 39100 Italia;X-APPLE-RADIUS=500;X-TITLE=Via Dolomiti Strasse 14:geo:11.370086184138,46.497024815264
END:VEVENT
BEGIN:VEVENT
DTSTART;TZID=Europe/Rome:20210725T180000
DTEND;TZID=Europe/Rome:20210725T233000
DTSTAMP:20260420T013218
CREATED:20210722T132451Z
LAST-MODIFIED:20210722T132451Z
UID:1860-1627236000-1627255800@arci.bz.it
SUMMARY:Spaghettata antifascista di Casa Cervi a Bolzano
DESCRIPTION:Quarta edizione bolzanina della Pastasciutta antifascista di Casa Cervi 2021  \n#pastaliberatutti  \nArci Bolzano\, in collaborazione con il circolo culturale ANPI Franca “Anita” Turra Hans Egarter\, con il Centro Pace del Comune di Bolzano\, organizzano per il 25 luglio\, data della caduta del Regime Fascista\, presso l’Anfiteatro Arcobaleno del Parco Petrarca (Bar Pippo 2000)\, la tradizionale “Pastasciutta antifascista di Casa Cervi” nel segno dell’attualità dell’Antifascismo e dei valori della Costituzione\, per godere insieme di un momento conviviale.\n\nIl programma:\n\nOre 18: Aperitivo culturale (partecipazione libera senza prenotazione)\, “Cara Libertà” spettacolo a cura del circolo Sagapò Teatro: lettura e musica si incontrano in un percorso a ritroso nelle ombre della memoria. Una giovane donna in sella alla sua bicicletta cambierà la vita di tanti\, influenzata dai racconti e dalle lettere di chi insieme e prima di lei ha combattuto per la Libertà. La musica accompagna questo viaggio fatto di amore\, testimonianza\, resistenza.\nOre 20: Cena con Menù Euro 20 (spaghetti\, da bere\, piatto misto e dolce)\nE’ disponibile anche menù vegetariano da indicare espressamente nella prenotazione.\nOre 21: Concerto con Bellanöva  (partecipazione libera senza prenotazione). Bellanöva è il risultato dell’incontro tra il duo di musica tradizionale Valla – Scurati con il violinista e compositore Marcello Fera e il violoncellista Antonio Fantinuoli. Stefano Valla\, piffero\, e Daniele Scurati\, fisarmonica\, sono eredi di un‘importante tradizione musicale che si è tramandata oralmente nella zona appenninica detta “delle 4 provincie” (Genova\, Alessandria\, Pavia e Piacenza). In queste valli è presente un cospicuo repertorio di balli e di canti\, in cui domina l’inconfondibile suono del piffero\, un oboe popolare tipico della zona. Il repertorio del duo posto a confronto con la scrittura di Marcello Fera e il suono dei due archi viene proiettato con Bellanöva in una nuova dimensione espressiva e comunicativa.\n\n\nPer partecipare:\n\nPer rispetto delle norme anti COVID 19 è obbligatoria la prenotazione ENTRO Venerdi 23 luglio\n– presso il Bar 2000\,\n– SMS o telefonando 3386247717 – 3381171702 – 3384653031\n– Email anpi.altoadige@gmail.com\n\nCenni storici:\nPastasciutta antifascista di Casa Cervi\nAlla caduta del Fascismo\, il 25 luglio del 1943\, fu grande festa a Casa Cervi\, come in tutto il Paese. Una gioia spontanea di molti italiani che speravano nella fine della guerra\, nella morte della dittatura. La Liberazione verrà solo 20 mesi dopo\, al prezzo di molte sofferenze. Ma quel 25 luglio\, alla notizia che il duce era stato arrestato\, c’era solo la voglia di festeggiare. A Campegine\, i Cervi insieme ad altre famiglie del paese\, portarono la pastasciutta in piazza\, nei bidoni per il latte. Con un rapido passaparola la cittadinanza si riunì attorno al carro e alla “birocia” che aveva portato la pasta. Tutti in fila per avere un piatto di quei maccheroni conditi a burro e formaggio che\, in tempo di guerra e di razionamenti\, erano prima di tutto un pasto di lusso. C’era la fame\, ma c’era anche la voglia di uscire dall’incubo del fascismo e della guerra\, il desiderio di “riprendersi la piazza” con un moto spontaneo\, dopo anni di adunate a comando e di divieti. Di quel 25 luglio\, di quella pagina di storia italiana è rimasto poco nella memoria collettiva. Eppure c’è stato\, in tutta Italia e in quella data\, uno spirito genuino e pacifico di festa popolare: prima dell’8 settembre\, dell’occupazione tedesca\, della Repubblica di Salò. Prima delle brigate partigiane e della Lotta di Liberazione.
URL:https://arci.bz.it/evento/pastasciutta-antifascista-bolzano/
LOCATION:Pippo\, Via Cadorna\, Bolzano\, Bolzano\, 39100\, Italia
ATTACH;FMTTYPE=image/jpeg:https://arci.bz.it/wp-content/uploads/2021/07/pastasciutta.jpg
ORGANIZER;CN="Arci":MAILTO:info@arci.bz.it
GEO:46.503046238143334;11.345657275882976
X-APPLE-STRUCTURED-LOCATION;VALUE=URI;X-ADDRESS=Pippo Via Cadorna Bolzano Bolzano 39100 Italia;X-APPLE-RADIUS=500;X-TITLE=Via Cadorna:geo:11.345657275882976,46.503046238143334
END:VEVENT
BEGIN:VEVENT
DTSTART;TZID=Europe/Rome:20210719T210000
DTEND;TZID=Europe/Rome:20210719T230000
DTSTAMP:20260420T013218
CREATED:20210714T110253Z
LAST-MODIFIED:20210714T113824Z
UID:1785-1626728400-1626735600@arci.bz.it
SUMMARY:Cinesommer - Le ricette della signora Toku
DESCRIPTION:CINESOMMER 2021 IL FILM DI QUESTA SERA\nLe ricette della signora Toku:\nSentaro cucina dolci tipici in un chiosco di città\, per ripagare un debito a vita. La sola compagnia che tollera è quella di una ragazzina senza mezzi\, cui regala i pancakes non perfettamente riusciti. Un giorno\, una vecchia signora di nome Toku si presenta da lui in cerca di un lavoro. La sua confettura di fagioli rossi è la più deliziosa che Sentaro abbia mai assaggiato\, ma le sue mani sono sfigurate da una vecchia malattia\, che l’ha tenuta lontana dalle altre persone per tutta la vita. Nello spazio di pochi metri e pochi giorni\, i tre si regalano a vicenda la prospettiva che era stata loro negata fino a quel momento. \nDove e quando?\nNel cortile Premstaller\, alle 21.00 \nClicca qui per prenotare il tuo posto. \n \nGuarda programma completo della rassegna.
URL:https://arci.bz.it/evento/cinesommer-le-ricette-della-signora-toku/
LOCATION:Sede di Bolzano\, Via Dolomiti Strasse 14\, Bolzano\, BZ\, 39100\, Italia
ATTACH;FMTTYPE=image/jpeg:https://arci.bz.it/wp-content/uploads/2021/07/210708_Post_IG_Tavola-disegno-1-scaled.jpg
ORGANIZER;CN="Arci":MAILTO:info@arci.bz.it
GEO:46.497024815264;11.370086184138
X-APPLE-STRUCTURED-LOCATION;VALUE=URI;X-ADDRESS=Sede di Bolzano Via Dolomiti Strasse 14 Bolzano BZ 39100 Italia;X-APPLE-RADIUS=500;X-TITLE=Via Dolomiti Strasse 14:geo:11.370086184138,46.497024815264
END:VEVENT
BEGIN:VEVENT
DTSTART;TZID=Europe/Rome:20210703T210000
DTEND;TZID=Europe/Rome:20210703T230000
DTSTAMP:20260420T013218
CREATED:20210624T083216Z
LAST-MODIFIED:20210624T083401Z
UID:1086-1625346000-1625353200@arci.bz.it
SUMMARY:Happy Birthday Bob
DESCRIPTION:Serata tributo per gli 80 anni di Bob Dylan\n\nVogliamo omaggiare gli 80 anni di Bob Dylan\, uno dei più importanti artisti contemporanei\, con una serata speciale in cui si ripercorrerà la sua lunghissima carriera attraverso i suoi brani ed i suoi scritti.\n\nAd aiutarci in questa missione cinque fantastici musicisti\nBobby Gualtirolo\, Manuel Randi\, Mario Punzi\, Marco Stagni\, Tiziana Sottovia\n\nIngresso gratuito – Prenotazione obbligatoria\n\nScrivere  a info@pm-mvs.it e come oggetto: prenotazione Happy Birthday Bob
URL:https://arci.bz.it/evento/happy-birthday-bob/
ATTACH;FMTTYPE=image/jpeg:https://arci.bz.it/wp-content/uploads/2021/06/Arci-Bolzano-Happy-Birthday-Bob.jpg
ORGANIZER;CN="Associazione Provinciale Musicisti":MAILTO:info@ pm-mvs.it
END:VEVENT
BEGIN:VEVENT
DTSTART;TZID=Europe/Rome:20210701T183000
DTEND;TZID=Europe/Rome:20210701T203000
DTSTAMP:20260420T013218
CREATED:20210630T110517Z
LAST-MODIFIED:20210630T110706Z
UID:1279-1625164200-1625171400@arci.bz.it
SUMMARY:1 Estate al Pippo 2021
DESCRIPTION:Estate al Pippo anche quest’anno!\nNell’arena del Pippo.stage\, nel cuore del Parco Petrarca di Bolzano\, celebriamo l’estate con due serate e quattro appuntamenti di teatro danza e performance artistiche. Due occasioni per stare insieme al calar del sole e avvicinarci a diverse espressioni creative\, assieme ad artisti della nostra regione. \nPROGRAMMA \n1° luglio 2021 dalle 18.30 \n\nConcerto dei Prinz & Premier folk duo che ci proporranno un assaggio di musica popolare tradizionale\, spaziando dalle Alpi al sud Italia.\n\n“Minacce: nemici\, diavole e streghe” spettacolo teatrale della compagnia trentina La Burrasca\, con Maria Vittoria Barrella e Stefano Detassis.\nLa pièce attinge al patrimonio folklorico della nostra regione e presenta allo spettatore una carrellata di bizzarri e inquietanti personaggi che con gli strumenti dell’ironia e del black humor (e un pochino di teologia strampalata) lo guideranno attraverso le paure delle società del passato per farlo approdare alle inquietudini dell’oggi.\n\n\nPRENOTAZIONE\nLa prenotazione è obbligatoria e gli ingressi sono limitati.\nCome prenotarsi?\n Chiamaci al numero 0471 323648\n Scrivi a info@arci.bz.it specificando il numero di persone per le quali intendi prenotare e attendi la mail di conferma.\n Per dubbi e informazioni scrivi a info@arci.bz.it o chiama il numero 0471 323648\n____________________________________________\nDirettrice artistica: Anika Schluderbacher\n\nIn collaborazione con: Bar 2000 Pippo\n\nRassegna realizzata grazie al sostegno:\nProvincia autonoma di Bolzano\nComune di Bolzano\n\n\n\nProssimo evento di Estate al Pippo sarà il 24 agosto 
URL:https://arci.bz.it/evento/1-estate-al-pippo-2021/
LOCATION:Pippo\, Via Cadorna\, Bolzano\, Bolzano\, 39100\, Italia
ATTACH;FMTTYPE=image/jpeg:https://arci.bz.it/wp-content/uploads/2021/06/estate-al-Pippo-2021-appuntamenti.jpg
ORGANIZER;CN="Arci":MAILTO:info@arci.bz.it
GEO:46.503046238143334;11.345657275882976
X-APPLE-STRUCTURED-LOCATION;VALUE=URI;X-ADDRESS=Pippo Via Cadorna Bolzano Bolzano 39100 Italia;X-APPLE-RADIUS=500;X-TITLE=Via Cadorna:geo:11.345657275882976,46.503046238143334
END:VEVENT
END:VCALENDAR