BEGIN:VCALENDAR
VERSION:2.0
PRODID:-//Arci Bolzano - Bozen - ECPv6.6.3//NONSGML v1.0//EN
CALSCALE:GREGORIAN
METHOD:PUBLISH
X-WR-CALNAME:Arci Bolzano - Bozen
X-ORIGINAL-URL:https://arci.bz.it
X-WR-CALDESC:Eventi per Arci Bolzano - Bozen
REFRESH-INTERVAL;VALUE=DURATION:PT1H
X-Robots-Tag:noindex
X-PUBLISHED-TTL:PT1H
BEGIN:VTIMEZONE
TZID:Europe/Rome
BEGIN:DAYLIGHT
TZOFFSETFROM:+0100
TZOFFSETTO:+0200
TZNAME:CEST
DTSTART:20260329T010000
END:DAYLIGHT
BEGIN:STANDARD
TZOFFSETFROM:+0200
TZOFFSETTO:+0100
TZNAME:CET
DTSTART:20261025T010000
END:STANDARD
END:VTIMEZONE
BEGIN:VEVENT
DTSTART;TZID=Europe/Rome:20260423T180000
DTEND;TZID=Europe/Rome:20260423T200000
DTSTAMP:20260423T020227
CREATED:20260401T162354Z
LAST-MODIFIED:20260401T162527Z
UID:9673-1776967200-1776974400@arci.bz.it
SUMMARY:Io sono un'aliena | La scrittura di Luce D'Eramo
DESCRIPTION:“Secondo me non ci sono modelli di comportamento. \nChi ha lottato per la libertà\, per la giustizia\, non ci dice come possiamo lottare noi. \nCi dice che è possibile farlo. Che è sempre possibile ritentare daccapo. Così ho fatto io.” \nLuce d’Eramo \n  \nL’incontro approfondisce la figura della scrittrice Luce d’Eramo\, che dopo aver preso le distanze dall’ideologia fascista della sua famiglia\, trasformò la propria esperienza di guerra e di ricerca personale in una potente riflessione letteraria e civile. Attraverso interventi di docenti e di uno studente di Bolzano\, la serata esplorerà i temi centrali della sua poetica e il significato della “resistenza” nel suo percorso umano e intellettuale.  \n  \n*evento a cura di COOLtour e Artemisia (La Strada – der Weg) e Fillide (Associazione bolzano1999) \n 
URL:https://arci.bz.it/evento/io-sono-unaliena-la-scrittura-di-luce-deramo/
LOCATION:Nuova Libreria Cappelli\, Corso della Libertà\, 2\, Bolzano\, 39100\, Italia
ATTACH;FMTTYPE=image/png:https://arci.bz.it/wp-content/uploads/2026/04/19.png
END:VEVENT
END:VCALENDAR