BEGIN:VCALENDAR
VERSION:2.0
PRODID:-//Arci Bolzano - Bozen - ECPv6.6.3//NONSGML v1.0//EN
CALSCALE:GREGORIAN
METHOD:PUBLISH
X-WR-CALNAME:Arci Bolzano - Bozen
X-ORIGINAL-URL:https://arci.bz.it
X-WR-CALDESC:Eventi per Arci Bolzano - Bozen
REFRESH-INTERVAL;VALUE=DURATION:PT1H
X-Robots-Tag:noindex
X-PUBLISHED-TTL:PT1H
BEGIN:VTIMEZONE
TZID:Europe/Rome
BEGIN:DAYLIGHT
TZOFFSETFROM:+0100
TZOFFSETTO:+0200
TZNAME:CEST
DTSTART:20260329T010000
END:DAYLIGHT
BEGIN:STANDARD
TZOFFSETFROM:+0200
TZOFFSETTO:+0100
TZNAME:CET
DTSTART:20261025T010000
END:STANDARD
END:VTIMEZONE
BEGIN:VEVENT
DTSTART;TZID=Europe/Rome:20260422T180000
DTEND;TZID=Europe/Rome:20260422T200000
DTSTAMP:20260422T024033
CREATED:20260401T162019Z
LAST-MODIFIED:20260401T162019Z
UID:9669-1776880800-1776888000@arci.bz.it
SUMMARY:History Talk | 25 aprile - Memorie in conflitto
DESCRIPTION:Dopo l’8 settembre 1943 si sviluppano in Sudtirolo due Resistenze\, divise dalla lingua e così dalla prospettiva sul futuro del confine. Anche dopo la Liberazione\, queste rimangono isolate e separate: la lotta contro il fascismo e contro il nazismo costituisce il criterio di legittimazione politica dell’immediato dopoguerra\, soprattutto agli occhi degli Alleati\, per cui ciascun gruppo linguistico esalta i propri meriti e nega quelli dell’altro. Le celebrazioni del 25 aprile saranno oggetto di dibattito sia a livello locale che nazionale.  \nIn questa serata Lorenzo Vianini\, che attraverso la stampa dell’epoca ha ricostruitolo sviluppo delle memorie legate alla giornata della Liberazione (1945 -1995)\, dialogherà con Adina Guarnieri.  \n  \n*evento a cura di Frauenarchiv/io storico delle donne bz\, Arci Bolzano – Bozen\, Storia & Regione – Geschichte & Region
URL:https://arci.bz.it/evento/history-talk-25-aprile-memorie-in-conflitto/
LOCATION:Pippo FoodChill&Stage\, Parco Petrarca\, Bolzano\, Italia
ATTACH;FMTTYPE=image/png:https://arci.bz.it/wp-content/uploads/2026/04/16.png
END:VEVENT
END:VCALENDAR