BEGIN:VCALENDAR
VERSION:2.0
PRODID:-//Arci Bolzano - Bozen - ECPv6.6.3//NONSGML v1.0//EN
CALSCALE:GREGORIAN
METHOD:PUBLISH
X-ORIGINAL-URL:https://arci.bz.it
X-WR-CALDESC:Eventi per Arci Bolzano - Bozen
REFRESH-INTERVAL;VALUE=DURATION:PT1H
X-Robots-Tag:noindex
X-PUBLISHED-TTL:PT1H
BEGIN:VTIMEZONE
TZID:Europe/Rome
BEGIN:DAYLIGHT
TZOFFSETFROM:+0100
TZOFFSETTO:+0200
TZNAME:CEST
DTSTART:20250330T010000
END:DAYLIGHT
BEGIN:STANDARD
TZOFFSETFROM:+0200
TZOFFSETTO:+0100
TZNAME:CET
DTSTART:20251026T010000
END:STANDARD
END:VTIMEZONE
BEGIN:VEVENT
DTSTART;TZID=Europe/Rome:20250129T203000
DTEND;TZID=Europe/Rome:20250129T220000
DTSTAMP:20260419T145505
CREATED:20250113T104227Z
LAST-MODIFIED:20250113T104227Z
UID:8817-1738182600-1738188000@arci.bz.it
SUMMARY:Spettacolo teatrale "Ausmerzen\, vite indegne di essere vissute" - REMEMBER FESTIVAL 2025
DESCRIPTION:Uno spettacolo che parla dell’Azione Ti Quattro\, il primo sterminio di massa nazista: l’eliminazione di settantamila tedeschi fra malati mentali\, portatori di handicap\, disabili e bambini affetti da malformazioni. L’Azione T4 è l’operazione in cui per la prima volta si è parlato di soluzione finale e camere a gas. La forza di questo spettacolo è che ad interpretarlo è Barbara Apuzzo\, attrice disabile: il suo corpo e la sua presenza fisica renderà ancor più chiaro il messaggio di Ausmerzen.  \nIn collaborazione con Centro Pace Bolzano Friedenszentrum
URL:https://arci.bz.it/evento/spettacolo-teatrale-ausmerzen-vite-indegne-di-essere-vissute-remember-festival-2025/
LOCATION:Teatro Comunale Gries
ATTACH;FMTTYPE=image/png:https://arci.bz.it/wp-content/uploads/2025/01/sito_29.png
END:VEVENT
END:VCALENDAR