BEGIN:VCALENDAR
VERSION:2.0
PRODID:-//Arci Bolzano - Bozen - ECPv6.6.3//NONSGML v1.0//EN
CALSCALE:GREGORIAN
METHOD:PUBLISH
X-ORIGINAL-URL:https://arci.bz.it
X-WR-CALDESC:Eventi per Arci Bolzano - Bozen
REFRESH-INTERVAL;VALUE=DURATION:PT1H
X-Robots-Tag:noindex
X-PUBLISHED-TTL:PT1H
BEGIN:VTIMEZONE
TZID:Europe/Rome
BEGIN:DAYLIGHT
TZOFFSETFROM:+0100
TZOFFSETTO:+0200
TZNAME:CEST
DTSTART:20240331T010000
END:DAYLIGHT
BEGIN:STANDARD
TZOFFSETFROM:+0200
TZOFFSETTO:+0100
TZNAME:CET
DTSTART:20241027T010000
END:STANDARD
END:VTIMEZONE
BEGIN:VEVENT
DTSTART;TZID=Europe/Rome:20240928T120000
DTEND;TZID=Europe/Rome:20240928T120000
DTSTAMP:20260419T233538
CREATED:20240923T125214Z
LAST-MODIFIED:20240927T121917Z
UID:8639-1727524800-1727524800@arci.bz.it
SUMMARY:GLUE Itinerant | Urban | Culture
DESCRIPTION: GLUE | Itinerant Urban Culture\n\n 28 settembre 2024 12:00 Pippo food.chill.stage Bolzano\n BAW – Bolzano Art Weeks\nUnisciti a noi per l’inaugurazione di GLUE\, un progetto di arte urbana itinerante che esplora il delicato rapporto tra uomo e natura. Attraverso una Call for Artists\, abbiamo invitato artisti a riflettere su come la crisi climatica influisca sulla nostra quotidianità e sulla nostra percezione dell’ambiente naturale come identità culturale.\n10 artisti\, 10 manifesti\, 1 messaggio: raccontare come la relazione tra uomo e natura stia perdendo la sua sinergia\, proponendo nuove prospettive attraverso l’arte.\n\n🎨 Gli artisti partecipanti: \n\nBenno Simma\nFabian Haspinger\nElisabetta Vazzoler\nNadia Tamanini\nNicola Morandini\nClaus Soraperra\nElisa Grezzani\nClaudia Barcheri\nDaniela Chinellato\nLetizia Molon\n\n👥 Saranno presenti anche i membri della giuria della Call for Artists: \n\nNazario Zambaldi\nMauro Sperandio\nPatrizia Bartolini\n\nQuesto evento è un’opportunità unica per immergersi nell’arte contemporanea e riflettere sul nostro impatto ambientale. I manifesti artistici saranno esposti al pubblico e accessibili alla comunità\, creando un dialogo visivo e culturale aperto a tutti. \nNon mancare! Prepara i tuoi sensi per un viaggio artistico e culturale nella città di Bolzano! 🌍💚 \n\n*L’iniziativa è promossa da Arci Bolzano – Bozen\, con il sostegno della Ripartizione Cultura Italiana della Provincia autonoma di Bolzano\, dell’Ufficio Cultura del Comune di Bolzano e della Fondazione Cassa di Risparmio – Stiftung Sparkasse.
URL:https://arci.bz.it/evento/glue-itinerant-urban-culture/
LOCATION:Pippo FoodChill&Stage\, Parco Petrarca\, Bolzano\, Italia
ATTACH;FMTTYPE=image/png:https://arci.bz.it/wp-content/uploads/2024/09/GLUE-3.png
END:VEVENT
END:VCALENDAR