BEGIN:VCALENDAR
VERSION:2.0
PRODID:-//Arci Bolzano - Bozen - ECPv6.6.3//NONSGML v1.0//EN
CALSCALE:GREGORIAN
METHOD:PUBLISH
X-ORIGINAL-URL:https://arci.bz.it
X-WR-CALDESC:Eventi per Arci Bolzano - Bozen
REFRESH-INTERVAL;VALUE=DURATION:PT1H
X-Robots-Tag:noindex
X-PUBLISHED-TTL:PT1H
BEGIN:VTIMEZONE
TZID:Europe/Rome
BEGIN:DAYLIGHT
TZOFFSETFROM:+0100
TZOFFSETTO:+0200
TZNAME:CEST
DTSTART:20240331T010000
END:DAYLIGHT
BEGIN:STANDARD
TZOFFSETFROM:+0200
TZOFFSETTO:+0100
TZNAME:CET
DTSTART:20241027T010000
END:STANDARD
END:VTIMEZONE
BEGIN:VEVENT
DTSTART;TZID=Europe/Rome:20240610T120000
DTEND;TZID=Europe/Rome:20240610T120000
DTSTAMP:20260420T045133
CREATED:20240607T091222Z
LAST-MODIFIED:20240607T091614Z
UID:8323-1718020800-1718020800@arci.bz.it
SUMMARY:Apertura CALL FOR ARTISTS
DESCRIPTION:Open Call for artists! \nArci Bolzano-Bozen presenta la call for artists per la realizzazione di 10 manifesti che verranno affissi per la città di Bolzano. \nCome potrà evolversi la relazione uomo e natura\, come ci possiamo riconnettere col mondo naturale\, e ancora quali possono essere le future tecniche di adattamento che l’uomo può mettere in atto per convivere nella vita di tutti i giorni con eventi estremi sempre più frequenti e in un mondo sempre più inquinato e antropizzato? \nL’ambiente naturale è parte integrante della vita delle persone non solo a livello geografico e ambientale ma anche e soprattutto culturalmente\, come elemento identitario delle comunità che lo abitano e lo vivono. \n  \nL’obiettivo è quello di ragionare trasversalmente sulla realtà attuale della nostra quotidianità in relazione al clima e al mondo naturale ma anche di cercare di riflettere fuori dagli schemi sui possibili scenari futuri di questa connessione vitale. \nArci Bolzano-Bozen si propone di far emergere e dare rilevanza ai lavori di diversi artisti che nella nostra città e nella provincia di Bolzano faticano a trovare spazi adeguati o situazioni meno convenzionali e meno formali per proporre le proprie opere ad un pubblico. \nSe sei tra questi non vediamo l’ora di conoscerti e di scoprire la tua arte ! \n  \nPer partecipare invia il tuo portfolio artistico e una breve lettera motivazionale\, per saperne un po’ di più su di te\, al seguente indirizzo e-mail: call4artists@arci.bz.it \nDEADLINE: 14.07.2024
URL:https://arci.bz.it/evento/apertura-call-for-artists/
LOCATION:Sede di Bolzano\, Via Dolomiti Strasse 14\, Bolzano\, BZ\, 39100\, Italia
ATTACH;FMTTYPE=image/png:https://arci.bz.it/wp-content/uploads/2024/06/CALL-Post-insta.png
GEO:46.497024815264;11.370086184138
X-APPLE-STRUCTURED-LOCATION;VALUE=URI;X-ADDRESS=Sede di Bolzano Via Dolomiti Strasse 14 Bolzano BZ 39100 Italia;X-APPLE-RADIUS=500;X-TITLE=Via Dolomiti Strasse 14:geo:11.370086184138,46.497024815264
END:VEVENT
END:VCALENDAR