BEGIN:VCALENDAR
VERSION:2.0
PRODID:-//Arci Bolzano - Bozen - ECPv6.6.3//NONSGML v1.0//EN
CALSCALE:GREGORIAN
METHOD:PUBLISH
X-WR-CALNAME:Arci Bolzano - Bozen
X-ORIGINAL-URL:https://arci.bz.it
X-WR-CALDESC:Eventi per Arci Bolzano - Bozen
REFRESH-INTERVAL;VALUE=DURATION:PT1H
X-Robots-Tag:noindex
X-PUBLISHED-TTL:PT1H
BEGIN:VTIMEZONE
TZID:Europe/Rome
BEGIN:DAYLIGHT
TZOFFSETFROM:+0100
TZOFFSETTO:+0200
TZNAME:CEST
DTSTART:20240331T010000
END:DAYLIGHT
BEGIN:STANDARD
TZOFFSETFROM:+0200
TZOFFSETTO:+0100
TZNAME:CET
DTSTART:20241027T010000
END:STANDARD
END:VTIMEZONE
BEGIN:VEVENT
DTSTART;TZID=Europe/Rome:20240425T150000
DTEND;TZID=Europe/Rome:20240425T150000
DTSTAMP:20260420T082823
CREATED:20240411T190855Z
LAST-MODIFIED:20240427T163353Z
UID:8243-1714057200-1714057200@arci.bz.it
SUMMARY:Festa della Liberazione
DESCRIPTION:Giovedì 25 aprile\, a partire dalle ore 15\, presso il Pippo (via Cadorna) un lungo pomeriggio di musica dal vivo\, per festeggiare insieme l’Anniversario della liberazione dell’Italia dal nazifascismo.  \n  \nAd alternarsi sui due palchi\, fino a tarda sera\, cantanti e musicisti del territorio: Lisa Pivetta\, Ash\, Fanta\, Zuga DJ Set\, Supermarket Crew\, Degrado da Radici\, Coobolt\, Raphael\, Raw Power\, Diego Potron DeadMan\, Kiuppo DJ Set.  \n  \nIl pomeriggio sarà arricchito da momenti di lettura sul palco dei giovani di ANPI Alto Adige – Sudtirol\, sui temi della resistenza\, della libertà\, della lotta partigiana e della lotta al fascismo.   \n  \nI partecipanti al progetto Promemoria_Auschwitz.eu della Provincia di Bolzano racconteranno la loro esperienza di viaggio alla cittadinanza\, attraverso le forme artistiche della narrazione e del video.  \n  \nAlcune realtà del territorio saranno presenti con stand: Arci Bolzano – Bozen e Arciragazzi Bolzano\, ANPI Alto Adige Sudtirol\, Amnesty International Italia – Bolzano\, Centaurus Arcigay Alto Adige Sudtirol\, Coworking della Memoria\, Emergency Bolzano\, COOLtour.  \n  \nAd allietare il palato due proposte culinarie: il food-truck di Danilo\, direttamente dall’Emilia Romagna\, con piadine e panini\, e Rahma\, che proporrà la injera etiope vegetariana\, una sorta di crespella usata come supporto edibile per legumi e verdure. 
URL:https://arci.bz.it/evento/festa-della-liberazione/
LOCATION:Pippo\, Via Cadorna\, Bolzano\, Bolzano\, 39100\, Italia
ATTACH;FMTTYPE=image/png:https://arci.bz.it/wp-content/uploads/2024/04/25-insta_sito.png
GEO:46.503046238143334;11.345657275882976
X-APPLE-STRUCTURED-LOCATION;VALUE=URI;X-ADDRESS=Pippo Via Cadorna Bolzano Bolzano 39100 Italia;X-APPLE-RADIUS=500;X-TITLE=Via Cadorna:geo:11.345657275882976,46.503046238143334
END:VEVENT
END:VCALENDAR