BEGIN:VCALENDAR
VERSION:2.0
PRODID:-//Arci Bolzano - Bozen - ECPv6.6.3//NONSGML v1.0//EN
CALSCALE:GREGORIAN
METHOD:PUBLISH
X-WR-CALNAME:Arci Bolzano - Bozen
X-ORIGINAL-URL:https://arci.bz.it
X-WR-CALDESC:Eventi per Arci Bolzano - Bozen
REFRESH-INTERVAL;VALUE=DURATION:PT1H
X-Robots-Tag:noindex
X-PUBLISHED-TTL:PT1H
BEGIN:VTIMEZONE
TZID:Europe/Rome
BEGIN:DAYLIGHT
TZOFFSETFROM:+0100
TZOFFSETTO:+0200
TZNAME:CEST
DTSTART:20240331T010000
END:DAYLIGHT
BEGIN:STANDARD
TZOFFSETFROM:+0200
TZOFFSETTO:+0100
TZNAME:CET
DTSTART:20241027T010000
END:STANDARD
END:VTIMEZONE
BEGIN:VEVENT
DTSTART;TZID=Europe/Rome:20240403T163000
DTEND;TZID=Europe/Rome:20240403T163000
DTSTAMP:20260420T082822
CREATED:20240329T104025Z
LAST-MODIFIED:20240329T140334Z
UID:8213-1712161800-1712161800@arci.bz.it
SUMMARY:Piccolo Giallo e Grande Blu – la lettura ad alta voce
DESCRIPTION:Vi invitiamo mercoledì 3 aprile\, a partire dalle ore 16.30\, presso il Centro Giovani “TesLab”. \nCi aspetta un pomeriggio dedicato alla lettura ad alta voce\, alla scoperta delle storie più amate dai bambini. \nQuesta iniziativa rientra nel progetto “Piccolo Giallo\, Grande Blu” a cura di Arci APS\, attivo in 6 regioni\, con il coinvolgimento di 18 partner. L’obiettivo è quello di creare buone pratiche nella promozione della lettura espressiva ad alta voce e della relazione attraverso il libro. Un progetto educativo che vuole diffondere la pratica della lettura ad alta voce come strumento di relazione sociale e di contrasto alla povertà educativa. \nIn provincia di Bolzano sono coinvolte anche le scuole dell’Istituto Comprensivo Bolzano 1 – “Dante”\, “Rosmini”\, “Chini”. \nIl progetto “Piccolo Giallo e Grande Blu” è a cura di Arci APS ed è realizzato nell’ambito del bando “Ad alta voce” promosso dal CEPELL – Centro per il libro e la lettura del Mibact.
URL:https://arci.bz.it/evento/piccolo-giallo-e-grande-blu-la-lettura-ad-alta-voce/
LOCATION:TesLab\, Via Dolomiti - Dolomitenstraße\, 14\, Bolzano\, Bolzano\, 39100
ATTACH;FMTTYPE=image/jpeg:https://arci.bz.it/wp-content/uploads/2024/03/WhatsApp-Image-2024-03-29-at-11.33.25.jpeg
GEO:46.496861;11.370693
X-APPLE-STRUCTURED-LOCATION;VALUE=URI;X-ADDRESS=TesLab Via Dolomiti - Dolomitenstraße 14 Bolzano Bolzano 39100;X-APPLE-RADIUS=500;X-TITLE=Via Dolomiti - Dolomitenstraße\, 14:geo:11.370693,46.496861
END:VEVENT
END:VCALENDAR