BEGIN:VCALENDAR
VERSION:2.0
PRODID:-//Arci Bolzano - Bozen - ECPv6.6.3//NONSGML v1.0//EN
CALSCALE:GREGORIAN
METHOD:PUBLISH
X-WR-CALNAME:Arci Bolzano - Bozen
X-ORIGINAL-URL:https://arci.bz.it
X-WR-CALDESC:Eventi per Arci Bolzano - Bozen
REFRESH-INTERVAL;VALUE=DURATION:PT1H
X-Robots-Tag:noindex
X-PUBLISHED-TTL:PT1H
BEGIN:VTIMEZONE
TZID:Europe/Rome
BEGIN:DAYLIGHT
TZOFFSETFROM:+0100
TZOFFSETTO:+0200
TZNAME:CEST
DTSTART:20230326T010000
END:DAYLIGHT
BEGIN:STANDARD
TZOFFSETFROM:+0200
TZOFFSETTO:+0100
TZNAME:CET
DTSTART:20231029T010000
END:STANDARD
END:VTIMEZONE
BEGIN:VEVENT
DTSTART;TZID=Europe/Rome:20231007T200000
DTEND;TZID=Europe/Rome:20231008T030000
DTSTAMP:20260420T205340
CREATED:20231002T213641Z
LAST-MODIFIED:20231002T213756Z
UID:7797-1696708800-1696734000@arci.bz.it
SUMMARY:Other Side The Doors Tribute Band - Associazione Moment
DESCRIPTION:PROGRAMMA SERATA:\n-Sabato 7 ottobre presso Disco Club Cheope a Pineta di Laives dalle ore 20:00 fino alle 3:00.\n-Organizzatori: Cooperativa HoE + Associazione Moment (ARCI)\nDalle ore 20 fino alle 23 circa: Karaoke con HoE.\nDalle 23 circa:\n\nOTHER SIDE- the Doors Tribute Band from Italy \n\nVengono da Varese e da Catania\, gli Other Side oltre ad avere all’ attivo esperienza e concerti in tutta Italia e all’ estero\, sono noti per le atmosfere ricercate\, abiti ricercati\, la fedeltà di esecuzione\, ogni performance è un evento unico! Basta chiudere gli occhi e lasciarsi trasportare in un’esperienza ipnotica e psichedelica…un viaggio nel tempo e bella musica da percorrere insieme!\nDanilo Passeri è Jim\nAlessandro Borgini é Robby Krieger\nMarco Lo Cascio è John Densmore\nAlessio Bannò è Ray Manzarek\nAlessio viene da Catania\, un virtuoso delle tastiere. La sua passione per le tastiere di Manzarek\, hanno maturato nel 2013 la decisione di intraprendere il ruolo di “Session Player” per la figura di Ray Manzarek in cover band dei Doors italiane ed estere. www.alessiobanno.com\nNon perdete l’ occasione\, sarà un evento unico!\nDalle 1:00 circa alle 3:00:\nUn ritorno di certo gradito per gli Afronauti per gli amanti del Reggaeton e del Tribal Disco Funky\nDj Nesh\nHa contribuito a fare la storia al Disco Club Cheope per molti anni\, di certo un ritorno piacevole per i nostalgici!\nIdeazione grafica di Luca Zicca\n 
URL:https://arci.bz.it/evento/other-side-the-doors-tribute-band-associazione-moment/
LOCATION:Cheope\, Via Brennero 6\, Pineta di Laives\, 39055
ATTACH;FMTTYPE=image/jpeg:https://arci.bz.it/wp-content/uploads/2023/10/WhatsApp-Image-2023-09-26-at-13.41.48.jpeg
ORGANIZER;CN="Arci":MAILTO:info@arci.bz.it
END:VEVENT
END:VCALENDAR