BEGIN:VCALENDAR
VERSION:2.0
PRODID:-//Arci Bolzano - Bozen - ECPv6.6.3//NONSGML v1.0//EN
CALSCALE:GREGORIAN
METHOD:PUBLISH
X-ORIGINAL-URL:https://arci.bz.it
X-WR-CALDESC:Eventi per Arci Bolzano - Bozen
REFRESH-INTERVAL;VALUE=DURATION:PT1H
X-Robots-Tag:noindex
X-PUBLISHED-TTL:PT1H
BEGIN:VTIMEZONE
TZID:Europe/Rome
BEGIN:DAYLIGHT
TZOFFSETFROM:+0100
TZOFFSETTO:+0200
TZNAME:CEST
DTSTART:20230326T010000
END:DAYLIGHT
BEGIN:STANDARD
TZOFFSETFROM:+0200
TZOFFSETTO:+0100
TZNAME:CET
DTSTART:20231029T010000
END:STANDARD
END:VTIMEZONE
BEGIN:VEVENT
DTSTART;TZID=Europe/Rome:20230825T203000
DTEND;TZID=Europe/Rome:20230825T220000
DTSTAMP:20260421T021413
CREATED:20230804T153957Z
LAST-MODIFIED:20230804T153957Z
UID:7672-1692995400-1693000800@arci.bz.it
SUMMARY:Frida Connessioni di una Vita\, Performance
DESCRIPTION:Quando? \nVenerdì 25° agosto\, dalle ore 20.30 \nCosa? \nFrida Connessioni di una Vita \n  \nA chiudere Al Sur Mirando sarà la performance “Frida Connessioni di una Vita”\, che il 25 agosto\, stesso posto\, stessa ora\, offrirà al pubblico un’immersione profonda nella vita e nell’arte di Frida Kahlo\, una delle figure più influenti e affascinanti del panorama artistico del XX secolo\, icona dell’arte messicana e simbolo di forza e resilienza. Attraverso una combinazione di narrazione coinvolgente (Renato Sclaunich Edizioni Scarabocchio – Lettera 7)\, interpretazione teatrale (Anika Schluderbacher)\, musica evocativa (la voce nuda di Francesca Cavallaro e Domenico Laratta\, anche attori in scena) e scenografie date dalle tele di Daniela Armani (pittrice locale)\, lo spettacolo catturerà l’essenza stessa di Frida. \nLe scenografie sono un aspetto di grande rilievo nello spettacolo.  La musica si fonde armoniosamente con la narrazione e l’interpretazione\, creando un’atmosfera avvolgente che amplifica l’impatto emotivo dello spettacolo. Le tele\, i racconti e le melodie\, quasi viscerali senza accompagnamento musicale\, danno vita a una Frida senza veli e disarmata trasmettendo il suo messaggio di autenticità\, passione e lotta per la libertà. \n“Frida Connessioni di una Vita” sarà molto più di uno spettacolo teatrale. Sarà un’esperienza intensa e profonda che permetterà al pubblico di immergersi completamente nell’universo di Frida Kahlo\, di afferrare la sua complessità come artista e come individuo\, e di trovare ispirazione nella sua lotta per l’autenticità e l’empowerment femminile. \nAttraverso questa rappresentazione straordinaria\, lo spettacolo cercherà di toccare le corde più intime degli spettatori\, di spingere alla riflessione sulle proprie esperienze e sfide personali e di ispirare una maggiore consapevolezza dell’importanza di esprimere la propria autenticità e abbracciare la propria unicità.
URL:https://arci.bz.it/evento/frida-connessioni-di-una-vita-performance/
LOCATION:Meteo Beach Bar – Merano\, Italia
ATTACH;FMTTYPE=image/png:https://arci.bz.it/wp-content/uploads/2023/08/25.png
ORGANIZER;CN="Coworking Merano":MAILTO:coworkingdellamemoria@gmail.com
END:VEVENT
END:VCALENDAR