BEGIN:VCALENDAR
VERSION:2.0
PRODID:-//Arci Bolzano - Bozen - ECPv6.6.3//NONSGML v1.0//EN
CALSCALE:GREGORIAN
METHOD:PUBLISH
X-WR-CALNAME:Arci Bolzano - Bozen
X-ORIGINAL-URL:https://arci.bz.it
X-WR-CALDESC:Eventi per Arci Bolzano - Bozen
REFRESH-INTERVAL;VALUE=DURATION:PT1H
X-Robots-Tag:noindex
X-PUBLISHED-TTL:PT1H
BEGIN:VTIMEZONE
TZID:Europe/Rome
BEGIN:DAYLIGHT
TZOFFSETFROM:+0100
TZOFFSETTO:+0200
TZNAME:CEST
DTSTART:20230326T010000
END:DAYLIGHT
BEGIN:STANDARD
TZOFFSETFROM:+0200
TZOFFSETTO:+0100
TZNAME:CET
DTSTART:20231029T010000
END:STANDARD
END:VTIMEZONE
BEGIN:VEVENT
DTSTART;TZID=Europe/Rome:20230823T203000
DTEND;TZID=Europe/Rome:20230823T220000
DTSTAMP:20260421T021253
CREATED:20230804T152907Z
LAST-MODIFIED:20230804T153350Z
UID:7666-1692822600-1692828000@arci.bz.it
SUMMARY:Mata Bicho\, Live Music - Cumbia
DESCRIPTION:Quando? \nMercoledì 23° agosto\, dalle ore 20.30 \nCosa? \nMata Bicho\, Live Music – Cumbia \nAd inaugurare la rassegna Al Sur Mirando di quest’anno sarà il gruppo bolognese\, Mata Bicho che Mercoledì 23 agosto a partire dalle ore 20:30\, presso il Meteo Beach Bar\, porterà il pubblico in un viaggio coinvolgente attraverso suoni vibranti e ritmi contagiosi! \nComposto da musicisti professionisti con diverse esperienze e influenze musicali\, dai generi classici al jazz\, dal rock indie alla musica popolare balcanica\, i Mata Bicho hanno creato un repertorio unico che si appropria dei linguaggi popolari dell’America Latina\, in particolare il genere della cumbia. La loro abilità straordinaria nel mescolare tradizione e innovazione permetterà un’esperienza musicale unica. Attraverso il suono degli strumenti tradizionali e una fusione di ritmi e melodie\, il pubblico verrà trasportato in un’atmosfera che invita a ballare e a lasciarsi trasportare dalla magia della musica. I Mata Bicho  hanno guadagnato fama a livello nazionale grazie a concerti entusiasmanti e partecipazioni a importanti festival musicali. La loro passione contagiosa per la musica sudamericana si manifesta in performance dal vivo che trasmettono l’energia e l’anima di questa tradizione musicale ricca di storia e cultura. \nIl concerto dei Mata Bicho non sarò solo uno spettacolo musicale di alta qualità\, ma anche un’esperienza che celebra la diversità culturale e invita il pubblico a immergersi in un viaggio musicale attraverso i paesaggi sonori dell’America Latina. Sarà un’opportunità unica per connettersi con la musica che attraversa le barriere culturali e linguistiche.
URL:https://arci.bz.it/evento/mata-bicho-live-music-cumbia/
LOCATION:Meteo Beach Bar – Merano\, Italia
ATTACH;FMTTYPE=image/png:https://arci.bz.it/wp-content/uploads/2023/08/23.png
ORGANIZER;CN="Coworking Merano":MAILTO:coworkingdellamemoria@gmail.com
END:VEVENT
END:VCALENDAR