BEGIN:VCALENDAR
VERSION:2.0
PRODID:-//Arci Bolzano - Bozen - ECPv6.6.3//NONSGML v1.0//EN
CALSCALE:GREGORIAN
METHOD:PUBLISH
X-ORIGINAL-URL:https://arci.bz.it
X-WR-CALDESC:Eventi per Arci Bolzano - Bozen
REFRESH-INTERVAL;VALUE=DURATION:PT1H
X-Robots-Tag:noindex
X-PUBLISHED-TTL:PT1H
BEGIN:VTIMEZONE
TZID:Europe/Rome
BEGIN:DAYLIGHT
TZOFFSETFROM:+0100
TZOFFSETTO:+0200
TZNAME:CEST
DTSTART:20230326T010000
END:DAYLIGHT
BEGIN:STANDARD
TZOFFSETFROM:+0200
TZOFFSETTO:+0100
TZNAME:CET
DTSTART:20231029T010000
END:STANDARD
END:VTIMEZONE
BEGIN:VEVENT
DTSTART;TZID=Europe/Rome:20230524T183000
DTEND;TZID=Europe/Rome:20230524T210000
DTSTAMP:20260421T081039
CREATED:20230522T163322Z
LAST-MODIFIED:20230522T163729Z
UID:7376-1684953000-1684962000@arci.bz.it
SUMMARY:FARE MEMORIA A SREBRENICA – Tra storia\, memoria e negazionismo
DESCRIPTION:Incontro pubblico con la presenza di Emir Suljagić\, direttore del Memoriale di Srebrenica   ; Edin Ikanović\, coordinatore del progetto Srebrenica 2.0  ; Almir Salihović\, responsabile dei progetti sulla Oral history; Stefano Petrungaro\, storico. \nInterviene Walter Massa\, presidente Arci Nazionale \nModera Luisa Chiodi\, direttrice di Osservatorio Balcani Caucaso Transeuropa  – unità operativa del Centro per la Cooperazione Internazionale \nTraduzione BiH/ITA a cura di Edvard Cucek e Andrea Rizza Goldstein \nTRA STORIA\, MEMORIA E NEGAZIONISMO \nSrebrenica\, nel luglio 1995\, è stata teatro del primo genocidio in Europa dopo la seconda guerra mondiale\, nel contesto della dissoluzione violenta dell’ex-Jugoslavia. Tra le responsabilità criminali stabilite dal Tribunale Penale Internazionale per i crimini di guerra in ex-Jugoslavia (ICTY) e le responsabilità internazionali nella (mala)gestione del conflitto\, che posto ha oggi Srebrenica nella narrativa europea\, anche alla luce della guerra russo-ucraina in corso? Cosa succede dopo una guerra e qual è lo stato dell’arte nella ricostruzione di una società devastata\, poco più di venticinque anni fa\, da una guerra e da un genocidio?
URL:https://arci.bz.it/evento/fare-memoria-a-srebrenica-tra-storia-memoria-e-negazionismo/
LOCATION:Pippo\, Via Cadorna\, Bolzano\, Bolzano\, 39100\, Italia
ATTACH;FMTTYPE=image/jpeg:https://arci.bz.it/wp-content/uploads/2023/05/fare_memoria_srebrenica.jpeg
ORGANIZER;CN="Arci":MAILTO:info@arci.bz.it
GEO:46.503046238143334;11.345657275882976
X-APPLE-STRUCTURED-LOCATION;VALUE=URI;X-ADDRESS=Pippo Via Cadorna Bolzano Bolzano 39100 Italia;X-APPLE-RADIUS=500;X-TITLE=Via Cadorna:geo:11.345657275882976,46.503046238143334
END:VEVENT
END:VCALENDAR