BEGIN:VCALENDAR
VERSION:2.0
PRODID:-//Arci Bolzano - Bozen - ECPv6.6.3//NONSGML v1.0//EN
CALSCALE:GREGORIAN
METHOD:PUBLISH
X-ORIGINAL-URL:https://arci.bz.it
X-WR-CALDESC:Eventi per Arci Bolzano - Bozen
REFRESH-INTERVAL;VALUE=DURATION:PT1H
X-Robots-Tag:noindex
X-PUBLISHED-TTL:PT1H
BEGIN:VTIMEZONE
TZID:Europe/Rome
BEGIN:DAYLIGHT
TZOFFSETFROM:+0100
TZOFFSETTO:+0200
TZNAME:CEST
DTSTART:20230326T010000
END:DAYLIGHT
BEGIN:STANDARD
TZOFFSETFROM:+0200
TZOFFSETTO:+0100
TZNAME:CET
DTSTART:20231029T010000
END:STANDARD
END:VTIMEZONE
BEGIN:VEVENT
DTSTART;TZID=Europe/Rome:20230523T190000
DTEND;TZID=Europe/Rome:20230523T230000
DTSTAMP:20260421T081040
CREATED:20230518T100906Z
LAST-MODIFIED:20230518T100906Z
UID:7326-1684868400-1684882800@arci.bz.it
SUMMARY:LE INCHIESTE SULLE INFILTRAZIONI MAFIOSE IN TRENTINO ALTO ADIGE
DESCRIPTION:Martedì 23 maggio alle ore 19.00\, nella Giornata della Legalità in ricordo delle vittime di tutte le mafie\, al Coworking della Memoria di Merano verrà organizzata una serata aperta a tutt* riguardante il “Processo Perfido”\, le inchieste delle infiltrazioni mafiose in Trentino – Alto Adige e la gestione delle cave di porfido. Nella serata moderata da Joshua De Gennaro di Arci del Trentino\, saranno presenti i relatori Ettore Paris – direttore di QuestoTrentino – e Walter Ferrari – coordinatore lavoro del porfido. \nI relatori interverranno per costruire le vicende legate alle infiltrazioni della ‘Ndrangheta nella regione. \nVi Aspettiamo! \n\n 
URL:https://arci.bz.it/evento/le-inchieste-sulle-infiltrazioni-mafiose-in-trentino-alto-adige/
LOCATION:Coworking della Memoria\, Via Ugo Foscolo\, 8\, Merano\, BZ\, 39012\, Italia
ATTACH;FMTTYPE=image/jpeg:https://arci.bz.it/wp-content/uploads/2023/05/mafia_merano.jpg
ORGANIZER;CN="Arci":MAILTO:info@arci.bz.it
END:VEVENT
END:VCALENDAR