BEGIN:VCALENDAR
VERSION:2.0
PRODID:-//Arci Bolzano - Bozen - ECPv6.6.3//NONSGML v1.0//EN
CALSCALE:GREGORIAN
METHOD:PUBLISH
X-ORIGINAL-URL:https://arci.bz.it
X-WR-CALDESC:Eventi per Arci Bolzano - Bozen
REFRESH-INTERVAL;VALUE=DURATION:PT1H
X-Robots-Tag:noindex
X-PUBLISHED-TTL:PT1H
BEGIN:VTIMEZONE
TZID:Europe/Rome
BEGIN:DAYLIGHT
TZOFFSETFROM:+0100
TZOFFSETTO:+0200
TZNAME:CEST
DTSTART:20230326T010000
END:DAYLIGHT
BEGIN:STANDARD
TZOFFSETFROM:+0200
TZOFFSETTO:+0100
TZNAME:CET
DTSTART:20231029T010000
END:STANDARD
END:VTIMEZONE
BEGIN:VEVENT
DTSTART;TZID=Europe/Rome:20230509T203000
DTEND;TZID=Europe/Rome:20230509T230000
DTSTAMP:20260421T081031
CREATED:20230504T144206Z
LAST-MODIFIED:20230504T144225Z
UID:7310-1683664200-1683673200@arci.bz.it
SUMMARY:Piombo\, lacrime e sangue - Spettacolo teatrale
DESCRIPTION:In occasione della Giornata in memoria alle vittime del terrorismo\, martedì 9 maggio alle ore 20.30 presso il Pippo Stage si terrà la rappresentazione teatrale “Piombo\, lacrime e sangue” con ingresso libero. Lo spettacolo\, realizzato dalla Compagnia Grenzland\, si inserisce nella rassegna di iniziative per la strage di Bologna del 2 agosto 1980 promossa da Arci Aurora\, Arci\, Arciragazzi e Anpi.\nL’opera teatrale è ambientata negli anni di piombo\, periodo storico tra la fine degli anni Sessanta e l’inizio degli Ottanta caratterizzato da stragi e azioni criminali violente. La rappresentazione immagina l’incontro di persone che hanno vissuto due terribili momenti della storia italiana\, la strage di Piazza Fontana del dicembre 1969 e quella della stazione di Bologna dell’agosto 1980.\n“Piombo\, lacrime e sangue” è messo in scena con l’obiettivo di riportare l’attenzione sul terrorismo e sulla scomparsa di due grandi servitori dello Stato\, Giovanni Falcone e Paolo Borsellino. Farlo nel 2023 significa commemorare la morte di Aldo Moro del 1978\, mentre nel 2024 ricorre il cinquantesimo anniversario della strage dell’Italicus e di Piazza della Loggia di Brescia.\n 
URL:https://arci.bz.it/evento/piombo-lacrime-e-sangue-spettacolo-teatrale/
LOCATION:Pippo\, Via Cadorna\, Bolzano\, Bolzano\, 39100\, Italia
ATTACH;FMTTYPE=image/jpeg:https://arci.bz.it/wp-content/uploads/2023/05/Copertina-teatro-9-maggio.jpg
ORGANIZER;CN="Arci":MAILTO:info@arci.bz.it
GEO:46.503046238143334;11.345657275882976
X-APPLE-STRUCTURED-LOCATION;VALUE=URI;X-ADDRESS=Pippo Via Cadorna Bolzano Bolzano 39100 Italia;X-APPLE-RADIUS=500;X-TITLE=Via Cadorna:geo:11.345657275882976,46.503046238143334
END:VEVENT
END:VCALENDAR