BEGIN:VCALENDAR
VERSION:2.0
PRODID:-//Arci Bolzano - Bozen - ECPv6.6.3//NONSGML v1.0//EN
CALSCALE:GREGORIAN
METHOD:PUBLISH
X-ORIGINAL-URL:https://arci.bz.it
X-WR-CALDESC:Eventi per Arci Bolzano - Bozen
REFRESH-INTERVAL;VALUE=DURATION:PT1H
X-Robots-Tag:noindex
X-PUBLISHED-TTL:PT1H
BEGIN:VTIMEZONE
TZID:Europe/Rome
BEGIN:DAYLIGHT
TZOFFSETFROM:+0100
TZOFFSETTO:+0200
TZNAME:CEST
DTSTART:20220327T010000
END:DAYLIGHT
BEGIN:STANDARD
TZOFFSETFROM:+0200
TZOFFSETTO:+0100
TZNAME:CET
DTSTART:20221030T010000
END:STANDARD
END:VTIMEZONE
BEGIN:VEVENT
DTSTART;TZID=Europe/Rome:20220919T180000
DTEND;TZID=Europe/Rome:20220919T220000
DTSTAMP:20260422T010321
CREATED:20220905T104847Z
LAST-MODIFIED:20220905T104847Z
UID:6065-1663610400-1663624800@arci.bz.it
SUMMARY:Youth 4 Climate! Opening Evening
DESCRIPTION:L’iniziativa:\nKeep It Cool! Youth 4 Climate Week \nL’obiettivo è quello di attirare l’attenzione sulla crisi climatica attraverso vari eventi e azioni che coinvolgono i giovani altoatesini\, per mostrare concretamente come ognuno possa dare il proprio contributo alla protezione del clima. \nLo scopo della “Youth 4 Climate Week 2022” (dal 19 al 23 settembre) è proprio quello di allargare la conoscenza di esperienze virtuose\, fornendo suggerimenti concreti per contribuire alla protezione del clima\, facendo ognuno la propria parte. \nCosa?\nUna serata a Merano\, nel bellissimo e suggestivo giardino interno della Jugendkirche in Piazza della Rena. \nL’inizio dell’evento è previsto alle 18.00 con uno spettacolo artistico curato dalle ragazze e dai ragazzi di Animativa che rappresenteranno la crisi climatica attraverso giochi aerei e altre acrobazie. \nLa seconda parte consiste in una mostra interattiva realizzata dal Coworking della Memoria sui temi del riscaldamento globale e della sostenibilità. \nLa serata sarà condita dal buffet sostenibile dei giovani cuochi della Scuola alberghiera Cesare Ritz  e accompagnata dalla musica di Nina Duschek\, che da parecchi anni fa sensibilizzazione sui temi ambientali attraverso il suo talento e la sua arte. \nQuando?\nIl 19 settembre dalle 18.00 \nDettagli: \nPrezzo: gratuito \nLuogo: Coworking della Memoria
URL:https://arci.bz.it/evento/youth-4-climate-opening-evening/
LOCATION:Coworking della Memoria\, Via Ugo Foscolo\, 8\, Merano\, BZ\, 39012\, Italia
ATTACH;FMTTYPE=image/png:https://arci.bz.it/wp-content/uploads/2022/09/opening_evening-1.png
ORGANIZER;CN="Coworking Merano":MAILTO:coworkingdellamemoria@gmail.com
END:VEVENT
END:VCALENDAR