BEGIN:VCALENDAR
VERSION:2.0
PRODID:-//Arci Bolzano - Bozen - ECPv6.6.3//NONSGML v1.0//EN
CALSCALE:GREGORIAN
METHOD:PUBLISH
X-ORIGINAL-URL:https://arci.bz.it
X-WR-CALDESC:Eventi per Arci Bolzano - Bozen
REFRESH-INTERVAL;VALUE=DURATION:PT1H
X-Robots-Tag:noindex
X-PUBLISHED-TTL:PT1H
BEGIN:VTIMEZONE
TZID:Europe/Rome
BEGIN:DAYLIGHT
TZOFFSETFROM:+0100
TZOFFSETTO:+0200
TZNAME:CEST
DTSTART:20220327T010000
END:DAYLIGHT
BEGIN:STANDARD
TZOFFSETFROM:+0200
TZOFFSETTO:+0100
TZNAME:CET
DTSTART:20221030T010000
END:STANDARD
END:VTIMEZONE
BEGIN:VEVENT
DTSTART;TZID=Europe/Rome:20220910T100000
DTEND;TZID=Europe/Rome:20220910T190000
DTSTAMP:20260422T010320
CREATED:20220906T100420Z
LAST-MODIFIED:20220906T100420Z
UID:6115-1662804000-1662836400@arci.bz.it
SUMMARY:CONGRESSO PROVINCIALE 2022
DESCRIPTION:Il congresso  \nNell’ambito del XVIII congresso nazionale di Arci le associazioni Arci Bolzano-Bozen e Arciragazzi si preparano per le assemblee congressuali locali. \nIl congresso sarà un’occasione di riflessione sul lavoro svolto negli ultimi 4 anni\, anni complicati a causa della pandemia e per il ritorno della guerra nel vecchio continente\, ma anni di nuovi progetti e rinnovato impegno. Darà inoltre la possibilità alle organizzazioni di individuare la strada da percorrere nel prossimo quadriennio. \nNel corso delle giornate di venerdì 9 settembre e sabato 10 settembre\, le associazioni si riuniranno presso il Pippo (Via Cadorna) per due giorni di lavoro e confronto interno e con la cittadinanza. \n  \nIl programma \nSabato 10 settembre\, invece\, si svolgeranno le attività più strettamente congressuali. A partire dalle ore 10.00 con il congresso Arciragazzi Bolzano\, durante cui sarà esposto il bilancio sociale e le attività per il prossimo quadriennio. Il pomeriggio sarà invece dedicato al congresso Arci Bolzano – Bozen\, che prevederà\, oltre l’elezione dell’organo direttivo\, anche la presentazione della relazione sociale e l’intervento degli invitati; diverse personalità importanti che accompagnano l’associazione nei percorsi e nelle attività svolte.
URL:https://arci.bz.it/evento/congresso-provinciale-2022-2/
LOCATION:Pippo\, Via Cadorna\, Bolzano\, Bolzano\, 39100\, Italia
ATTACH;FMTTYPE=image/jpeg:https://arci.bz.it/wp-content/uploads/2022/09/congresso_prov_slide.jpg
ORGANIZER;CN="Arci":MAILTO:info@arci.bz.it
GEO:46.503046238143334;11.345657275882976
X-APPLE-STRUCTURED-LOCATION;VALUE=URI;X-ADDRESS=Pippo Via Cadorna Bolzano Bolzano 39100 Italia;X-APPLE-RADIUS=500;X-TITLE=Via Cadorna:geo:11.345657275882976,46.503046238143334
END:VEVENT
END:VCALENDAR