BEGIN:VCALENDAR
VERSION:2.0
PRODID:-//Arci Bolzano - Bozen - ECPv6.6.3//NONSGML v1.0//EN
CALSCALE:GREGORIAN
METHOD:PUBLISH
X-ORIGINAL-URL:https://arci.bz.it
X-WR-CALDESC:Eventi per Arci Bolzano - Bozen
REFRESH-INTERVAL;VALUE=DURATION:PT1H
X-Robots-Tag:noindex
X-PUBLISHED-TTL:PT1H
BEGIN:VTIMEZONE
TZID:Europe/Rome
BEGIN:DAYLIGHT
TZOFFSETFROM:+0100
TZOFFSETTO:+0200
TZNAME:CEST
DTSTART:20220327T010000
END:DAYLIGHT
BEGIN:STANDARD
TZOFFSETFROM:+0200
TZOFFSETTO:+0100
TZNAME:CET
DTSTART:20221030T010000
END:STANDARD
END:VTIMEZONE
BEGIN:VEVENT
DTSTART;TZID=Europe/Rome:20220829T200000
DTEND;TZID=Europe/Rome:20220829T220000
DTSTAMP:20260422T010139
CREATED:20220725T143842Z
LAST-MODIFIED:20220725T143842Z
UID:5698-1661803200-1661810400@arci.bz.it
SUMMARY:La città senza nome\, Sagapò Teatro
DESCRIPTION:La rassegna culturale Al Sur Mirando nasce dalla passione degli operatori del Coworking della Memoria per il Sud America\, così come anche dal desiderio di voler eliminare le distanze culturali e a contribuire alla maturazione di visioni diverse dell’esistente. \nQuando? \nLunedì 29 agosto\, dalle ore 20.00 \nCosa?  \nLa città senza nome – Sagapò Teatro \nLo spettacolo narra di leggende\, storie popolari e testimonianze di un’America Latina lontana dalle grandi città\, di un’Argentina dimenticata\, dove chi si ribella sparisce per sempre e chi legge troppo è un sovversivo condannato ad un viaggio infinito. I linguaggi della narrazione\, della maschera e della musica danno vita a una fiaba per adulti\, una storia per ricordarci di non smettere mai di credere ai miracoli.
URL:https://arci.bz.it/evento/la-citta-senza-nome/
LOCATION:Meteo Beach Bar – Merano\, Italia
ATTACH;FMTTYPE=image/jpeg:https://arci.bz.it/wp-content/uploads/2022/07/29_08.jpeg
ORGANIZER;CN="Coworking Merano":MAILTO:coworkingdellamemoria@gmail.com
END:VEVENT
END:VCALENDAR