BEGIN:VCALENDAR
VERSION:2.0
PRODID:-//Arci Bolzano - Bozen - ECPv6.6.3//NONSGML v1.0//EN
CALSCALE:GREGORIAN
METHOD:PUBLISH
X-WR-CALNAME:Arci Bolzano - Bozen
X-ORIGINAL-URL:https://arci.bz.it
X-WR-CALDESC:Eventi per Arci Bolzano - Bozen
REFRESH-INTERVAL;VALUE=DURATION:PT1H
X-Robots-Tag:noindex
X-PUBLISHED-TTL:PT1H
BEGIN:VTIMEZONE
TZID:Europe/Rome
BEGIN:DAYLIGHT
TZOFFSETFROM:+0100
TZOFFSETTO:+0200
TZNAME:CEST
DTSTART:20220327T010000
END:DAYLIGHT
BEGIN:STANDARD
TZOFFSETFROM:+0200
TZOFFSETTO:+0100
TZNAME:CET
DTSTART:20221030T010000
END:STANDARD
END:VTIMEZONE
BEGIN:VEVENT
DTSTART;TZID=Europe/Rome:20220827T203000
DTEND;TZID=Europe/Rome:20220827T233000
DTSTAMP:20260422T024742
CREATED:20220728T095906Z
LAST-MODIFIED:20220728T101038Z
UID:5776-1661632200-1661643000@arci.bz.it
SUMMARY:Live Music - Diana Tejera - ESTATE AL PIPPO 2022
DESCRIPTION:Nell’arena del Pippo.Stage\, presso l’Anfiteatro Arcobaleno\, nel cuore del Parco Petrarca di Bolzano\, celebriamo l’estate con quattro serate\, accompagnate da musica\, spettacolo\, performance artistiche e interventi culturali. Quattro occasioni per stare insieme al calar del sole e avvicinarsi a diverse espressioni creative\, assieme ad artisti della nostra regione. \nDiana Tejera\nOra: 20.30 alle ore 23.30  \nOpening: Gennaro Carrano e Greta Cosa\, finalisti progetto C’Mon \nCosa: Live Music \nChi: Diana Tejera \n  \n  \n  \n 
URL:https://arci.bz.it/evento/live-music-diana-tejera-estate-al-pippo-2022/
LOCATION:Anfiteatro Arcobaleno – Pippo.Stage\, Parco Petrarca\, Bolzano\, Italia\, 39100\, Italia
ATTACH;FMTTYPE=image/png:https://arci.bz.it/wp-content/uploads/2022/07/Diana-Tejera-4-loghi.png
END:VEVENT
END:VCALENDAR