BEGIN:VCALENDAR
VERSION:2.0
PRODID:-//Arci Bolzano - Bozen - ECPv6.6.3//NONSGML v1.0//EN
CALSCALE:GREGORIAN
METHOD:PUBLISH
X-WR-CALNAME:Arci Bolzano - Bozen
X-ORIGINAL-URL:https://arci.bz.it
X-WR-CALDESC:Eventi per Arci Bolzano - Bozen
REFRESH-INTERVAL;VALUE=DURATION:PT1H
X-Robots-Tag:noindex
X-PUBLISHED-TTL:PT1H
BEGIN:VTIMEZONE
TZID:Europe/Rome
BEGIN:DAYLIGHT
TZOFFSETFROM:+0100
TZOFFSETTO:+0200
TZNAME:CEST
DTSTART:20220327T010000
END:DAYLIGHT
BEGIN:STANDARD
TZOFFSETFROM:+0200
TZOFFSETTO:+0100
TZNAME:CET
DTSTART:20221030T010000
END:STANDARD
END:VTIMEZONE
BEGIN:VEVENT
DTSTART;TZID=Europe/Rome:20220801T200000
DTEND;TZID=Europe/Rome:20220801T220000
DTSTAMP:20260422T025131
CREATED:20220725T142845Z
LAST-MODIFIED:20220725T144003Z
UID:5675-1659384000-1659391200@arci.bz.it
SUMMARY:''La casa alla fine del mondo” – Andrea Rossi
DESCRIPTION:La rassegna culturale Al Sur Mirando nasce dalla passione degli operatori del Coworking della Memoria per il Sud America\, così come anche dal desiderio di voler eliminare le distanze culturali e a contribuire alla maturazione di visioni diverse dell’esistente. \nQuando? \nLunedì 1° agosto\, dalle ore 20.00 \nCosa? \n“La casa alla fine del mondo” – Andrea Rossi  \nLa casa alla fine del mondo (alpha&beta\, 2021) fa vivere un viaggio nell’Argentina della seconda metà del secolo scorso. Andrea Rossi narra la storia di un migliaio di emigranti italiani addetti di un’azienda emiliana\, l’Empresa Borsari\, a cui il governo argentino ha dato mandato di edificare la ricostruzione di Ushuaia\, la “nuova Bologna”\, all’estremo meridione del pianeta. Un romanzo che racconta la storia di un padre\, Remo\, che ha lasciato l’Italia per trascorrere la sua intera vita in Argentina\, e di un figlio\, che durante la dittatura militare viene perseguitato politicamente e intende compiere il tragitto inverso: dirigersi verso l’Italia per costruirsi un futuro\, saldando un debito con il proprio passato.
URL:https://arci.bz.it/evento/5675/
LOCATION:Meteo Beach Bar – Merano\, Italia
ATTACH;FMTTYPE=image/jpeg:https://arci.bz.it/wp-content/uploads/2022/07/01_08.jpeg
ORGANIZER;CN="Coworking Merano":MAILTO:coworkingdellamemoria@gmail.com
END:VEVENT
END:VCALENDAR