BEGIN:VCALENDAR
VERSION:2.0
PRODID:-//Arci Bolzano - Bozen - ECPv6.6.3//NONSGML v1.0//EN
CALSCALE:GREGORIAN
METHOD:PUBLISH
X-WR-CALNAME:Arci Bolzano - Bozen
X-ORIGINAL-URL:https://arci.bz.it
X-WR-CALDESC:Eventi per Arci Bolzano - Bozen
REFRESH-INTERVAL;VALUE=DURATION:PT1H
X-Robots-Tag:noindex
X-PUBLISHED-TTL:PT1H
BEGIN:VTIMEZONE
TZID:Europe/Rome
BEGIN:DAYLIGHT
TZOFFSETFROM:+0100
TZOFFSETTO:+0200
TZNAME:CEST
DTSTART:20220327T010000
END:DAYLIGHT
BEGIN:STANDARD
TZOFFSETFROM:+0200
TZOFFSETTO:+0100
TZNAME:CET
DTSTART:20221030T010000
END:STANDARD
END:VTIMEZONE
BEGIN:VEVENT
DTSTART;TZID=Europe/Rome:20220623T180000
DTEND;TZID=Europe/Rome:20220623T193000
DTSTAMP:20260422T063218
CREATED:20220617T153058Z
LAST-MODIFIED:20220617T153058Z
UID:5610-1656007200-1656012600@arci.bz.it
SUMMARY:L’ERGASTOLANO. LA STRAGE DI PETEANO E L’ENIGMA VINCIGUERRA. Città della Memoria 2022.
DESCRIPTION:L’ERGASTOLANO. LA STRAGE DI PETEANO E L’ENIGMA VINCIGUERRA. Città della Memoria 2022. \nQuando?\nGiovedi 23 giugno alle ore 18\, presso il Cortile del Museo Civico. \nIn caso di pioggia l’evento si svolgerà presso la Biblioteca Civica Cesare Battisti \nCosa?  \nIl Circolo Culturale ANPI Franca “Anita” Turra Hans Egarter\, Biblioteca Civica Cesare Battisti\, ARCI\, Centro Pace\, in collaborazione con il Museo Civico e la libreria Ubik\, con il sostegno degli assessorati alla cultura di Provincia e Comune di Bolzano\, promuovono un Dialogo con Paolo Morando sul suo ultimo libro “L’ergastolano. La strage di Peteano e l’enigma Vinciguerra” (Ed. Laterza) con l’autore e Gabriele Di Luca. \n \nSCHEDA LIBRO \nCinquant’anni fa\, vicino a Gorizia esplodeva un’auto uccidendo tre carabinieri. Il colpevole di quella che fu chiamata la ‘strage di Peteano’ è Vincenzo Vinciguerra\, unico reo confesso di tutta la strategia della tensione\, condannato all’ergastolo. Ma è veramente tutto chiarito o esistono ancora delle verità nascoste che meritano di essere raccontate? \nLa sera del 31 maggio 1972 una telefonata anonima ai carabinieri di Gorizia segnalò la presenza\, a Peteano\,  di una Fiat 500 abbandonata a bordo strada. All’apertura del cofano esplose una bomba\, uccidendo i tre carabinieri che la stavano controllando e ferendone un quarto. Di tutte le stragi fasciste\, questa è la più singolare per la presenza di un reo confesso: Vincenzo Vinciguerra di Ordine Nuovo. La sua ‘assunzione di responsabilità’ arrivò solo nel 1984\, dopo indagini svolte prima in direzione di Lotta Continua\, poi verso un gruppo di goriziani\, assolti dopo oltre un anno di carcere. In seguito\, si scoprì che alti ufficiali dell’Arma (ma la polizia non fu da meno) protessero i neofascisti che avevano ucciso tre loro commilitoni. Anche il segretario del Msi\, Giorgio Almirante\, fu rinviato a giudizio per favoreggiamento e sfuggì al processo solo grazie a un’amnistia. Oggi Vinciguerra continua a dichiararsi combattente contro lo Stato e non ha mai usufruito di alcun permesso. Con un racconto incalzante\, il libro fa luce sugli aspetti ancora in ombra della strage e sullo stesso Vinciguerra\, intervistato in carcere\, svelando una storia italiana ancora oggi difficile da accettare. \nPaolo Morando\, giornalista\, scrive per “Huffington Post”\, “Internazionale”\, “Domani”\, “L’Essenziale”\, sulla rivista “il Mulino” e sul blog “minima&moralia”. Ha contribuito al volume collettaneo Uscire dalla Seconda Repubblica. Una scuola democratica per superare il trentennio di crisi della politica (a cura di Mario Castagna\, Carocci 2010) e pubblicato La ricerca che aiuta le persone (il Mulino 2021). Per Laterza è autore di Dancing Days. 1978-1979. I due anni che hanno cambiato l’Italia (2009)\, ’80. L’inizio della barbarie (2016\, finalista al Premio Estense)\, Prima di Piazza Fontana. La prova generale (2019\, Premio Fiuggi Storia\, sezione Anniversari) e Eugenio Cefis. Una storia italiana di potere e misteri (2021\, finalista al Premio Acqui Storia\, Sezione divulgativa \nGabriele Di Luca. Nato a Livorno nel 1967\, si è laureato in Filosofia all’Università di Bologna e risiede da più di vent’anni in provincia di Bolzano\, dove esercita le professioni d’insegnante e traduttore. Editorialista del quotidiano «Corriere dell’Alto Adige» e «Corriere del Trentino»\, collabora con il portale d’informazione bilingue «salto.bz» e con il settimanale «ff». \n\n \n\n\n\nL’evento è libero \n\n\n  \n\n\n\n\n 
URL:https://arci.bz.it/evento/lergastolano-la-strage-di-peteano-e-lenigma-vinciguerra-citta-della-memoria-2022/
LOCATION:Museo Civico\, Via Cassa di Risparmio\, 39100 Bolzano BZ\, Bolzano\, 39100
ATTACH;FMTTYPE=image/jpeg:https://arci.bz.it/wp-content/uploads/2022/06/23giugno.jpg
END:VEVENT
END:VCALENDAR