BEGIN:VCALENDAR
VERSION:2.0
PRODID:-//Arci Bolzano - Bozen - ECPv6.6.3//NONSGML v1.0//EN
CALSCALE:GREGORIAN
METHOD:PUBLISH
X-WR-CALNAME:Arci Bolzano - Bozen
X-ORIGINAL-URL:https://arci.bz.it
X-WR-CALDESC:Eventi per Arci Bolzano - Bozen
REFRESH-INTERVAL;VALUE=DURATION:PT1H
X-Robots-Tag:noindex
X-PUBLISHED-TTL:PT1H
BEGIN:VTIMEZONE
TZID:Europe/Rome
BEGIN:DAYLIGHT
TZOFFSETFROM:+0100
TZOFFSETTO:+0200
TZNAME:CEST
DTSTART:20220327T010000
END:DAYLIGHT
BEGIN:STANDARD
TZOFFSETFROM:+0200
TZOFFSETTO:+0100
TZNAME:CET
DTSTART:20221030T010000
END:STANDARD
END:VTIMEZONE
BEGIN:VEVENT
DTSTART;TZID=Europe/Rome:20220602T180000
DTEND;TZID=Europe/Rome:20220602T200000
DTSTAMP:20260422T081308
CREATED:20220531T132006Z
LAST-MODIFIED:20220531T132006Z
UID:5547-1654192800-1654200000@arci.bz.it
SUMMARY:Com'è NATO un golpe: il caso Moro
DESCRIPTION:Quando e dove?\nMercoledì 1° giugno alle 18 al FilmClub\, via Dr. Streiter\, 6\, Bolzano. \nCosa?\n\nIn occasione della Festa della Repubblica\, il Circolo Culturale ANPI Franca “Anita” Turra Hans Egarter e Arci Bolzano organizzano presso il Filmclub di Bolzano (via Dr.Streiter 6) la proiezione del documentario di Tommaso Cavallini “Com’è NATO un golpe: il caso Moro”. \n\n\nScheda libro\n\n\nL’agguato di via Fani è un’azione di guerra non convenzionale che vede anche la presenza di un berretto verde statunitense. Un vero golpe orchestrato dagli Usa e dalla NATO\, con l’aiuto di apparati occulti e i servizi segreti dei maggiori Paesi Europei\, per dare un colpo mortale alla democrazia e alla Costituzione italiana.\nLa sequela di false informazioni fatte circolare dai brigatisti – con la regia del Sisde e settori della destra Dc – e i nuovi dati acquisiti\, dimostrano che Moro durante i 55 giorni del sequestro non è mai stato custodito dai brigatisti e che vi sono state più prigioni in cui è stato detenuto.\nNel documentario una nuova analisi balistica per fare luce sulla dinamica dell’attacco\, un filmato inedito che svela la targa di un’auto presente in via Fani il 16 marzo 1978 di cui le indagini non hanno mai tenuto conto e l’ex agente Sismi “fonte Beirut2”\, intervistato da Carlo Palermo\, che riferisce di una foto scattata a Moro in un cortile durante la prigionia\, a conferma del fatto che il presidente della Dc doveva morire e non per mano delle Brigate rosse\, di come la guerra fredda era diretta da gruppi che controllavano sia Washington sia il Cremlino.\nCon interviste a: Carlo Palermo\, Sergio Flamigni\, Carlo D’Adamo\, Rita Di Giovacchino\, Marcello Altamura\, Martino Farneti\n\n\n\nPartecipazione libera\nEvento di ANPI Alto Adige Südtirol\, centroPACE BZ FRIEDEnszentrum e Arci Bolzano-Bozen \n\n\n  \n  \n 
URL:https://arci.bz.it/evento/come-nato-un-golpe-il-caso-moro/
LOCATION:FilmClub Capitol\, Via Streiter\, 8/D\, Bolzano\, 39100
ATTACH;FMTTYPE=image/jpeg:https://arci.bz.it/wp-content/uploads/2022/05/280067795_5426570000689064_3102281143118583416_n.jpg
END:VEVENT
END:VCALENDAR