BEGIN:VCALENDAR
VERSION:2.0
PRODID:-//Arci Bolzano - Bozen - ECPv6.6.3//NONSGML v1.0//EN
CALSCALE:GREGORIAN
METHOD:PUBLISH
X-WR-CALNAME:Arci Bolzano - Bozen
X-ORIGINAL-URL:https://arci.bz.it
X-WR-CALDESC:Eventi per Arci Bolzano - Bozen
REFRESH-INTERVAL;VALUE=DURATION:PT1H
X-Robots-Tag:noindex
X-PUBLISHED-TTL:PT1H
BEGIN:VTIMEZONE
TZID:Europe/Rome
BEGIN:DAYLIGHT
TZOFFSETFROM:+0100
TZOFFSETTO:+0200
TZNAME:CEST
DTSTART:20220327T010000
END:DAYLIGHT
BEGIN:STANDARD
TZOFFSETFROM:+0200
TZOFFSETTO:+0100
TZNAME:CET
DTSTART:20221030T010000
END:STANDARD
END:VTIMEZONE
BEGIN:VEVENT
DTSTART;TZID=Europe/Rome:20220523T180000
DTEND;TZID=Europe/Rome:20220523T210000
DTSTAMP:20260422T081336
CREATED:20220516T134113Z
LAST-MODIFIED:20220517T120824Z
UID:5417-1653328800-1653339600@arci.bz.it
SUMMARY:Giornata della legalità 2022
DESCRIPTION:Giornata della Legalità a 30 anni dalle stragi di Capaci e via D’Amelio\nPer promuovere la cultura della legalità\, Arci e Arciragazzi Bolzano insieme al Coworking della Memoria\, celebrano la “Giornata della Legalità – a 30 anni dalle stragi di Capaci e via D’Amelio” con due iniziative programmate per il 23 e il 26 maggio\, rispettivamente a Merano e Bolzano.\nQuando?\n\nIl 23 maggio 2022 alle ore 18:00 al Coworking della Memoria di Merano (Via Ugo Foscolo\, 8)\nIl 26 maggio 2022 alle ore 18:30 al Pippo Stage di Bolzano (Parco Petrarca\, 12)\n\nCosa?\nLunedì 23 maggio\, dalle ore 18.00 presso il Coworking della Memoria di Merano \nVerrà proiettato il documentario “La mafia non è più quella di una volta” (Italia 2019 di Franco Maresco)\, che ha come argomento principale la memoria dei due magistrati\, Falcone e Borsellino\, conosciuti per aver combattuto contro la mafia su tutti i fronti\, sacrificando anche le loro vite. Il regista mette la fotografa e fotoreporter recentemente scomparsa\, Letizia Battaglia\, al centro di questo documentario\, che con uno sguardo critico e partecipe\, tematizza l’assenza e/o la manipolazione della memoria nei confronti dei due difensori della legalità.\nA termine della proiezione\, seguirà una discussione sulla Mafia 2.0\, ovvero sulla mafia odierna\, che non è più un fenomeno circoscritto\, guidata da Maurizio Citarda\, docente presso l’IISS Gandhi di Merano. \nGiovedì 26 maggio\, invece\, al Pippo Stage di Bolzano\, a partire dalle ore 18:30  \nverrà proiettato il documentario “In un altro paese” (Italia 2005 di Marco Turco)\, tratto dal libro “Nella terra degli infedeli”\, scritto dal giornalista statunitense Alexander Stille\, stretto amico di Letizia Battaglia.\nL’opera cinematografica ripercorre la storia del Maxiprocesso di Palermo e dei due magistrati che lo hanno reso possibile\, Falcone e Borsellino\, e mette in risalto il rapporto tra la mafia siciliana e lo stato italiano.\nA seguire\, Giacomo De Luca\, docente presso la Libera Università di Bolzano e ricercatore\, illustrerà come la ricerca scientifica offre il suo contributo nel dimostrare che la mafia è davvero una componente organica del sistema di potere italiano e quindi porterà a una discussione sul nesso Mafia-Politica. \nCampi della legalità \nDurante entrambe le iniziative verrà presentato anche il progetto “Campi della legalità”\, promosso da Arciragazzi ed Arci di Bolzano\, Cooperativa sociale @ltrimondi ed Arci del Trentino\, che ha l’obiettivo informare ed educare alla legalità democratica e alla responsabilità e che ogni anno coinvolge giovani in azioni concrete sui terreni confiscati alla mafia e restituiti alla collettività. \n\n\nLe iniziative sono organizzate dalle associazioni Arci e Arciragazzi Bolzano e dal Coworking della Memoria di Merano.  \n\n\nLa partecipazione è libera\, per prendere parte all’iniziativa \n \n\n\nPer info: scrivi a \nCoworking della Memoria: coworkingdellamemoria@gmail.com \nArci Bolzano: info@arci.bz.ti 
URL:https://arci.bz.it/evento/giornata-della-legalita-2022/
LOCATION:Coworking della Memoria\, Via Ugo Foscolo\, 8\, Merano\, BZ\, 39012\, Italia
ATTACH;FMTTYPE=image/png:https://arci.bz.it/wp-content/uploads/2022/05/Giornata_leglita_IG.png
END:VEVENT
END:VCALENDAR