BEGIN:VCALENDAR
VERSION:2.0
PRODID:-//Arci Bolzano - Bozen - ECPv6.6.3//NONSGML v1.0//EN
CALSCALE:GREGORIAN
METHOD:PUBLISH
X-ORIGINAL-URL:https://arci.bz.it
X-WR-CALDESC:Eventi per Arci Bolzano - Bozen
REFRESH-INTERVAL;VALUE=DURATION:PT1H
X-Robots-Tag:noindex
X-PUBLISHED-TTL:PT1H
BEGIN:VTIMEZONE
TZID:Europe/Rome
BEGIN:DAYLIGHT
TZOFFSETFROM:+0100
TZOFFSETTO:+0200
TZNAME:CEST
DTSTART:20220327T010000
END:DAYLIGHT
BEGIN:STANDARD
TZOFFSETFROM:+0200
TZOFFSETTO:+0100
TZNAME:CET
DTSTART:20221030T010000
END:STANDARD
END:VTIMEZONE
BEGIN:VEVENT
DTSTART;TZID=Europe/Rome:20220521T190000
DTEND;TZID=Europe/Rome:20220521T230000
DTSTAMP:20260422T100132
CREATED:20220509T125158Z
LAST-MODIFIED:20220512T130400Z
UID:5301-1653159600-1653174000@arci.bz.it
SUMMARY:Liberə di essere - fun\, drink\, music\, queerness
DESCRIPTION:Centaurus Arcigay Alto Adige Südtirol ODV organizza “Fun\, drink\, music\, queerness” al Pippo. Un evento per essere liberə di essere e per esorcizzare l’omolesbobitransfobia che abita in ognunə di noi.\nQuando?\nIl 21 maggio dalle 19 al Pippo\, in Parco Petrarca a Bolzano. \n\n\n\nIngresso intero 10\,00€\nRidotto con tessere ARCI o ARCIGAY 5\,00€\nUn drink è incluso\n\n\n \n\n\n\n\n 
URL:https://arci.bz.it/evento/libere-di-essere-fun-drink-music-queerness/
LOCATION:Pippo\, Via Cadorna\, Bolzano\, Bolzano\, 39100\, Italia
ATTACH;FMTTYPE=image/jpeg:https://arci.bz.it/wp-content/uploads/2022/05/pride.jpg
GEO:46.503046238143334;11.345657275882976
X-APPLE-STRUCTURED-LOCATION;VALUE=URI;X-ADDRESS=Pippo Via Cadorna Bolzano Bolzano 39100 Italia;X-APPLE-RADIUS=500;X-TITLE=Via Cadorna:geo:11.345657275882976,46.503046238143334
END:VEVENT
END:VCALENDAR