BEGIN:VCALENDAR
VERSION:2.0
PRODID:-//Arci Bolzano - Bozen - ECPv6.6.3//NONSGML v1.0//EN
CALSCALE:GREGORIAN
METHOD:PUBLISH
X-ORIGINAL-URL:https://arci.bz.it
X-WR-CALDESC:Eventi per Arci Bolzano - Bozen
REFRESH-INTERVAL;VALUE=DURATION:PT1H
X-Robots-Tag:noindex
X-PUBLISHED-TTL:PT1H
BEGIN:VTIMEZONE
TZID:Europe/Rome
BEGIN:DAYLIGHT
TZOFFSETFROM:+0100
TZOFFSETTO:+0200
TZNAME:CEST
DTSTART:20220327T010000
END:DAYLIGHT
BEGIN:STANDARD
TZOFFSETFROM:+0200
TZOFFSETTO:+0100
TZNAME:CET
DTSTART:20221030T010000
END:STANDARD
END:VTIMEZONE
BEGIN:VEVENT
DTSTART;TZID=Europe/Rome:20220514T210000
DTEND;TZID=Europe/Rome:20220515T010000
DTSTAMP:20260422T081428
CREATED:20220509T092610Z
LAST-MODIFIED:20220510T135959Z
UID:5293-1652562000-1652576400@arci.bz.it
SUMMARY:IRIE VIBES al Pippo
DESCRIPTION:Tornato le serate di musica  dal vivo al Pippo.stage! Do you want to feel irie?! 14 maggio is Irie Vibes!  \nQuando?\nVenerdì 14 maggio\, open door ore 21.00. \nDove?\nAl Pippo.stage\, Parco Petraca 12 a Bolzano. \nCosa?\nSkankin’ Drops / Red Haze / DREADLION FIRESTARTER SOUND \n\n\n\nL’evento è organizzato da Arci Bolzano nell’ambito della rassegna Indieroom.\nSaranno rispettate tutte le norme covid vigenti.\n\n\n\nPer maggiori informazioni: pippochillstage@gmail.com
URL:https://arci.bz.it/evento/irie-vibes-al-pippo/
LOCATION:Pippo\, Via Cadorna\, Bolzano\, Bolzano\, 39100\, Italia
ATTACH;FMTTYPE=image/jpeg:https://arci.bz.it/wp-content/uploads/2022/05/skunkindrops.jpg
ORGANIZER;CN="Arci":MAILTO:info@arci.bz.it
GEO:46.503046238143334;11.345657275882976
X-APPLE-STRUCTURED-LOCATION;VALUE=URI;X-ADDRESS=Pippo Via Cadorna Bolzano Bolzano 39100 Italia;X-APPLE-RADIUS=500;X-TITLE=Via Cadorna:geo:11.345657275882976,46.503046238143334
END:VEVENT
END:VCALENDAR