BEGIN:VCALENDAR
VERSION:2.0
PRODID:-//Arci Bolzano - Bozen - ECPv6.6.3//NONSGML v1.0//EN
CALSCALE:GREGORIAN
METHOD:PUBLISH
X-ORIGINAL-URL:https://arci.bz.it
X-WR-CALDESC:Eventi per Arci Bolzano - Bozen
REFRESH-INTERVAL;VALUE=DURATION:PT1H
X-Robots-Tag:noindex
X-PUBLISHED-TTL:PT1H
BEGIN:VTIMEZONE
TZID:Europe/Rome
BEGIN:DAYLIGHT
TZOFFSETFROM:+0100
TZOFFSETTO:+0200
TZNAME:CEST
DTSTART:20220327T010000
END:DAYLIGHT
BEGIN:STANDARD
TZOFFSETFROM:+0200
TZOFFSETTO:+0100
TZNAME:CET
DTSTART:20221030T010000
END:STANDARD
END:VTIMEZONE
BEGIN:VEVENT
DTSTART;TZID=Europe/Rome:20220510T143000
DTEND;TZID=Europe/Rome:20220510T173000
DTSTAMP:20260422T100015
CREATED:20220412T065346Z
LAST-MODIFIED:20220412T092338Z
UID:5048-1652193000-1652203800@arci.bz.it
SUMMARY:Finalmente in pensione a questo punto mi ripenso a Merano
DESCRIPTION:Finalmente in pensione\, a questo punto mi ripenso!\n\n\nQuando?\nIl 10 maggio 2022 dalle 14.30 alle 17.30\nDove\nPresso il  Coworking della Memoria a Merano via Ugo Foscolo n.8.\n\nCosa facciamo?\nIl 10 maggio ospiteremo l’evento “Finalmente in Pensione\, a questo punto mi ripenso” di Studio Comune.\n\n\nSi tratta di un laboratorio per persone – neopensionate o prossime all’andare in pensione – che che vogliono riscoprirsi\, seguire i propri desideri o inclinazioni mettendosi anche al servizio della propria comunità.\n\n\n\n\n\nLa partecipazione è gratuita.\n\n\n\n\n\n Potete iscrivervi  e trovare tutte le informazioni sul il sito www.inpensione.info
URL:https://arci.bz.it/evento/finalmente-in-pensione-a-questo-punto-mi-ripenso-a-merano/
ATTACH;FMTTYPE=image/jpeg:https://arci.bz.it/wp-content/uploads/2022/04/finalmente-in-pensione-a-Brunico.jpg
END:VEVENT
END:VCALENDAR