BEGIN:VCALENDAR
VERSION:2.0
PRODID:-//Arci Bolzano - Bozen - ECPv6.6.3//NONSGML v1.0//EN
CALSCALE:GREGORIAN
METHOD:PUBLISH
X-WR-CALNAME:Arci Bolzano - Bozen
X-ORIGINAL-URL:https://arci.bz.it
X-WR-CALDESC:Eventi per Arci Bolzano - Bozen
REFRESH-INTERVAL;VALUE=DURATION:PT1H
X-Robots-Tag:noindex
X-PUBLISHED-TTL:PT1H
BEGIN:VTIMEZONE
TZID:Europe/Rome
BEGIN:DAYLIGHT
TZOFFSETFROM:+0100
TZOFFSETTO:+0200
TZNAME:CEST
DTSTART:20220327T010000
END:DAYLIGHT
BEGIN:STANDARD
TZOFFSETFROM:+0200
TZOFFSETTO:+0100
TZNAME:CET
DTSTART:20221030T010000
END:STANDARD
END:VTIMEZONE
BEGIN:VEVENT
DTSTART;TZID=Europe/Rome:20220506T213000
DTEND;TZID=Europe/Rome:20220507T003000
DTSTAMP:20260422T095932
CREATED:20220503T100729Z
LAST-MODIFIED:20220505T141711Z
UID:5231-1651872600-1651883400@arci.bz.it
SUMMARY:𝕊𝔸ℙ𝕆𝔹𝕌𝕃𝕃𝕐 - Welka - Kyna - Firax Flexx
DESCRIPTION:Tornato le serate di musica  dal vivo al Pippo.stage!\nQuando?\nIl 6 maggio dalle 21.30. \nDove?\nAl Pippo.stage\, Parco Petraca 12 a Bolzano. \nCosa?\nBzmss & PippoStage presentano:\n𝕊𝔸ℙ𝕆𝔹𝕌𝕃𝕃𝕐\nMebro degli FSK Satellite\, collettivo trap composto anche dai rapper Taxi B e Chiello Fsk\, che ha ottenuto la certificazione di Disco di platino grazie al primo album in studio intitolato “FSK Trapshit“.\nIl 10 marzo 2020 pubblica con DrefGold e gli FSK Satellite il brano “Snitch e impicci“.\nAnticipato dal singolo “Settimana al caldo“\, l’11 settembre 2020 viene pubblicato il secondo album in studio del collettivo\, “Padre\, Figlio e Spirito“.\nIl 24 aprile 2020\, Sapobully ha pubblicato il suo primo singolo da solista intitolato “Mitra“\, prodotto da Greg Willen\, produttore di quasi tutte le canzoni pubblicate fino ad ora dagli FSK Satellite.\n\n\n\nWELKA\nhttps://www.youtube.com/watch?v=o0xA3DtL3wY\nKYNA\nhttps://www.youtube.com/watch?v=RIcwHMRvkoA\nFIRAS FLEXX\nhttps://www.youtube.com/watch?v=JeyrFrRaXuE\n\n\n\nApertura 21.30\nIngresso: 15 euro\n\nL’evento rispetterà di tutte le norme covid vigenti.\n\n\n\nPer maggiori informazioni: pippochillstage@gmail.com
URL:https://arci.bz.it/evento/%f0%9d%95%8a%f0%9d%94%b8%e2%84%99%f0%9d%95%86%f0%9d%94%b9%f0%9d%95%8c%f0%9d%95%83%f0%9d%95%83%f0%9d%95%90-welka-kyna-firax-flexx/
LOCATION:Pippo\, Via Cadorna\, Bolzano\, Bolzano\, 39100\, Italia
ATTACH;FMTTYPE=image/jpeg:https://arci.bz.it/wp-content/uploads/2022/05/pippo605.jpg
ORGANIZER;CN="Arci":MAILTO:info@arci.bz.it
GEO:46.503046238143334;11.345657275882976
X-APPLE-STRUCTURED-LOCATION;VALUE=URI;X-ADDRESS=Pippo Via Cadorna Bolzano Bolzano 39100 Italia;X-APPLE-RADIUS=500;X-TITLE=Via Cadorna:geo:11.345657275882976,46.503046238143334
END:VEVENT
BEGIN:VEVENT
DTSTART;VALUE=DATE:20220507
DTEND;VALUE=DATE:20220510
DTSTAMP:20260422T095932
CREATED:20220401T150945Z
LAST-MODIFIED:20220414T082709Z
UID:5001-1651888800-1652061599@arci.bz.it
SUMMARY:Masterclass con Christian Marazziti a Bolzano
DESCRIPTION:Il progetto C’MON si conclude con una Masterclass aperta a tutti e a tutte coloro che desiderano sperimentarsi con il mondo dello spettacolo! Ad accompagnarci in questo percorso formativo ci sarà proprio il regista\, produttore e attore Christian Marazziti.\nQuando?\nIl 7 e l’8 maggio al Pippo di Bolzano\, dalle 10 alle 19. \nCosa faremo?\nPartendo dal percorso artistico del docente\, la lezione sarà caratterizzata da un approccio fortemente pratico.\nChristian ci spiegherà come affrontare un provino\, la scelta della giusta agenzia\, come presentare un curriculum. È importante fare le scelte giuste e non perdere tempo. Non cadere all’inizio in errori banali o in mano a persone sbagliate che spesso poi possono essere determinanti nella vostra carriera professionale.\nFaremo insieme un viaggio all’interno del mondo della cinematografia con un’analisi delle tecniche di regia anche attraverso scene tratte da film.\nAnalizzeremo grandi esempi del cinema passato e presente: con i consigli\, gli aneddoti e le “vere dritte” di questo lavoro.\nNon mancherà poi un excursus sull’improvvisazione della tecnica recitativa\, come stare davanti la macchina da presa\, come fare un’analisi del testo e come nasce l’idea di un film\, Come costruire la sceneggiatura\, la scelta degli attori\, della troupe\, come realizzare un cortometraggio\, un documentario\, un lungometraggio e come trovare la giusta produzione. \nPer iscriverti\n \nQuota di iscrizione:\nLa Masterclass è aperta ad un massimo di 20 iscritti. La quota di partecipazione per la due giorni di formazione ammonta a 150 euro da pagare tramite bonifico bancario sul conto corrente di Arci Bolzano Bozen APS che indicheremo agli iscritti successivamente. \n 
URL:https://arci.bz.it/evento/masterclass-con-christian-marazziti-a-bolzano-2/
LOCATION:Pippo\, Via Cadorna\, Bolzano\, Bolzano\, 39100\, Italia
ATTACH;FMTTYPE=image/jpeg:https://arci.bz.it/wp-content/uploads/2022/03/WhatsApp-Image-2022-03-28-at-11.13.33.jpeg
GEO:46.503046238143334;11.345657275882976
X-APPLE-STRUCTURED-LOCATION;VALUE=URI;X-ADDRESS=Pippo Via Cadorna Bolzano Bolzano 39100 Italia;X-APPLE-RADIUS=500;X-TITLE=Via Cadorna:geo:11.345657275882976,46.503046238143334
END:VEVENT
END:VCALENDAR