BEGIN:VCALENDAR
VERSION:2.0
PRODID:-//Arci Bolzano - Bozen - ECPv6.6.3//NONSGML v1.0//EN
CALSCALE:GREGORIAN
METHOD:PUBLISH
X-ORIGINAL-URL:https://arci.bz.it
X-WR-CALDESC:Eventi per Arci Bolzano - Bozen
REFRESH-INTERVAL;VALUE=DURATION:PT1H
X-Robots-Tag:noindex
X-PUBLISHED-TTL:PT1H
BEGIN:VTIMEZONE
TZID:Europe/Rome
BEGIN:DAYLIGHT
TZOFFSETFROM:+0100
TZOFFSETTO:+0200
TZNAME:CEST
DTSTART:20220327T010000
END:DAYLIGHT
BEGIN:STANDARD
TZOFFSETFROM:+0200
TZOFFSETTO:+0100
TZNAME:CET
DTSTART:20221030T010000
END:STANDARD
END:VTIMEZONE
BEGIN:VEVENT
DTSTART;TZID=Europe/Rome:20220323T200000
DTEND;TZID=Europe/Rome:20220323T213000
DTSTAMP:20260422T142922
CREATED:20220314T101102Z
LAST-MODIFIED:20220314T101242Z
UID:4914-1648065600-1648071000@arci.bz.it
SUMMARY:Bosnia Express al FilmClub
DESCRIPTION:‘BOSNIA EXPRESS’ – un film di Massimo D’orzi –\n\nA 30 dalle guerre nella ex Jugoslavia\, un ‘reportage poetico’ per viaggiare dentro ciò che rimane dopo il grande conflitto europeo e tante mortali ferite: la vita.\n\n\nQuando?\nIl 23 marzo alle ore 20.00 al FilmClub Capitol di Bolzano. \nCosa?\nUn treno attraversa lento il cuore della Bosnia Erzegovina: Sarajevo\, Tuzla\, Srebrenica\, Konjic\, Mostar. Donne\, religione\, guerra\, violenza\, arte lanciati sullo schermo come dadi su una scacchiera o giocati alla roulette russa. In palio vita o morte\, verità o menzogna. La macchina da presa indaga dietro il ritrovato ordine delle cose. Fin dove può giungere lo sguardo per conoscere? Una scuola di danza\, i corridoi della facoltà di pedagogia islamica\, le aule di musica rock\, la collina di Medjugorjie\, sono i luoghi da cui i personaggi muovono l’inchiesta. Ma come è possibile chiedere ai carnefici o alle vittime conto di un orrore? La guerra non ha un volto di donna. Non è successo niente in Bosnia Erzegovina. Niente.\n\n\n\n\n(Bosnia Express) \n\nIT 2021\, 73 min.\nregia: Massimo D’orzi\ncon: Clio Bosiglav\, Eva Tomat\, Amina Moćević\, Nikolina Vujic\, Amina Hodžić\, Sara Lazar\, Kanita Focak\, Jovan Divjak\, Enisa Bukvić\, Ansambl Iskre di Tuzla\n\n\n\n\nTratto liberamente dal libro “Bosnia Express” di Luca Leone – Infinito Edizioni \nAlla proiezione sarà presente il regista del film Massimo D’Orzi\, in dialogo con Andrea Rizza Goldstein di Arci Bolzano-Bozen. \nGuarda il trailer! \n\n\n\n\nPer prenotare il biglietto:\n\n\n\n\n\n\nEvento organizzato da Arci Bolzanoe FilmClub di Bolzano. 
URL:https://arci.bz.it/evento/bosnia-express-al-filmclub/
LOCATION:FilmClub Capitol\, Via Streiter\, 8/D\, Bolzano\, 39100
ATTACH;FMTTYPE=image/jpeg:https://arci.bz.it/wp-content/uploads/2022/03/BOSNIA-EXPRESS.-EVA-E-I-GIORNALI.jpg
ORGANIZER;CN="Arci":MAILTO:info@arci.bz.it
END:VEVENT
END:VCALENDAR