BEGIN:VCALENDAR
VERSION:2.0
PRODID:-//Arci Bolzano - Bozen - ECPv6.6.3//NONSGML v1.0//EN
CALSCALE:GREGORIAN
METHOD:PUBLISH
X-ORIGINAL-URL:https://arci.bz.it
X-WR-CALDESC:Eventi per Arci Bolzano - Bozen
REFRESH-INTERVAL;VALUE=DURATION:PT1H
X-Robots-Tag:noindex
X-PUBLISHED-TTL:PT1H
BEGIN:VTIMEZONE
TZID:Europe/Rome
BEGIN:DAYLIGHT
TZOFFSETFROM:+0100
TZOFFSETTO:+0200
TZNAME:CEST
DTSTART:20220327T010000
END:DAYLIGHT
BEGIN:STANDARD
TZOFFSETFROM:+0200
TZOFFSETTO:+0100
TZNAME:CET
DTSTART:20221030T010000
END:STANDARD
END:VTIMEZONE
BEGIN:VEVENT
DTSTART;TZID=Europe/Rome:20220321T203000
DTEND;TZID=Europe/Rome:20220321T213000
DTSTAMP:20260422T125736
CREATED:20220315T132347Z
LAST-MODIFIED:20220315T133112Z
UID:4928-1647894600-1647898200@arci.bz.it
SUMMARY:Musica e impegno contro le mafie
DESCRIPTION:Ogni anno\, il 21 marzo\, il primo giorno di primavera\, il Teatro Cristallo\, in collaborazione con l’Associazione Libera e l’Associazione Nazionale Magistrati – Sezione Trentino Alto Adige\, celebra la Giornata della Memoria e dell’impegno in ricordo delle vittime innocenti delle mafie.\n\n\n\n\n\n\nQuest’anno l’appuntamento sarà con un concerto della Pop Simphony Orchestra – diretta dal maestro siciliano Roberto Federico – e dedicato a chi si impegna quotidianamente contro le mafie. Durante la serata verranno proposte le migliori colonne sonore dei film che hanno fatto la storia del cinema\, come quelle di Ennio Morricone e Riz Ortolani. Durante la serata verranno raccolti fondi in favore dell’Associazione “Libera. Associazioni nomi e numeri contro le mafie“.\n\n\n\n\n\n Il costo del biglietto intero è di 10 euro\nPer tutti gli associati Arci la tariffa è ridotta a 7 euro.\nPer acquistare i biglietti clicca qui!\n\n\n\n\nEvento organizzato da Educare alla giustizia – Teatro Cristallo\, ANM – Associazione Nazionale Magistrati\, Sezione Trentino Alto Adige
URL:https://arci.bz.it/evento/musica-e-impegno-contro-le-mafie/
LOCATION:Teatro Cristallo\, Via Dalmazia\, 30\, Bolzano\, 39100
ATTACH;FMTTYPE=image/png:https://arci.bz.it/wp-content/uploads/2022/03/275045307_10159901082373945_6128073925277124164_n.png
ORGANIZER;CN="Arci":MAILTO:info@arci.bz.it
END:VEVENT
END:VCALENDAR