BEGIN:VCALENDAR
VERSION:2.0
PRODID:-//Arci Bolzano - Bozen - ECPv6.6.3//NONSGML v1.0//EN
CALSCALE:GREGORIAN
METHOD:PUBLISH
X-WR-CALNAME:Arci Bolzano - Bozen
X-ORIGINAL-URL:https://arci.bz.it
X-WR-CALDESC:Eventi per Arci Bolzano - Bozen
REFRESH-INTERVAL;VALUE=DURATION:PT1H
X-Robots-Tag:noindex
X-PUBLISHED-TTL:PT1H
BEGIN:VTIMEZONE
TZID:Europe/Rome
BEGIN:DAYLIGHT
TZOFFSETFROM:+0100
TZOFFSETTO:+0200
TZNAME:CEST
DTSTART:20220327T010000
END:DAYLIGHT
BEGIN:STANDARD
TZOFFSETFROM:+0200
TZOFFSETTO:+0100
TZNAME:CET
DTSTART:20221030T010000
END:STANDARD
END:VTIMEZONE
BEGIN:VEVENT
DTSTART;TZID=Europe/Rome:20220315T180000
DTEND;TZID=Europe/Rome:20220315T200000
DTSTAMP:20260422T142840
CREATED:20220228T143806Z
LAST-MODIFIED:20220228T152644Z
UID:4859-1647367200-1647374400@arci.bz.it
SUMMARY:Presentazione del libro "Via dalla pazza guerra"
DESCRIPTION:#SPECIALEMARZO a Merano per promuovere una riflessione sulla parità di genere e sulla partecipazione attiva alla vita sociale e politica.\nIl 15 marzo al Coworking della Memoria presenteremo l’ultimo romanzo autobiografico di Alidad Shiri\, “Via dalla pazza guerra”. \n\nQuando?\nIl 15 marzo alle ore 18.00. \nCosa?\n“Via dalla pazza guerra” è l’ultimo romanzo autobiografico di Alidad Shiri. Il protagonista\, nato in Afghanistan\, a causa della guerra sarà\, in giovanissima età\, costretto ad affrontare un lungo viaggio\, che lo porterà a vivere molte situazioni struggenti: gli abbandoni nei boschi\, lo sfruttamento\, la morte dei compagni di viaggio…pur essendo autobiografico\, Alidad non racconta solo la sua storia. Tematizza anche l’attualità\, la presa del potere da parte dei talebani\, che rappresenta una seria minaccia per la popolazione femminile in Afghanistan. Una tematica che potremo approfondire grazie alla presenza dell’autore.\nQuello di Alidad “è un libro\, che\, come dice lui stesso\, è destinato soprattutto ad un lavoro di sensibilizzazione e vuole rispondere alle domande che spesso si pongono sulla situazione delle donne\, dei bambini\, sul viaggio\, sull’integrazione.”\nChi è Alidad Shiri?\nAlidad Shiri\, di origine afghana\, è arrivato in Alto Adige nel 2005. Oggi ha 30 anni\, vive a Merano e si è laureato in Filosofia politica. Era solo un bambino quando ha visto scoppiare la guerra in Afghanistan e ne ha subito le conseguenze più tragiche: la perdita della famiglia. Oggi è un giornalista e collabora con varie associazioni umanitarie\, tra cui UNHCR Italia ed Emergency. Da anni porta la sua testimonianza nelle scuole. Ad ottobre 2021 gli è stata assegnata la Colomba d’Oro per la Pace dall’Istituto di Ricerca Internazionale Archivio Disarmo.\n\n\nL’evento è libero ma i posti sono limitati ed è quindi necessario compilare il modulo per partecipare.\nVerrà richiesto il Super Green Pass!\n\n\n\n\n\n\nEvento organizzato da Arci Bolzano e Coworking delle Memoria con il sostegno del Comune di Merano.\nUn ringraziamento particolare a Giorgio Romagnoni  per la concessione dello schizzo.
URL:https://arci.bz.it/evento/presentazione-del-libro-via-dalla-pazza-guerra/
LOCATION:Coworking della Memoria\, Via Ugo Foscolo\, 8\, Merano\, BZ\, 39012\, Italia
ATTACH;FMTTYPE=image/jpeg:https://arci.bz.it/wp-content/uploads/2022/02/ViaDallaPazzaGuerra.jpg
ORGANIZER;CN="Arci":MAILTO:info@arci.bz.it
END:VEVENT
END:VCALENDAR