BEGIN:VCALENDAR
VERSION:2.0
PRODID:-//Arci Bolzano - Bozen - ECPv6.6.3//NONSGML v1.0//EN
CALSCALE:GREGORIAN
METHOD:PUBLISH
X-ORIGINAL-URL:https://arci.bz.it
X-WR-CALDESC:Eventi per Arci Bolzano - Bozen
REFRESH-INTERVAL;VALUE=DURATION:PT1H
X-Robots-Tag:noindex
X-PUBLISHED-TTL:PT1H
BEGIN:VTIMEZONE
TZID:Europe/Rome
BEGIN:DAYLIGHT
TZOFFSETFROM:+0100
TZOFFSETTO:+0200
TZNAME:CEST
DTSTART:20220327T010000
END:DAYLIGHT
BEGIN:STANDARD
TZOFFSETFROM:+0200
TZOFFSETTO:+0100
TZNAME:CET
DTSTART:20221030T010000
END:STANDARD
END:VTIMEZONE
BEGIN:VEVENT
DTSTART;TZID=Europe/Rome:20220225T170000
DTEND;TZID=Europe/Rome:20220225T180000
DTSTAMP:20260422T143025
CREATED:20220221T160252Z
LAST-MODIFIED:20220221T160252Z
UID:4798-1645808400-1645812000@arci.bz.it
SUMMARY:C'MON - Estrazione partecipanti
DESCRIPTION:Estrazione dei 6 attori e 2 registi che parteciperanno alla prima edizione di C’MON!\nQuando?\nIl 25 febbraio 2022 alle ore 17.00. \nCosa è C’MON?\nC’MON è nuovo progetto teatrale\, aperto a maggiorenni domiciliati in provincia di Bolzano e con esperienza nel settore teatrale. Comincia con una open call aperta ad aspiranti attori/attrici e registi/e. \nObiettivo della call è quello di costituire due gruppi (con 3 attori e un regista per gruppo) e realizzare due spettacoli (uno per gruppo) della durata massima di 50 minuti ciascuno. \n\nI partecipanti al progetto saranno selezionati tra gli iscritti alla call.\nAd attenderli ricchi premi: l’opportunità di calcare la scena con un proprio spettacolo e di confrontarsi con due professionisti del mondo del teatro e del cinema di fama nazionale e internazionale.\n\nL’estrazione dei partecipanti:\n\nLe iscrizioni si aprono alle ore 00.01 del 23 febbraio e chiudono alle 23.59.\nIl 25 febbraio saranno estratti i partecipanti in diretta sulla pagina facebook di Arci Bolzano. \n\n\n\nIl progetto è realizzato da Arci Bolzano all’interno della rassegna Teatro Aut\, sotto la direzione artistica di Anika Schluderbacher\, attrice e operatrice culturale\, con il supporto della Provincia Autonoma di Bolzano.
URL:https://arci.bz.it/evento/cmon-estrazione-partecipanti/
LOCATION:Evento online
ATTACH;FMTTYPE=image/jpeg:https://arci.bz.it/wp-content/uploads/2022/02/274042316_2098674473629069_6093531292180061983_n.jpg
ORGANIZER;CN="Arci":MAILTO:info@arci.bz.it
END:VEVENT
BEGIN:VEVENT
DTSTART;TZID=Europe/Rome:20220225T180000
DTEND;TZID=Europe/Rome:20220225T193000
DTSTAMP:20260422T143025
CREATED:20220215T161631Z
LAST-MODIFIED:20220216T113630Z
UID:4738-1645812000-1645817400@arci.bz.it
SUMMARY:Merano: presentazione del libro 30 SECONDI
DESCRIPTION:Presentazione a Merano del libro autobiografico “30 SECONDI” di Sonia Zanotti\, edito per Edgar Libri.\nQuando?\nIl 25 febbraio 2022 alle ore 18.00 presso il Centro per la Cultura di Merano. \nCosa?\n“30 SECONDI” è un libro autobiografico che racconta la storia di Sonia\, che a soli 11 anni si è trovata nel posto sbagliato al momento sbagliato. Il 2 agosto del 1980 è anche lei alla stazione di Bologna\, in attesa del treno che dovrebbe riportarla in Alto Adige. La sua vita viene stravolta dallo scoppio di quella bomba. Solo con il tempo impara a convivere con ferite profonde e indelebili e trova il coraggio di condividere la propria storia per trasmettere un messaggio di memoria e di speranza alle nuove generazioni con l’auspicio che sappiano ribadire con fermezza il loro “NO” ad ogni forma di terrorismo e di violenza e comprendere che la vita offre sempre una seconda possibilità. Sta solo a noi coglierla.\n\nModererà l’incontro con l’autrice Vanda Carbone\, già insegnante e assessora di Merano. In collegamento da Bologna anche la storica Cinzia Venturoli.\n\n\n\n\n\nL’evento è libero ma i posti sono limitati ed è quindi necessario compilare il modulo per partecipare.\nVerrà richiesto il Super Green Pass e l’utilizzo della mascherina FFP2.\n\n\n\n\n\n\nEvento organizzato da Coworking della Memoria\, Arci Bolzano\, Edgar Libri e Upad Merano. 
URL:https://arci.bz.it/evento/presentazione-del-libro-30-secondi-a-merano/
LOCATION:Centro per la Cultura\, Via Cavour\, 1\, Merano\, 39012
ATTACH;FMTTYPE=image/jpeg:https://arci.bz.it/wp-content/uploads/2022/02/30_SECONDI_ZANOTTI_MERANO.jpg
ORGANIZER;CN="Arci":MAILTO:info@arci.bz.it
END:VEVENT
END:VCALENDAR