BEGIN:VCALENDAR
VERSION:2.0
PRODID:-//Arci Bolzano - Bozen - ECPv6.6.3//NONSGML v1.0//EN
CALSCALE:GREGORIAN
METHOD:PUBLISH
X-ORIGINAL-URL:https://arci.bz.it
X-WR-CALDESC:Eventi per Arci Bolzano - Bozen
REFRESH-INTERVAL;VALUE=DURATION:PT1H
X-Robots-Tag:noindex
X-PUBLISHED-TTL:PT1H
BEGIN:VTIMEZONE
TZID:Europe/Rome
BEGIN:DAYLIGHT
TZOFFSETFROM:+0100
TZOFFSETTO:+0200
TZNAME:CEST
DTSTART:20220327T010000
END:DAYLIGHT
BEGIN:STANDARD
TZOFFSETFROM:+0200
TZOFFSETTO:+0100
TZNAME:CET
DTSTART:20221030T010000
END:STANDARD
END:VTIMEZONE
BEGIN:VEVENT
DTSTART;TZID=Europe/Rome:20220215T180000
DTEND;TZID=Europe/Rome:20220215T200000
DTSTAMP:20260422T143018
CREATED:20220210T152524Z
LAST-MODIFIED:20220210T152524Z
UID:4642-1644948000-1644955200@arci.bz.it
SUMMARY:#notonlyapples Merano nel '900
DESCRIPTION:Quinto ed ultimo incontro del ciclo #notonlyapples presso il Coworking della Memoria a Merano.\nQuando?\nIl 15 febbraio 2022 ore 18.00. \nCosa?\nIl ciclo di incontri #notonlyapples volge al termine! Questa ultima serata sarà a cura di di Pietro Fogale\, docente presso la Scuola Professionale Savoy di Merano. Fogale ha studiato tra Venezia\, Ambrugo\, Innsbruck e Gerusalemme ed è autore e traduttore di diversi articoli sulla storia locale. È stato inoltre mediatore culturale presso il Museo Archeologico dell’Alto Adige e del Museo storico-culturale di Castel Tirolo e ha fatto parte del gruppo di lavoro “Pietre d’inciampo a Merano”.\nIl Novecento\, definito da Hobsbawm il secolo breve\, definito così dallo storico Hobsbawm\, è un secolo di profondi cambiamenti che coinvolgono drammaticamente anche la città di Merano. In un quarto di secolo\, Merano subirà ben cinque significativi cambi di indirizzo politico\, ognuno dei quali porterà con sé una nuova idea di politica e di storia\, ognuno di loro lascerà un’impronta sulla città. Su questo periodo\, relativamente breve ma denso di avvenimenti\, concentreremo la nostra attenzione per cogliere la dinamica del mutamento storico.\n\nCos’è #notonlyapples?\n#notonlyapples è una rassegna di incontri sulla storia della città di Merano\, nata da una semplice chiacchierata tra vecchie e nuove generazioni. Proprio in queste ultime si è generato il desiderio di scoprire di più del territorio che abitiamo. Un territorio che non può essere rappresentato solo dai campi e dagli alberi di mele…un territorio ricco di storia e aneddoti particolari. \n\nCome sono arrivati i romani?\nCom’era la vita nel Medioevo?\nCos’è la piccola glaciazione?\nCome è nata la Merano turistica?\nCome si viveva all’inizio del Novecento?\n\nTutte domande che troveranno una risposta in questo ciclo di incontri\, serate che hanno anche l’obiettivo di dare spazio ai giovani meranesi: alcuni di loro infatti porteranno interventi in questo percorso.\n\n\n\n\nL’evento è libero ma i posti sono limitati ed è quindi necessario compilare il modulo per partecipare.\nVerrà richiesto il Super Green Pass!\n\n\n\n\n\n\nEvento organizzato da Arci Bolzano e Coworking delle Memoria\nSe non riuscirai ad esserci in presenza\, potrai vedere la diretta sulla nostra pagina FB.
URL:https://arci.bz.it/evento/notonlyapples-merano-nel-novecento/
LOCATION:Coworking della Memoria\, Via Ugo Foscolo\, 8\, Merano\, BZ\, 39012\, Italia
ATTACH;FMTTYPE=image/jpeg:https://arci.bz.it/wp-content/uploads/2022/02/273711406_382369780320570_6789086427716148576_n.jpg
ORGANIZER;CN="Arci":MAILTO:info@arci.bz.it
END:VEVENT
END:VCALENDAR