BEGIN:VCALENDAR
VERSION:2.0
PRODID:-//Arci Bolzano - Bozen - ECPv6.6.3//NONSGML v1.0//EN
CALSCALE:GREGORIAN
METHOD:PUBLISH
X-ORIGINAL-URL:https://arci.bz.it
X-WR-CALDESC:Eventi per Arci Bolzano - Bozen
REFRESH-INTERVAL;VALUE=DURATION:PT1H
X-Robots-Tag:noindex
X-PUBLISHED-TTL:PT1H
BEGIN:VTIMEZONE
TZID:Europe/Rome
BEGIN:DAYLIGHT
TZOFFSETFROM:+0100
TZOFFSETTO:+0200
TZNAME:CEST
DTSTART:20220327T010000
END:DAYLIGHT
BEGIN:STANDARD
TZOFFSETFROM:+0200
TZOFFSETTO:+0100
TZNAME:CET
DTSTART:20221030T010000
END:STANDARD
END:VTIMEZONE
BEGIN:VEVENT
DTSTART;TZID=Europe/Rome:20220201T180000
DTEND;TZID=Europe/Rome:20220201T200000
DTSTAMP:20260422T142913
CREATED:20220120T095907Z
LAST-MODIFIED:20220120T100028Z
UID:4428-1643738400-1643745600@arci.bz.it
SUMMARY:#notonlyapples Merano 400 anni fa
DESCRIPTION:Terzo incontro del ciclo #notonlyapples presso il Coworking della Memoria a Merano.\nQuando?\nIl 1° febbraio 2022 ore 18.00. \nCosa?\nQuesta terza serata sarà a cura dello storico locale nonché saggista\, Alessandro Baccin. Il dott. Baccin è inoltre il direttore dell’associazione Tangram\, attiva da anni a Merano\, che continua ad offrire stimoli per la crescita culturale della cittadinanza. Merano nel Seicento era abitata da poche migliaia di persone\, eppure ciò che vissero quelle generazioni di giovani ha dello straordinario: nacquero nel periodo più freddo della storia della città\, molti andarono a morire tra le file dei lanzichenecchi\, altri preferirono mangiare l’erba dei campi pur di sopravvivere. Alcune giovani donne vivevano nel terrore di essere accusate di stregoneria per aver curato dei malati con piante officinali\, altre invece trovavano protezione e agio al riparo di un convento. Poi però arrivò la peste che non fece nessuna distinzione tra ricchi e poveri e lasciò una regione con un terzo in meno degli abitanti… di questo e molto altro parleremo durante questo incontro. \nCos’è #notonlyapples?\n#notonlyapples è una rassegna di incontri sulla storia della città di Merano\, nata da una semplice chiacchierata tra vecchie e nuove generazioni. Proprio in queste ultime si è generato il desiderio di scoprire di più del territorio che abitiamo. Un territorio che non può essere rappresentato solo dai campi e dagli alberi di mele…un territorio ricco di storia e aneddoti particolari. \n\nCome sono arrivati i romani?\nCom’era la vita nel Medioevo?\nCos’è la piccola glaciazione?\nCome è nata la Merano turistica?\nCome si viveva all’inizio del Novecento?\n\nTutte domande che troveranno una risposta in questo ciclo di incontri\, serate che hanno anche l’obiettivo di dare spazio ai giovani meranesi: alcuni di loro infatti porteranno interventi in questo percorso.\n\n\n\n\nL’evento è libero ma i posti sono limitati ed è quindi necessario compilare il modulo per partecipare.\nVerrà richiesto il Super Green Pass!\n\n\n\n\n\n\nEvento organizzato da Arci Bolzano e Coworking delle Memoria\nSe non riuscirai ad esserci in presenza\, potrai vedere la diretta sulla nostra pagina FB.
URL:https://arci.bz.it/evento/notonlyapples-merano-400-anni-fa/
LOCATION:Coworking della Memoria\, Via Ugo Foscolo\, 8\, Merano\, BZ\, 39012\, Italia
ATTACH;FMTTYPE=image/png:https://arci.bz.it/wp-content/uploads/2022/01/LOCANDINA-EVENTO-600-1.02.2022-1-2-1.png
ORGANIZER;CN="Arci":MAILTO:info@arci.bz.it
END:VEVENT
END:VCALENDAR