BEGIN:VCALENDAR
VERSION:2.0
PRODID:-//Arci Bolzano - Bozen - ECPv6.6.3//NONSGML v1.0//EN
CALSCALE:GREGORIAN
METHOD:PUBLISH
X-WR-CALNAME:Arci Bolzano - Bozen
X-ORIGINAL-URL:https://arci.bz.it
X-WR-CALDESC:Eventi per Arci Bolzano - Bozen
REFRESH-INTERVAL;VALUE=DURATION:PT1H
X-Robots-Tag:noindex
X-PUBLISHED-TTL:PT1H
BEGIN:VTIMEZONE
TZID:Europe/Rome
BEGIN:DAYLIGHT
TZOFFSETFROM:+0100
TZOFFSETTO:+0200
TZNAME:CEST
DTSTART:20220327T010000
END:DAYLIGHT
BEGIN:STANDARD
TZOFFSETFROM:+0200
TZOFFSETTO:+0100
TZNAME:CET
DTSTART:20221030T010000
END:STANDARD
END:VTIMEZONE
BEGIN:VEVENT
DTSTART;TZID=Europe/Rome:20220127T180000
DTEND;TZID=Europe/Rome:20220127T193000
DTSTAMP:20260422T235541
CREATED:20220124T113939Z
LAST-MODIFIED:20220124T140605Z
UID:4454-1643306400-1643311800@arci.bz.it
SUMMARY:La Resistenza all'odio ieri\, oggi\, domani
DESCRIPTION:Nell’ambito di Bolzano “Città della memoria 2022”\nDialogo “La Resistenza all’odio ieri\, oggi\, domani” tra Giorgio Mezzalira e Federico Faloppa: Testimonianze delle vittime di odio e letture a cura di Controtempo Teatro.\n\nQuando?\nGiovedì 27 gennaio alle 18.00 presso il Teatro Comunale Bolzano. \nCon chi?\nFederico Faloppa: Linguista italiano (n. Cuneo 1972). Conseguito un dottorato di ricerca a Royal Holloway\, università di Londra\, ha insegnato nelle università di Birmingham\, Granada\, Londra e Torino\, è professore di Storia della lingua italiana e di Sociolinguistica all’università di Reading. Ha lavorato come editor e ha svolto attività di consulenza su argomenti linguistici e interculturali presso enti pubblici e organizzazioni non governative. Le sue ricerche si sono rivolte soprattutto allo studio degli stereotipi etnici e della costruzione linguistica della diversità. Ha pubblicato\, tra gli altri: Lessico e alterità. La formulazione del diverso (2000)\, Parole contro. La rappresentazione del diverso nella lingua italiana e nei dialetti (2004)\, Razzisti a parole (per tacer dei fatti) (2011)\, Brevi lezioni sul linguaggio (2019) e #Odio. Manuale di resistenza alla violenza delle parole (2020). \nGiorgio Mezzalira\, nato a Padova (1954)\, risiede a Bolzano. Ha studiato Storia contemporanea all’Università di Bologna (A.A. 1981-1982\, laureato con lode)\, è socio fondatore del gruppo “Storia e regione/Geschichte und Region”\, membro del comitato scientifico della rivista “Qualestoria”\, socio Sissco. Fa parte del Comitato di indirizzo della Fondazione Museo Storico del Trentino e del CdA della “Fondazione Alexander Langer Stiftung”. Editorialista del “Corriere dell’Alto Adige” e del “Corriere del Trentino” \n\nIniziativa promossa da ANPI Alto Adige-Südtirol\, Arci Bolzano\, Centro Pace Comune di Bolzano\, Fondazione Alexander Langer\, Centaurus ARCIGAY\, Nevo Drom in collaborazione con Comune di Bolzano\, Teatro Stabile di Bolzano e Libreria Ubik.\n\n\n\nL’evento è libero ma verrà richiesto il Super Green Pass e FFP2.\nQui l’evento facebook.
URL:https://arci.bz.it/evento/citta-della-memoria-2022-la-resistenza-allodio-ieri-oggi-domani/
LOCATION:Teatro Comunale di Bolzano\, Piazza Giuseppe Verdi\, 40\,\, Bolzano\, 39100
ATTACH;FMTTYPE=image/jpeg:https://arci.bz.it/wp-content/uploads/2022/01/cover-faloppa.jpg
ORGANIZER;CN="Arci":MAILTO:info@arci.bz.it
END:VEVENT
END:VCALENDAR