BEGIN:VCALENDAR
VERSION:2.0
PRODID:-//Arci Bolzano - Bozen - ECPv6.6.3//NONSGML v1.0//EN
CALSCALE:GREGORIAN
METHOD:PUBLISH
X-WR-CALNAME:Arci Bolzano - Bozen
X-ORIGINAL-URL:https://arci.bz.it
X-WR-CALDESC:Eventi per Arci Bolzano - Bozen
REFRESH-INTERVAL;VALUE=DURATION:PT1H
X-Robots-Tag:noindex
X-PUBLISHED-TTL:PT1H
BEGIN:VTIMEZONE
TZID:Europe/Rome
BEGIN:DAYLIGHT
TZOFFSETFROM:+0100
TZOFFSETTO:+0200
TZNAME:CEST
DTSTART:20220327T010000
END:DAYLIGHT
BEGIN:STANDARD
TZOFFSETFROM:+0200
TZOFFSETTO:+0100
TZNAME:CET
DTSTART:20221030T010000
END:STANDARD
END:VTIMEZONE
BEGIN:VEVENT
DTSTART;TZID=Europe/Rome:20220118T183000
DTEND;TZID=Europe/Rome:20220118T200000
DTSTAMP:20260422T235543
CREATED:20220114T153010Z
LAST-MODIFIED:20220117T091210Z
UID:4375-1642530600-1642536000@arci.bz.it
SUMMARY:#notonlyapples Merano e la contea principesca dei Tirolo
DESCRIPTION:Secondo incontro del ciclo #notonlyapples presso il Coworking della Memoria a Merano.\nQuando?\nIl 18 gennaio 2022 ore 18.30. \nCosa?\nIncontreremo Massimo Leonardo Prandini\, classe 1964\, fondatore dell’Ensemble Hortus Musice\, scrittore\, divulgatore della storia locale\, nonché docente presso il Liceo Rainerum di Bolzano accompagnerà in un viaggio fatto di storia e arte\, alla scoperta della conca di Merano nell’epoca della contea principesca dei Tirolo.\nCos’è #notonlyapples?\n#notonlyapples è una rassegna di incontri sulla storia della città di Merano\, nata da una semplice chiacchierata tra vecchie e nuove generazioni. Proprio in queste ultime si è generato il desiderio di scoprire di più del territorio che abitiamo. Un territorio che non può essere rappresentato solo dai campi e dagli alberi di mele…un territorio ricco di storia e aneddoti particolari. \n\nCome sono arrivati i romani?\nCom’era la vita nel Medioevo?\nCos’è la piccola glaciazione?\nCome è nata la Merano turistica?\nCome si viveva all’inizio del Novecento?\n\nTutte domande che troveranno una risposta in questo ciclo di incontri\, serate che hanno anche l’obiettivo di dare spazio ai giovani meranesi: alcuni di loro infatti porteranno interventi in questo percorso.\n\n\n\n\nL’evento è libero ma i posti sono limitati ed è quindi necessario compilare il modulo per partecipare.\nVerrà richiesto il Super Green Pass!\n\n\n\n\n\n\nEvento organizzato da Arci Bolzano e Coworking delle Memoria\nSe non riuscirai ad esserci in presenza\, potrai vedere la diretta sulla nostra pagina FB.
URL:https://arci.bz.it/evento/notonlyapples-merano-e-la-contea-principesca-dei-tirolo/
LOCATION:Coworking della Memoria\, Via Ugo Foscolo\, 8\, Merano\, BZ\, 39012\, Italia
ATTACH;FMTTYPE=image/png:https://arci.bz.it/wp-content/uploads/2022/01/LOCANDINA-EVENTO-MEDIEVALE-18.01.2022-A-2.png
ORGANIZER;CN="Arci":MAILTO:info@arci.bz.it
END:VEVENT
END:VCALENDAR