BEGIN:VCALENDAR
VERSION:2.0
PRODID:-//Arci Bolzano - Bozen - ECPv6.6.3//NONSGML v1.0//EN
CALSCALE:GREGORIAN
METHOD:PUBLISH
X-WR-CALNAME:Arci Bolzano - Bozen
X-ORIGINAL-URL:https://arci.bz.it
X-WR-CALDESC:Eventi per Arci Bolzano - Bozen
REFRESH-INTERVAL;VALUE=DURATION:PT1H
X-Robots-Tag:noindex
X-PUBLISHED-TTL:PT1H
BEGIN:VTIMEZONE
TZID:Europe/Rome
BEGIN:DAYLIGHT
TZOFFSETFROM:+0100
TZOFFSETTO:+0200
TZNAME:CEST
DTSTART:20220327T010000
END:DAYLIGHT
BEGIN:STANDARD
TZOFFSETFROM:+0200
TZOFFSETTO:+0100
TZNAME:CET
DTSTART:20221030T010000
END:STANDARD
END:VTIMEZONE
BEGIN:VEVENT
DTSTART;TZID=Europe/Rome:20220111T180000
DTEND;TZID=Europe/Rome:20220111T200000
DTSTAMP:20260422T235539
CREATED:20220105T143832Z
LAST-MODIFIED:20220105T161014Z
UID:4297-1641924000-1641931200@arci.bz.it
SUMMARY:#notonlyapples Merano romana
DESCRIPTION:Primo incontro del ciclo #notonlyapples presso il Coworking della Memoria a Merano.\nQuando?\nL’11 gennaio 2022 ore 18.00. \nCosa?\nIncontreremo Massimo Minniti\, giovane laureato in Beni Culturali nonché docente presso il Liceo Scientifico Evangelista Torricelli di Bolzano che ci presenterà i suoi studi delle testimonianze archeologiche d’età romana nel Meranese\, conca che nel corso dei secoli ha visto mutare i suoi confini sia geologici che storici.\nMassimo si focalizzerà sui principali insediamenti del Meranese dell’età del Ferro e dell’età romana\, arrivando ad una conclusione che ha l’intenzione di specificare l’importanza della stazione doganale e ad una sua possibile localizzazione.\n\nCos’è #notonlyapples?\n#notonlyapples è una rassegna di incontri sulla storia della città di Merano\, nata da una semplice chiacchierata tra vecchie e nuove generazioni. Proprio in queste ultime si è generato il desiderio di scoprire di più del territorio che abitiamo. Un territorio che non può essere rappresentato solo dai campi e dagli alberi di mele…un territorio ricco di storia e aneddoti particolari. \n\nCome sono arrivati i romani?\nCom’era la vita nel Medioevo?\nCos’è la piccola glaciazione?\nCome è nata la Merano turistica?\nCome si viveva all’inizio del Novecento?\n\nTutte domande che troveranno una risposta in questo ciclo di incontri\, serate che hanno anche l’obiettivo di dare spazio ai giovani meranesi: alcuni di loro infatti porteranno interventi in questo percorso.\n\n\n\n\nL’evento è libero ma i posti sono limitati ed è quindi necessario compilare il modulo per partecipare.\nVerrà richiesto il Super Green Pass!\n\n\n\n\n\n\nEvento organizzato da Arci Bolzano e Coworking delle Memoria\nSe non riuscirai ad esserci in presenza\, potrai vedere la diretta sulla nostra pagina FB.\n\n\n\n\n\nNell’immagine\, il ponte “Romano” della Gilf non è romano come sembra e scopriremo il perché\n 
URL:https://arci.bz.it/evento/insediamenti-romani-a-merano/
LOCATION:Coworking della Memoria\, Via Ugo Foscolo\, 8\, Merano\, BZ\, 39012\, Italia
ATTACH;FMTTYPE=image/png:https://arci.bz.it/wp-content/uploads/2022/01/Schermata-2022-01-05-alle-16.03.59.png
ORGANIZER;CN="Arci":MAILTO:info@arci.bz.it
END:VEVENT
END:VCALENDAR