BEGIN:VCALENDAR
VERSION:2.0
PRODID:-//Arci Bolzano - Bozen - ECPv6.6.3//NONSGML v1.0//EN
CALSCALE:GREGORIAN
METHOD:PUBLISH
X-ORIGINAL-URL:https://arci.bz.it
X-WR-CALDESC:Eventi per Arci Bolzano - Bozen
REFRESH-INTERVAL;VALUE=DURATION:PT1H
X-Robots-Tag:noindex
X-PUBLISHED-TTL:PT1H
BEGIN:VTIMEZONE
TZID:Europe/Rome
BEGIN:DAYLIGHT
TZOFFSETFROM:+0100
TZOFFSETTO:+0200
TZNAME:CEST
DTSTART:20220327T010000
END:DAYLIGHT
BEGIN:STANDARD
TZOFFSETFROM:+0200
TZOFFSETTO:+0100
TZNAME:CET
DTSTART:20221030T010000
END:STANDARD
END:VTIMEZONE
BEGIN:VEVENT
DTSTART;TZID=Europe/Rome:20220107T183000
DTEND;TZID=Europe/Rome:20220107T220000
DTSTAMP:20260423T043552
CREATED:20211220T160630Z
LAST-MODIFIED:20211220T160630Z
UID:4203-1641580200-1641592800@arci.bz.it
SUMMARY:Night of concert: Cantina Groove
DESCRIPTION:Night of concert: Cantina Groove\, organizzato da Diverkstatt! \nJazz Blues Funk \n\nQuando?\nVenerdì 7 gennaio 2022 dalle 18.30 presso EST. – stazioneculturale\, a Brunico.\n\n\n\n\n  Per info: vai sul sito di Diverkstatt.
URL:https://arci.bz.it/evento/night-of-concert-cantina-groove/
LOCATION:Diverkstatt\, Via Dobbiaco\, 6/a\, Brunico\, 39031
ATTACH;FMTTYPE=image/png:https://arci.bz.it/wp-content/uploads/2021/12/diverkstatt.png
END:VEVENT
END:VCALENDAR