BEGIN:VCALENDAR
VERSION:2.0
PRODID:-//Arci Bolzano - Bozen - ECPv6.6.3//NONSGML v1.0//EN
CALSCALE:GREGORIAN
METHOD:PUBLISH
X-WR-CALNAME:Arci Bolzano - Bozen
X-ORIGINAL-URL:https://arci.bz.it
X-WR-CALDESC:Eventi per Arci Bolzano - Bozen
REFRESH-INTERVAL;VALUE=DURATION:PT1H
X-Robots-Tag:noindex
X-PUBLISHED-TTL:PT1H
BEGIN:VTIMEZONE
TZID:Europe/Rome
BEGIN:DAYLIGHT
TZOFFSETFROM:+0100
TZOFFSETTO:+0200
TZNAME:CEST
DTSTART:20210328T010000
END:DAYLIGHT
BEGIN:STANDARD
TZOFFSETFROM:+0200
TZOFFSETTO:+0100
TZNAME:CET
DTSTART:20211031T010000
END:STANDARD
END:VTIMEZONE
BEGIN:VEVENT
DTSTART;TZID=Europe/Rome:20211227T200000
DTEND;TZID=Europe/Rome:20211227T220000
DTSTAMP:20260423T011151
CREATED:20211220T140711Z
LAST-MODIFIED:20211220T140711Z
UID:4198-1640635200-1640642400@arci.bz.it
SUMMARY:Winter Wonderland Party
DESCRIPTION:Winter Wonderland Party: Rude sounds all-nighter\, organizzato da Diverkstatt! \nSoul Reggae punk glam roots ska \n\nQuando?\nLunedì 27 dicembre dalle 20.00 presso EST. – stazioneculturale\, a Brunico.\n\n\n\n\n  Per info: vai sul sito di Diverkstatt.
URL:https://arci.bz.it/evento/winter-wonderland-party/
LOCATION:Diverkstatt\, Via Dobbiaco\, 6/a\, Brunico\, 39031
ATTACH;FMTTYPE=image/png:https://arci.bz.it/wp-content/uploads/2021/12/diverkstatt.png
END:VEVENT
END:VCALENDAR