BEGIN:VCALENDAR
VERSION:2.0
PRODID:-//Arci Bolzano - Bozen - ECPv6.6.3//NONSGML v1.0//EN
CALSCALE:GREGORIAN
METHOD:PUBLISH
X-WR-CALNAME:Arci Bolzano - Bozen
X-ORIGINAL-URL:https://arci.bz.it
X-WR-CALDESC:Eventi per Arci Bolzano - Bozen
REFRESH-INTERVAL;VALUE=DURATION:PT1H
X-Robots-Tag:noindex
X-PUBLISHED-TTL:PT1H
BEGIN:VTIMEZONE
TZID:Europe/Rome
BEGIN:DAYLIGHT
TZOFFSETFROM:+0100
TZOFFSETTO:+0200
TZNAME:CEST
DTSTART:20210328T010000
END:DAYLIGHT
BEGIN:STANDARD
TZOFFSETFROM:+0200
TZOFFSETTO:+0100
TZNAME:CET
DTSTART:20211031T010000
END:STANDARD
END:VTIMEZONE
BEGIN:VEVENT
DTSTART;TZID=Europe/Rome:20211206T163000
DTEND;TZID=Europe/Rome:20211206T180000
DTSTAMP:20260423T011212
CREATED:20211026T144420Z
LAST-MODIFIED:20211117T141915Z
UID:3751-1638808200-1638813600@arci.bz.it
SUMMARY:S. Nikolaus - Biblio all'Aria
DESCRIPTION:S. Nikolaus 2021\nStorytelling e arrivo di s. Nikolaus\nAll’interno della collaborazione nata fra TesLab\, Sagapò Teatro e Biblioteca Piani di Bolzano proponiamo la Festa di San Nikolaus. \nQuando? 06.12.2021 (16.30-18.00) \nDove? TesLab – Arciragazzi Bolzano Bozen APS (Via Dolomiti 14\, ultimo piano) \nCosa? Storytelling con la vera storia di S. Nikolaus e consegna dei Tradizionali Sacchettini Rossi \nDopo un anno e mezzo di stop causa Covid-19\, finalmente\, il TesLab può riaprire le porte alle famiglie dei/lle ragazzi/e che lo frequentano. E quale occasione migliore che la festa di S. Nikolaus? \nVi aspettiamo per scoprire la vera storia che si narra tra le nostre montagne e passare del tempo assieme! \nSeguici sui nostri Social:
URL:https://arci.bz.it/evento/s-nikolaus-biblio-allaria/
LOCATION:TesLab\, Via Dolomiti - Dolomitenstraße\, 14\, Bolzano\, Bolzano\, 39100
ATTACH;FMTTYPE=image/png:https://arci.bz.it/wp-content/uploads/2021/10/S.-Nikolaus.png
GEO:46.496861;11.370693
X-APPLE-STRUCTURED-LOCATION;VALUE=URI;X-ADDRESS=TesLab Via Dolomiti - Dolomitenstraße 14 Bolzano Bolzano 39100;X-APPLE-RADIUS=500;X-TITLE=Via Dolomiti - Dolomitenstraße\, 14:geo:11.370693,46.496861
END:VEVENT
END:VCALENDAR